{"text_format":"1","workbook":"xlsx","n_sheets":3,"sheets":["Gastos","Ingreso de Datos","Proyeccion Cuotas"],"not_rendered":{"charts":0,"images":3,"macros":1,"external_links":0,"defined_names":0,"comments":0,"pivot_tables":0},"unopened":[],"bounds":{"document_bytes":16777216,"sheet_cells":100000,"rows_first":2000,"rows_last":500,"rows_between":2000,"halvings":0,"cell_chars":16384,"cell_head_chars":4096},"cells_cut":0,"cells_raw":0,"read":"whole","date_system":"1900"}

{"sheet":"Gastos","index":0,"n_rows":23,"n_cols":9,"rows_kept":23,"cut":false,"hidden":false,"merged":[[11,2,11,3],[11,4,11,5],[11,6,11,7],[21,2,21,6],[22,2,22,6],[20,7,20,8],[21,7,21,8],[22,7,22,8],[20,2,20,6],[19,7,19,8],[19,2,19,6],[18,2,18,6],[16,2,16,8],[17,2,17,6],[17,7,17,8],[18,7,18,8],[9,2,9,3],[9,4,9,5],[9,6,9,7],[10,2,10,3],[10,4,10,5],[10,6,10,7],[4,2,4,8],[5,2,5,3],[5,4,5,5],[5,6,5,7],[12,2,12,3],[12,4,12,5],[12,6,12,7],[6,2,6,3],[6,4,6,5],[6,6,6,7],[7,2,7,3],[7,4,7,5],[7,6,7,7],[8,2,8,3],[8,4,8,5],[8,6,8,7],[13,2,13,3],[13,4,13,5],[13,6,13,7],[14,2,14,3],[14,4,14,5],[14,6,14,7]]}
[]
[]
[{"$f":"+H18","v":100000}]
[{"$f":"+SUM(A6:A15)","v":6}]
[null,null,"Rangos de Gastos de Legalizacion"]
[{"$f":"+I6","v":0},null,1000,null,5000,null,250,null,{"$f":"IF($A$3>=C6,IF($A$3<=E6,1,0),0)","v":0}]
[0,null,5001,null,15000,null,250,null,{"$f":"IF($A$3>=C7,IF($A$3<=E7,2,0),0)","v":0}]
[0,null,15001,null,30000,null,250,null,{"$f":"IF($A$3>=C8,IF($A$3<=E8,3,0),0)","v":0}]
[0,null,30001,null,50000,null,350,null,{"$f":"IF($A$3>=C9,IF($A$3<=E9,4,0),0)","v":0}]
[0,null,50001,null,80000,null,500,null,{"$f":"IF(AND($A$3>C10,$A$3<=E10),5,0)","v":0}]
[6,null,80001,null,120000,null,750,null,{"$f":"IF(AND($A$3>C11,$A$3<=E11),6,0)","v":6}]
[0,null,120001,null,180000,null,1000,null,{"$f":"IF(AND($A$3>C12,$A$3<=E12),7,0)","v":0}]
[0,null,180001,null,250000,null,1500,null,{"$f":"IF(AND($A$3>C13,$A$3<=E13),7,0)","v":0}]
[0,null,250001,null,400000,null,2150,null,{"$f":"IF(AND($A$3>C14,$A$3<=E14),7,0)","v":0}]
[0,null,400001,null,600000,null,2650,null,{"$f":"IF(AND($A$3>C15,$A$3<=E15),7,0)","v":0}]
[]
[null,null,"Gastos Prestamo"]
[null,null,"Monto Solicitado",null,null,null,null,{"$f":"+'Ingreso de Datos'!D5","v":100000}]
[null,null,"Comision por Desembolso",null,null,null,null,{"$f":"+IF($A$3=0,0,100)","v":100}]
[null,null,"Gastos de Legalizacion",null,null,null,null,{"$f":"IF(A3=0,0,VLOOKUP($A$4,$A$6:$H$15,7,FALSE))","v":750}]
[null,null,"Intereses Anticipados",null,null,null,null,{"$f":"+'Proyeccion Cuotas'!J16","v":544.65753424657532}]
[null,null,"Seguro por Desempleo (Cubre el Ier.  año)",null,null,null,null,{"$f":"IF($A$3<=50000,IF('Proyeccion Cuotas'!$F$3>=24,($A$3*1.25%),0),0)","v":0}]
[null,null,"Total de Gastos",null,null,null,null,{"$f":"SUM(H19:H22)","v":1394.6575342465753}]

{"sheet":"Ingreso de Datos","index":1,"n_rows":69,"n_cols":13,"rows_kept":69,"cut":false,"hidden":false,"merged":[[31,2,31,7],[16,5,16,6],[4,5,4,6],[59,5,59,7],[54,2,54,3],[45,2,45,3],[47,2,47,3],[49,2,49,3],[51,2,51,3],[6,5,6,6],[10,5,10,6],[12,5,12,6],[20,5,20,6],[26,3,27,3],[26,5,27,5]]}
[null,null,null,null,null,null,null,null,null,null,null,{"$f":"+IF(OR(D5=\"\",D7=\"\",D13=\"\",D17=\"\",D19=\"\",D21=\"\"),1,2)","v":2}]
[null,null,null,null,null,null,null,null,null,null,null,"Fingreso",{"$f":"+D17","v":"2020-12-17"}]
[null,null,"Completa la información que te indican las flechas",null,null,null,"FechaDesem",null,null,null,null,"Fhoy",{"$f":"+TODAY()","v":"2025-01-03"}]
[null,null,null,null,null,null,null,null,null,null,null,null,{"$f":"+M3-M2","v":1478}]
[null,null,"Monto a solicitar",100000,null,{"$f":"+IF(D5=\"\",\"* Campo Obligatorio\",\"\")","v":""},null,null,null,null,null,"Estabilidad",{"$f":"+M4/365","v":4.0493150684931507}]
[]
[null,null,"Plazo (en meses)",36,null,{"$f":"+IF(D7=\"\",\"* Campo Obligatorio\",\"\")","v":""},null,null,null,null,null,null,{"$f":"+M5/12","v":0.33744292237442924}]
[]
[null,null,"Plazo en años",{"$f":"+IF(D7=\"\",\"\",D7/12)","v":3}]
[]
[null,null,"Tasa de interes",7.0999999999999994E-2]
[]
[null,null,"Aporte extraordinario",10000,null,{"$f":"+IF(D13=\"\",\"* Campo Obligatorio\",\"\")","v":""}]
[]
[null,null,"Total de aportes",{"$f":"+D13*2","v":20000}]
[]
[null,null,"Fecha de Ingreso a la corporación","2020-12-17",null,{"$f":"+IF(D17=\"\",\"* Campo Obligatorio\",\"\")","v":""}]
[]
[null,null,"Estabilidad laboral",{"$f":"IF(D17=\"\",\"\",M5)","v":4.0493150684931507}]
[]
[null,null,"Salario Actual",10000,null,{"$f":"+IF(D21=\"\",\"* Campo Obligatorio\",\"\")","v":""}]
[]
[null,null,"Endeudamiento %",{"$f":"+IFERROR(($F$46/$D$21),\"Completar Datos\")","v":0.16557686453576861},null,{"$f":"+IF(D23=\"Completar Datos\",\"\",IF(D23<=0.35,\"Rango Aceptable\",\"Endeudamiento Alto\"))","v":"Rango Aceptable"}]
[]
[null,null,"Recuerda que tu endeudamiento no debe superar el 30%"]
[]
[null,null,null,{"$f":"+IFERROR(ROUNDUP((F46*2.85714285714286),0),\"Completar Datos\")","v":4731},null,"Salario minimo para optar al monto de su interes"]
[]
[]
[]
[]
[null,null,"Completa la información que te indican las flechas"]
[]
[null,null,"Si el destino de tu préstamo será consolidar deudas ingresa el monto de cada deuda aquí"]
[]
[]
[]
[]
[]
[]
[]
[null,null,"Total deudas",{"$f":"+SUM(C36:C40,F36:F40)","v":0}]
[]
[null,null,"Al realizar el pago de las deudas ajenas a BI, debes presentar boleta de pago y finiquito"]
[]
[null,null,"Valor cuota mensual",null,null,{"$f":"+IFERROR(IF(OR(B61=12,B61=7),F63,'Proyeccion Cuotas'!L17),\"Error, Revisar Datos\")","v":1655.7686453576862}]
[]
[null,null,"Suma total de intereses a pagar",null,null,{"$f":"+'Proyeccion Cuotas'!L2","v":12177.634703196354}]
[]
[null,null,"Suma total de capital + interes",null,null,{"$f":"+'Proyeccion Cuotas'!L4","v":112177.63470319635}]
[]
[null,null,"Total deducciones (gastos)",null,null,{"$f":"+Gastos!H23","v":1394.6575342465753}]
[]
[]
[null,null,"LIQUIDO A RECIBIR",null,null,{"$f":"+D5-F52-D42","v":98605.34246575342}]
[]
[]
[]
[null,"Parametros:"]
[null,{"$f":"+'Proyeccion Cuotas'!H17","v":"28/2/2025"},null,null,null,"CALCULO PRIMER CUOTA"]
[null,{"$f":"+MONTH(B60)","v":2},{"$f":"+IF(OR(B61=12,B61=7),F63,'Proyeccion Cuotas'!L17)","v":1655.7686453576862},null,"C",{"$f":"+IFERROR((C62-C69)/C63,\"Revisar Datos\")","v":1111.1111111111111}]
[null,"Capital",{"$f":"+D5","v":100000},null,"I",{"$f":"+IFERROR(C62*C64*31/365,\"Revisar Datos\")","v":603.0136986301369}]
[null,"Plazo",{"$f":"+D7","v":36},null,"T",{"$f":"+IFERROR(F61+F62,\"\")","v":1714.1248097412481}]
[null,"Interés",{"$f":"+D11","v":7.0999999999999994E-2}]
[]
[null,null,{"$f":"+C63/12","v":3}]
[null,"Extra",{"$f":"+D13","v":10000}]
[null,"x Año",{"$f":"+C67*2","v":20000}]
[null,"Tt",{"$f":"+C68*C66","v":60000}]

{"sheet":"Proyeccion Cuotas","index":2,"n_rows":316,"n_cols":13,"rows_kept":316,"cut":false,"hidden":false,"merged":[[11,3,11,12],[12,3,13,12],[4,0,4,4],[6,5,6,6],[1,11,1,12],[1,8,1,10],[6,0,6,4],[3,8,3,10],[3,11,3,12],[0,0,0,4],[2,0,2,4],[0,5,0,6],[2,5,2,6],[4,5,4,6]]}
["Monto Solicitado:",null,null,null,null,{"$f":"+'Ingreso de Datos'!D5","v":100000}]
[null,null,null,null,null,null,null,null,"Interés Aprox. Por Pagar:",null,null,{"$f":"+SUM('Proyeccion Cuotas'!$J$16:$J$316)","v":12177.634703196354}]
["Plazo Solicitado:",null,null,null,null,{"$f":"+'Ingreso de Datos'!D7","v":36}]
[null,null,null,null,null,null,null,null,"Total Estimado a Pagar:",null,null,{"$f":"+F1+L2","v":112177.63470319635}]
["Tasa de Interés:",null,null,null,null,{"$f":"+'Ingreso de Datos'!D11","v":7.0999999999999994E-2}]
[]
["Fecha Desembolso:",null,null,null,null,{"$f":"+'Ingreso de Datos'!H3","v":"00:00:00"}]
[]
[]
[]
[]
[null,null,null,"CUOTA SOBRE SALDOS"]
[null,null,null,"NOTA: Montos pueden variar por abonos extraordinarios a capital, así mismo  tasa de interes puede variar según condiciones de mercado. "]
[]
[null,null,null,"No. Cuota","año","mes","dia","Fecha Pago","Capital ","Intereses","Dias Interes","Cuota Mensual","Saldo al Dia"]
[1,31,null,0,{"$f":"IF('Proyeccion Cuotas'!$H16=\"\",\"\",IF('Proyeccion Cuotas'!$F16=12,(YEAR('Proyeccion Cuotas'!$H16)),YEAR('Proyeccion Cuotas'!$H16)))","v":2025},{"$f":"IF('Proyeccion Cuotas'!$H16=\"\",\"\",MONTH('Proyeccion Cuotas'!$H16))","v":1},{"$f":"+IF('Proyeccion Cuotas'!$D16=\"\",\"\",VLOOKUP('Proyeccion Cuotas'!$F16,$A$16:$B$27,2,FALSE))","v":31},{"$f":"+$B$39","v":"31/1/2025"},0,{"$f":"+(($F$1*$F$5)/365)*'Proyeccion Cuotas'!$K16","v":544.65753424657532},{"$f":"'Proyeccion Cuotas'!$H16-B29","v":28},{"$f":"+SUM(I16,J16)","v":544.65753424657532},{"$f":"+F1","v":100000}]
[2,28,null,1,{"$f":"IF('Proyeccion Cuotas'!$D17=\"\",\"\",IF(F16=12,E16+1,E16))","v":2025},{"$f":"IF('Proyeccion Cuotas'!$D17=\"\",\"\",IF(G16<=3,F16,IF(F16=12,1,F16+1)))","v":2},{"$f":"+IF('Proyeccion Cuotas'!$D17=\"\",\"\",VLOOKUP('Proyeccion Cuotas'!$F17,$A$16:$B$27,2,FALSE))","v":28},{"$f":"IF('Proyeccion Cuotas'!$D17=\"\",\"\",$B$34)","v":"28/2/2025"},{"$f":"IFERROR(IF('Proyeccion Cuotas'!$D17=\"\",\"\",IF(OR('Proyeccion Cuotas'!$F17=7,'Proyeccion Cuotas'!$F17=12),($B$45+(($F$1-$B$47)/$F$3)),(($F$1-$B$47)/$F$3))),0)","v":1111.1111111111111},{"$f":"IFERROR(IF('Proyeccion Cuotas'!$D17=\"\",\"\",($F$1*$F$5*'Proyeccion Cuotas'!$K17/365)),\"\")","v":544.65753424657521},{"$f":"+IF('Proyeccion Cuotas'!$D17=\"\",\"\",'Proyeccion Cuotas'!$H17-H16)","v":28},{"$f":"IFERROR('Proyeccion Cuotas'!$I17+'Proyeccion Cuotas'!$J17,\"\")","v":1655.7686453576862},{"$f":"+IFERROR((M16-'Proyeccion Cuotas'!$I17),\"\")","v":98888.888888888891}]
[3,31,null,{"$f":"IFERROR(IF(M17<0.001,\"\",(D17+1)),\"\")","v":2},{"$f":"IF('Proyeccion Cuotas'!$D18=\"\",\"\",IF(F17=12,E17+1,E17))","v":2025},{"$f":"IF('Proyeccion Cuotas'!$D18=\"\",\"\",IF(F17=12,1,F17+1))","v":3},{"$f":"+IF('Proyeccion Cuotas'!$D18=\"\",\"\",VLOOKUP('Proyeccion Cuotas'!$F18,$A$16:$B$27,2,FALSE))","v":31},{"$f":"IF('Proyeccion Cuotas'!$D18=\"\",\"\",CONCATENATE('Proyeccion Cuotas'!$G18,\"/\",'Proyeccion Cuotas'!$F18,\"/\",'Proyeccion Cuotas'!$E18))","v":"31/3/2025"},{"$f":"IFERROR(IF('Proyeccion Cuotas'!$D18=\"\",\"\",IF(OR('Proyeccion Cuotas'!$F18=7,'Proyeccion Cuotas'!$F18=12),($B$45+(($F$1-$B$47)/$F$3)),(($F$1-$B$47)/$F$3))),0)","v":1111.1111111111111},{"$f":"IFERROR(IF('Proyeccion Cuotas'!$D18=\"\",\"\",(M17*$F$5*'Proyeccion Cuotas'!$K18/365)),\"\")","v":596.31354642313534},{"$f":"+IF('Proyeccion Cuotas'!$D18=\"\",\"\",'Proyeccion Cuotas'!$H18-H17)","v":31},{"$f":"IFERROR('Proyeccion Cuotas'!$I18+'Proyeccion Cuotas'!$J18,\"\")","v":1707.4246575342463},{"$f":"+IFERROR((M17-'Proyeccion Cuotas'!$I18),\"\")","v":97777.777777777781}]
[4,30,null,3,{"$f":"IF('Proyeccion Cuotas'!$D19=\"\",\"\",IF(F18=12,E18+1,E18))","v":2025},{"$f":"IF('Proyeccion Cuotas'!$D19=\"\",\"\",IF(F18=12,1,F18+1))","v":4},{"$f":"+IF('Proyeccion Cuotas'!$D19=\"\",\"\",VLOOKUP('Proyeccion Cuotas'!$F19,$A$16:$B$27,2,FALSE))","v":30},{"$f":"IF('Proyeccion Cuotas'!$D19=\"\",\"\",CONCATENATE('Proyeccion Cuotas'!$G19,\"/\",'Proyeccion Cuotas'!$F19,\"/\",'Proyeccion Cuotas'!$E19))","v":"30/4/2025"},{"$f":"IFERROR(IF('Proyeccion Cuotas'!$D19=\"\",\"\",IF(OR('Proyeccion Cuotas'!$F19=7,'Proyeccion Cuotas'!$F19=12),($B$45+(($F$1-$B$47)/$F$3)),(($F$1-$B$47)/$F$3))),0)","v":1111.1111111111111},{"$f":"IFERROR(IF('Proyeccion Cuotas'!$D19=\"\",\"\",(M18*$F$5*'Proyeccion Cuotas'!$K19/365)),\"\")","v":570.59360730593608},{"$f":"+IF('Proyeccion Cuotas'!$D19=\"\",\"\",'Proyeccion Cuotas'!$H19-H18)","v":30},{"$f":"IFERROR('Proyeccion Cuotas'!$I19+'Proyeccion Cuotas'!$J19,\"\")","v":1681.7047184170472},{"$f":"+IFERROR((M18-'Proyeccion Cuotas'!$I19),\"\")","v":96666.666666666672}]
[5,31,null,4,{"$f":"IF('Proyeccion Cuotas'!$D20=\"\",\"\",IF(F19=12,E19+1,E19))","v":2025},{"$f":"IF('Proyeccion Cuotas'!$D20=\"\",\"\",IF(F19=12,1,F19+1))","v":5},{"$f":"+IF('Proyeccion Cuotas'!$D20=\"\",\"\",VLOOKUP('Proyeccion Cuotas'!$F20,$A$16:$B$27,2,FALSE))","v":31},{"$f":"IF('Proyeccion Cuotas'!$D20=\"\",\"\",CONCATENATE('Proyeccion Cuotas'!$G20,\"/\",'Proyeccion Cuotas'!$F20,\"/\",'Proyeccion Cuotas'!$E20))","v":"31/5/2025"},{"$f":"IFERROR(IF('Proyeccion Cuotas'!$D20=\"\",\"\",IF(OR('Proyeccion Cuotas'!$F20=7,'Proyeccion Cuotas'!$F20=12),($B$45+(($F$1-$B$47)/$F$3)),(($F$1-$B$47)/$F$3))),0)","v":1111.1111111111111},{"$f":"IFERROR(IF('Proyeccion Cuotas'!$D20=\"\",\"\",(M19*$F$5*'Proyeccion Cuotas'!$K20/365)),\"\")","v":582.91324200913232},{"$f":"+IF('Proyeccion Cuotas'!$D20=\"\",\"\",'Proyeccion Cuotas'!$H20-H19)","v":31},{"$f":"IFERROR('Proyeccion Cuotas'!$I20+'Proyeccion Cuotas'!$J20,\"\")","v":1694.0243531202434},{"$f":"+IFERROR((M19-'Proyeccion Cuotas'!$I20),\"\")","v":95555.555555555562}]
[6,30,null,5,{"$f":"IF('Proyeccion Cuotas'!$D21=\"\",\"\",IF(F20=12,E20+1,E20))","v":2025},{"$f":"IF('Proyeccion Cuotas'!$D21=\"\",\"\",IF(F20=12,1,F20+1))","v":6},{"$f":"+IF('Proyeccion Cuotas'!$D21=\"\",\"\",VLOOKUP('Proyeccion Cuotas'!$F21,$A$16:$B$27,2,FALSE))","v":30},{"$f":"IF('Proyeccion Cuotas'!$D21=\"\",\"\",CONCATENATE('Proyeccion Cuotas'!$G21,\"/\",'Proyeccion Cuotas'!$F21,\"/\",'Proyeccion Cuotas'!$E21))","v":"30/6/2025"},{"$f":"IFERROR(IF('Proyeccion Cuotas'!$D21=\"\",\"\",IF(OR('Proyeccion Cuotas'!$F21=7,'Proyeccion Cuotas'!$F21=12),($B$45+(($F$1-$B$47)/$F$3)),(($F$1-$B$47)/$F$3))),0)","v":1111.1111111111111},{"$f":"IFERROR(IF('Proyeccion Cuotas'!$D21=\"\",\"\",(M20*$F$5*'Proyeccion Cuotas'!$K21/365)),\"\")","v":557.6255707762557},{"$f":"+IF('Proyeccion Cuotas'!$D21=\"\",\"\",'Proyeccion Cuotas'!$H21-H20)","v":30},{"$f":"IFERROR('Proyeccion Cuotas'!$I21+'Proyeccion Cuotas'!$J21,\"\")","v":1668.7366818873668},{"$f":"+IFERROR((M20-'Proyeccion Cuotas'!$I21),\"\")","v":94444.444444444453}]
[7,31,null,6,{"$f":"IF('Proyeccion Cuotas'!$D22=\"\",\"\",IF(F21=12,E21+1,E21))","v":2025},{"$f":"IF('Proyeccion Cuotas'!$D22=\"\",\"\",IF(F21=12,1,F21+1))","v":7},{"$f":"+IF('Proyeccion Cuotas'!$D22=\"\",\"\",VLOOKUP('Proyeccion Cuotas'!$F22,$A$16:$B$27,2,FALSE))","v":31},{"$f":"IF('Proyeccion Cuotas'!$D22=\"\",\"\",CONCATENATE('Proyeccion Cuotas'!$G22,\"/\",'Proyeccion Cuotas'!$F22,\"/\",'Proyeccion Cuotas'!$E22))","v":"31/7/2025"},{"$f":"IFERROR(IF('Proyeccion Cuotas'!$D22=\"\",\"\",IF(OR('Proyeccion Cuotas'!$F22=7,'Proyeccion Cuotas'!$F22=12),($B$45+(($F$1-$B$47)/$F$3)),(($F$1-$B$47)/$F$3))),0)","v":11111.111111111111},{"$f":"IFERROR(IF('Proyeccion Cuotas'!$D22=\"\",\"\",(M21*$F$5*'Proyeccion Cuotas'!$K22/365)),\"\")","v":569.51293759512942},{"$f":"+IF('Proyeccion Cuotas'!$D22=\"\",\"\",'Proyeccion Cuotas'!$H22-H21)","v":31},{"$f":"IFERROR('Proyeccion Cuotas'!$I22+'Proyeccion Cuotas'!$J22,\"\")","v":11680.624048706241},{"$f":"+IFERROR((M21-'Proyeccion Cuotas'!$I22),\"\")","v":83333.333333333343}]
[8,31,null,7,{"$f":"IF('Proyeccion Cuotas'!$D23=\"\",\"\",IF(F22=12,E22+1,E22))","v":2025},{"$f":"IF('Proyeccion Cuotas'!$D23=\"\",\"\",IF(F22=12,1,F22+1))","v":8},{"$f":"+IF('Proyeccion Cuotas'!$D23=\"\",\"\",VLOOKUP('Proyeccion Cuotas'!$F23,$A$16:$B$27,2,FALSE))","v":31},{"$f":"IF('Proyeccion Cuotas'!$D23=\"\",\"\",CONCATENATE('Proyeccion Cuotas'!$G23,\"/\",'Proyeccion Cuotas'!$F23,\"/\",'Proyeccion Cuotas'!$E23))","v":"31/8/2025"},{"$f":"IFERROR(IF('Proyeccion Cuotas'!$D23=\"\",\"\",IF(OR('Proyeccion Cuotas'!$F23=7,'Proyeccion Cuotas'!$F23=12),($B$45+(($F$1-$B$47)/$F$3)),(($F$1-$B$47)/$F$3))),0)","v":1111.1111111111111},{"$f":"IFERROR(IF('Proyeccion Cuotas'!$D23=\"\",\"\",(M22*$F$5*'Proyeccion Cuotas'!$K23/365)),\"\")","v":502.51141552511422},{"$f":"+IF('Proyeccion Cuotas'!$D23=\"\",\"\",'Proyeccion Cuotas'!$H23-H22)","v":31},{"$f":"IFERROR('Proyeccion Cuotas'!$I23+'Proyeccion Cuotas'!$J23,\"\")","v":1613.6225266362253},{"$f":"+IFERROR((M22-'Proyeccion Cuotas'!$I23),\"\")","v":82222.222222222234}]
[9,30,null,8,{"$f":"IF('Proyeccion Cuotas'!$D24=\"\",\"\",IF(F23=12,E23+1,E23))","v":2025},{"$f":"IF('Proyeccion Cuotas'!$D24=\"\",\"\",IF(F23=12,1,F23+1))","v":9},{"$f":"+IF('Proyeccion Cuotas'!$D24=\"\",\"\",VLOOKUP('Proyeccion Cuotas'!$F24,$A$16:$B$27,2,FALSE))","v":30},{"$f":"IF('Proyeccion Cuotas'!$D24=\"\",\"\",CONCATENATE('Proyeccion Cuotas'!$G24,\"/\",'Proyeccion Cuotas'!$F24,\"/\",'Proyeccion Cuotas'!$E24))","v":"30/9/2025"},{"$f":"IFERROR(IF('Proyeccion Cuotas'!$D24=\"\",\"\",IF(OR('Proyeccion Cuotas'!$F24=7,'Proyeccion Cuotas'!$F24=12),($B$45+(($F$1-$B$47)/$F$3)),(($F$1-$B$47)/$F$3))),0)","v":1111.1111111111111},{"$f":"IFERROR(IF('Proyeccion Cuotas'!$D24=\"\",\"\",(M23*$F$5*'Proyeccion Cuotas'!$K24/365)),\"\")","v":479.81735159817356},{"$f":"+IF('Proyeccion Cuotas'!$D24=\"\",\"\",'Proyeccion Cuotas'!$H24-H23)","v":30},{"$f":"IFERROR('Proyeccion Cuotas'!$I24+'Proyeccion Cuotas'!$J24,\"\")","v":1590.9284627092848},{"$f":"+IFERROR((M23-'Proyeccion Cuotas'!$I24),\"\")","v":81111.111111111124}]
[10,31,null,9,{"$f":"IF('Proyeccion Cuotas'!$D25=\"\",\"\",IF(F24=12,E24+1,E24))","v":2025},{"$f":"IF('Proyeccion Cuotas'!$D25=\"\",\"\",IF(F24=12,1,F24+1))","v":10},{"$f":"+IF('Proyeccion Cuotas'!$D25=\"\",\"\",VLOOKUP('Proyeccion Cuotas'!$F25,$A$16:$B$27,2,FALSE))","v":31},{"$f":"IF('Proyeccion Cuotas'!$D25=\"\",\"\",CONCATENATE('Proyeccion Cuotas'!$G25,\"/\",'Proyeccion Cuotas'!$F25,\"/\",'Proyeccion Cuotas'!$E25))","v":"31/10/2025"},{"$f":"IFERROR(IF('Proyeccion Cuotas'!$D25=\"\",\"\",IF(OR('Proyeccion Cuotas'!$F25=7,'Proyeccion Cuotas'!$F25=12),($B$45+(($F$1-$B$47)/$F$3)),(($F$1-$B$47)/$F$3))),0)","v":1111.1111111111111},{"$f":"IFERROR(IF('Proyeccion Cuotas'!$D25=\"\",\"\",(M24*$F$5*'Proyeccion Cuotas'!$K25/365)),\"\")","v":489.1111111111112},{"$f":"+IF('Proyeccion Cuotas'!$D25=\"\",\"\",'Proyeccion Cuotas'!$H25-H24)","v":31},{"$f":"IFERROR('Proyeccion Cuotas'!$I25+'Proyeccion Cuotas'!$J25,\"\")","v":1600.2222222222222},{"$f":"+IFERROR((M24-'Proyeccion Cuotas'!$I25),\"\")","v":80000.000000000015}]
[11,30,null,10,{"$f":"IF('Proyeccion Cuotas'!$D26=\"\",\"\",IF(F25=12,E25+1,E25))","v":2025},{"$f":"IF('Proyeccion Cuotas'!$D26=\"\",\"\",IF(F25=12,1,F25+1))","v":11},{"$f":"+IF('Proyeccion Cuotas'!$D26=\"\",\"\",VLOOKUP('Proyeccion Cuotas'!$F26,$A$16:$B$27,2,FALSE))","v":30},{"$f":"IF('Proyeccion Cuotas'!$D26=\"\",\"\",CONCATENATE('Proyeccion Cuotas'!$G26,\"/\",'Proyeccion Cuotas'!$F26,\"/\",'Proyeccion Cuotas'!$E26))","v":"30/11/2025"},{"$f":"IFERROR(IF('Proyeccion Cuotas'!$D26=\"\",\"\",IF(OR('Proyeccion Cuotas'!$F26=7,'Proyeccion Cuotas'!$F26=12),($B$45+(($F$1-$B$47)/$F$3)),(($F$1-$B$47)/$F$3))),0)","v":1111.1111111111111},{"$f":"IFERROR(IF('Proyeccion Cuotas'!$D26=\"\",\"\",(M25*$F$5*'Proyeccion Cuotas'!$K26/365)),\"\")","v":466.84931506849324},{"$f":"+IF('Proyeccion Cuotas'!$D26=\"\",\"\",'Proyeccion Cuotas'!$H26-H25)","v":30},{"$f":"IFERROR('Proyeccion Cuotas'!$I26+'Proyeccion Cuotas'!$J26,\"\")","v":1577.9604261796044},{"$f":"+IFERROR((M25-'Proyeccion Cuotas'!$I26),\"\")","v":78888.888888888905}]
[12,31,null,11,{"$f":"IF('Proyeccion Cuotas'!$D27=\"\",\"\",IF(F26=12,E26+1,E26))","v":2025},{"$f":"IF('Proyeccion Cuotas'!$D27=\"\",\"\",IF(F26=12,1,F26+1))","v":12},{"$f":"+IF('Proyeccion Cuotas'!$D27=\"\",\"\",VLOOKUP('Proyeccion Cuotas'!$F27,$A$16:$B$27,2,FALSE))","v":31},{"$f":"IF('Proyeccion Cuotas'!$D27=\"\",\"\",CONCATENATE('Proyeccion Cuotas'!$G27,\"/\",'Proyeccion Cuotas'!$F27,\"/\",'Proyeccion Cuotas'!$E27))","v":"31/12/2025"},{"$f":"IFERROR(IF('Proyeccion Cuotas'!$D27=\"\",\"\",IF(OR('Proyeccion Cuotas'!$F27=7,'Proyeccion Cuotas'!$F27=12),($B$45+(($F$1-$B$47)/$F$3)),(($F$1-$B$47)/$F$3))),0)","v":11111.111111111111},{"$f":"IFERROR(IF('Proyeccion Cuotas'!$D27=\"\",\"\",(M26*$F$5*'Proyeccion Cuotas'!$K27/365)),\"\")","v":475.71080669710807},{"$f":"+IF('Proyeccion Cuotas'!$D27=\"\",\"\",'Proyeccion Cuotas'!$H27-H26)","v":31},{"$f":"IFERROR('Proyeccion Cuotas'!$I27+'Proyeccion Cuotas'!$J27,\"\")","v":11586.82191780822},{"$f":"+IFERROR((M26-'Proyeccion Cuotas'!$I27),\"\")","v":67777.777777777796}]
[null,null,null,12,{"$f":"IF('Proyeccion Cuotas'!$D28=\"\",\"\",IF(F27=12,E27+1,E27))","v":2026},{"$f":"IF('Proyeccion Cuotas'!$D28=\"\",\"\",IF(F27=12,1,F27+1))","v":1},{"$f":"+IF('Proyeccion Cuotas'!$D28=\"\",\"\",VLOOKUP('Proyeccion Cuotas'!$F28,$A$16:$B$27,2,FALSE))","v":31},{"$f":"IF('Proyeccion Cuotas'!$D28=\"\",\"\",CONCATENATE('Proyeccion Cuotas'!$G28,\"/\",'Proyeccion Cuotas'!$F28,\"/\",'Proyeccion Cuotas'!$E28))","v":"31/1/2026"},{"$f":"IFERROR(IF('Proyeccion Cuotas'!$D28=\"\",\"\",IF(OR('Proyeccion Cuotas'!$F28=7,'Proyeccion Cuotas'!$F28=12),($B$45+(($F$1-$B$47)/$F$3)),(($F$1-$B$47)/$F$3))),0)","v":1111.1111111111111},{"$f":"IFERROR(IF('Proyeccion Cuotas'!$D28=\"\",\"\",(M27*$F$5*'Proyeccion Cuotas'!$K28/365)),\"\")","v":408.70928462709287},{"$f":"+IF('Proyeccion Cuotas'!$D28=\"\",\"\",'Proyeccion Cuotas'!$H28-H27)","v":31},{"$f":"IFERROR('Proyeccion Cuotas'!$I28+'Proyeccion Cuotas'!$J28,\"\")","v":1519.8203957382038},{"$f":"+IFERROR((M27-'Proyeccion Cuotas'!$I28),\"\")","v":66666.666666666686}]
["fhoy",{"$f":"+IF(OR(F7=\"\",F7=0),TODAY(),F7)","v":"2025-01-03"},null,13,{"$f":"IF('Proyeccion Cuotas'!$D29=\"\",\"\",IF(F28=12,E28+1,E28))","v":2026},{"$f":"IF('Proyeccion Cuotas'!$D29=\"\",\"\",IF(F28=12,1,F28+1))","v":2},{"$f":"+IF('Proyeccion Cuotas'!$D29=\"\",\"\",VLOOKUP('Proyeccion Cuotas'!$F29,$A$16:$B$27,2,FALSE))","v":28},{"$f":"IF('Proyeccion Cuotas'!$D29=\"\",\"\",CONCATENATE('Proyeccion Cuotas'!$G29,\"/\",'Proyeccion Cuotas'!$F29,\"/\",'Proyeccion Cuotas'!$E29))","v":"28/2/2026"},{"$f":"IFERROR(IF('Proyeccion Cuotas'!$D29=\"\",\"\",IF(OR('Proyeccion Cuotas'!$F29=7,'Proyeccion Cuotas'!$F29=12),($B$45+(($F$1-$B$47)/$F$3)),(($F$1-$B$47)/$F$3))),0)","v":1111.1111111111111},{"$f":"IFERROR(IF('Proyeccion Cuotas'!$D29=\"\",\"\",(M28*$F$5*'Proyeccion Cuotas'!$K29/365)),\"\")","v":363.10502283105023},{"$f":"+IF('Proyeccion Cuotas'!$D29=\"\",\"\",'Proyeccion Cuotas'!$H29-H28)","v":28},{"$f":"IFERROR('Proyeccion Cuotas'!$I29+'Proyeccion Cuotas'!$J29,\"\")","v":1474.2161339421614},{"$f":"+IFERROR((M28-'Proyeccion Cuotas'!$I29),\"\")","v":65555.555555555577}]
["mes",{"$f":"+MONTH(B29)","v":1},null,14,{"$f":"IF('Proyeccion Cuotas'!$D30=\"\",\"\",IF(F29=12,E29+1,E29))","v":2026},{"$f":"IF('Proyeccion Cuotas'!$D30=\"\",\"\",IF(F29=12,1,F29+1))","v":3},{"$f":"+IF('Proyeccion Cuotas'!$D30=\"\",\"\",VLOOKUP('Proyeccion Cuotas'!$F30,$A$16:$B$27,2,FALSE))","v":31},{"$f":"IF('Proyeccion Cuotas'!$D30=\"\",\"\",CONCATENATE('Proyeccion Cuotas'!$G30,\"/\",'Proyeccion Cuotas'!$F30,\"/\",'Proyeccion Cuotas'!$E30))","v":"31/3/2026"},{"$f":"IFERROR(IF('Proyeccion Cuotas'!$D30=\"\",\"\",IF(OR('Proyeccion Cuotas'!$F30=7,'Proyeccion Cuotas'!$F30=12),($B$45+(($F$1-$B$47)/$F$3)),(($F$1-$B$47)/$F$3))),0)","v":1111.1111111111111},{"$f":"IFERROR(IF('Proyeccion Cuotas'!$D30=\"\",\"\",(M29*$F$5*'Proyeccion Cuotas'!$K30/365)),\"\")","v":395.30898021308991},{"$f":"+IF('Proyeccion Cuotas'!$D30=\"\",\"\",'Proyeccion Cuotas'!$H30-H29)","v":31},{"$f":"IFERROR('Proyeccion Cuotas'!$I30+'Proyeccion Cuotas'!$J30,\"\")","v":1506.4200913242009},{"$f":"+IFERROR((M29-'Proyeccion Cuotas'!$I30),\"\")","v":64444.444444444467}]
["dia",{"$f":"+DAY(B29)","v":3},null,15,{"$f":"IF('Proyeccion Cuotas'!$D31=\"\",\"\",IF(F30=12,E30+1,E30))","v":2026},{"$f":"IF('Proyeccion Cuotas'!$D31=\"\",\"\",IF(F30=12,1,F30+1))","v":4},{"$f":"+IF('Proyeccion Cuotas'!$D31=\"\",\"\",VLOOKUP('Proyeccion Cuotas'!$F31,$A$16:$B$27,2,FALSE))","v":30},{"$f":"IF('Proyeccion Cuotas'!$D31=\"\",\"\",CONCATENATE('Proyeccion Cuotas'!$G31,\"/\",'Proyeccion Cuotas'!$F31,\"/\",'Proyeccion Cuotas'!$E31))","v":"30/4/2026"},{"$f":"IFERROR(IF('Proyeccion Cuotas'!$D31=\"\",\"\",IF(OR('Proyeccion Cuotas'!$F31=7,'Proyeccion Cuotas'!$F31=12),($B$45+(($F$1-$B$47)/$F$3)),(($F$1-$B$47)/$F$3))),0)","v":1111.1111111111111},{"$f":"IFERROR(IF('Proyeccion Cuotas'!$D31=\"\",\"\",(M30*$F$5*'Proyeccion Cuotas'!$K31/365)),\"\")","v":376.07305936073067},{"$f":"+IF('Proyeccion Cuotas'!$D31=\"\",\"\",'Proyeccion Cuotas'!$H31-H30)","v":30},{"$f":"IFERROR('Proyeccion Cuotas'!$I31+'Proyeccion Cuotas'!$J31,\"\")","v":1487.1841704718418},{"$f":"+IFERROR((M30-'Proyeccion Cuotas'!$I31),\"\")","v":63333.333333333358}]
["año",{"$f":"+YEAR(B29)","v":2025},null,16,{"$f":"IF('Proyeccion Cuotas'!$D32=\"\",\"\",IF(F31=12,E31+1,E31))","v":2026},{"$f":"IF('Proyeccion Cuotas'!$D32=\"\",\"\",IF(F31=12,1,F31+1))","v":5},{"$f":"+IF('Proyeccion Cuotas'!$D32=\"\",\"\",VLOOKUP('Proyeccion Cuotas'!$F32,$A$16:$B$27,2,FALSE))","v":31},{"$f":"IF('Proyeccion Cuotas'!$D32=\"\",\"\",CONCATENATE('Proyeccion Cuotas'!$G32,\"/\",'Proyeccion Cuotas'!$F32,\"/\",'Proyeccion Cuotas'!$E32))","v":"31/5/2026"},{"$f":"IFERROR(IF('Proyeccion Cuotas'!$D32=\"\",\"\",IF(OR('Proyeccion Cuotas'!$F32=7,'Proyeccion Cuotas'!$F32=12),($B$45+(($F$1-$B$47)/$F$3)),(($F$1-$B$47)/$F$3))),0)","v":1111.1111111111111},{"$f":"IFERROR(IF('Proyeccion Cuotas'!$D32=\"\",\"\",(M31*$F$5*'Proyeccion Cuotas'!$K32/365)),\"\")","v":381.90867579908689},{"$f":"+IF('Proyeccion Cuotas'!$D32=\"\",\"\",'Proyeccion Cuotas'!$H32-H31)","v":31},{"$f":"IFERROR('Proyeccion Cuotas'!$I32+'Proyeccion Cuotas'!$J32,\"\")","v":1493.019786910198},{"$f":"+IFERROR((M31-'Proyeccion Cuotas'!$I32),\"\")","v":62222.222222222248}]
[null,null,null,17,{"$f":"IF('Proyeccion Cuotas'!$D33=\"\",\"\",IF(F32=12,E32+1,E32))","v":2026},{"$f":"IF('Proyeccion Cuotas'!$D33=\"\",\"\",IF(F32=12,1,F32+1))","v":6},{"$f":"+IF('Proyeccion Cuotas'!$D33=\"\",\"\",VLOOKUP('Proyeccion Cuotas'!$F33,$A$16:$B$27,2,FALSE))","v":30},{"$f":"IF('Proyeccion Cuotas'!$D33=\"\",\"\",CONCATENATE('Proyeccion Cuotas'!$G33,\"/\",'Proyeccion Cuotas'!$F33,\"/\",'Proyeccion Cuotas'!$E33))","v":"30/6/2026"},{"$f":"IFERROR(IF('Proyeccion Cuotas'!$D33=\"\",\"\",IF(OR('Proyeccion Cuotas'!$F33=7,'Proyeccion Cuotas'!$F33=12),($B$45+(($F$1-$B$47)/$F$3)),(($F$1-$B$47)/$F$3))),0)","v":1111.1111111111111},{"$f":"IFERROR(IF('Proyeccion Cuotas'!$D33=\"\",\"\",(M32*$F$5*'Proyeccion Cuotas'!$K33/365)),\"\")","v":363.10502283105035},{"$f":"+IF('Proyeccion Cuotas'!$D33=\"\",\"\",'Proyeccion Cuotas'!$H33-H32)","v":30},{"$f":"IFERROR('Proyeccion Cuotas'!$I33+'Proyeccion Cuotas'!$J33,\"\")","v":1474.2161339421614},{"$f":"+IFERROR((M32-'Proyeccion Cuotas'!$I33),\"\")","v":61111.111111111139}]
["fpago",{"$f":"+CONCATENATE(B36,\"/\",B35,\"/\",B37)","v":"28/2/2025"},null,18,{"$f":"IF('Proyeccion Cuotas'!$D34=\"\",\"\",IF(F33=12,E33+1,E33))","v":2026},{"$f":"IF('Proyeccion Cuotas'!$D34=\"\",\"\",IF(F33=12,1,F33+1))","v":7},{"$f":"+IF('Proyeccion Cuotas'!$D34=\"\",\"\",VLOOKUP('Proyeccion Cuotas'!$F34,$A$16:$B$27,2,FALSE))","v":31},{"$f":"IF('Proyeccion Cuotas'!$D34=\"\",\"\",CONCATENATE('Proyeccion Cuotas'!$G34,\"/\",'Proyeccion Cuotas'!$F34,\"/\",'Proyeccion Cuotas'!$E34))","v":"31/7/2026"},{"$f":"IFERROR(IF('Proyeccion Cuotas'!$D34=\"\",\"\",IF(OR('Proyeccion Cuotas'!$F34=7,'Proyeccion Cuotas'!$F34=12),($B$45+(($F$1-$B$47)/$F$3)),(($F$1-$B$47)/$F$3))),0)","v":11111.111111111111},{"$f":"IFERROR(IF('Proyeccion Cuotas'!$D34=\"\",\"\",(M33*$F$5*'Proyeccion Cuotas'!$K34/365)),\"\")","v":368.50837138508388},{"$f":"+IF('Proyeccion Cuotas'!$D34=\"\",\"\",'Proyeccion Cuotas'!$H34-H33)","v":31},{"$f":"IFERROR('Proyeccion Cuotas'!$I34+'Proyeccion Cuotas'!$J34,\"\")","v":11479.619482496195},{"$f":"+IFERROR((M33-'Proyeccion Cuotas'!$I34),\"\")","v":50000.000000000029}]
["mes",{"$f":"+IF(B30=12,1,B30+1)","v":2},null,19,{"$f":"IF('Proyeccion Cuotas'!$D35=\"\",\"\",IF(F34=12,E34+1,E34))","v":2026},{"$f":"IF('Proyeccion Cuotas'!$D35=\"\",\"\",IF(F34=12,1,F34+1))","v":8},{"$f":"+IF('Proyeccion Cuotas'!$D35=\"\",\"\",VLOOKUP('Proyeccion Cuotas'!$F35,$A$16:$B$27,2,FALSE))","v":31},{"$f":"IF('Proyeccion Cuotas'!$D35=\"\",\"\",CONCATENATE('Proyeccion Cuotas'!$G35,\"/\",'Proyeccion Cuotas'!$F35,\"/\",'Proyeccion Cuotas'!$E35))","v":"31/8/2026"},{"$f":"IFERROR(IF('Proyeccion Cuotas'!$D35=\"\",\"\",IF(OR('Proyeccion Cuotas'!$F35=7,'Proyeccion Cuotas'!$F35=12),($B$45+(($F$1-$B$47)/$F$3)),(($F$1-$B$47)/$F$3))),0)","v":1111.1111111111111},{"$f":"IFERROR(IF('Proyeccion Cuotas'!$D35=\"\",\"\",(M34*$F$5*'Proyeccion Cuotas'!$K35/365)),\"\")","v":301.50684931506868},{"$f":"+IF('Proyeccion Cuotas'!$D35=\"\",\"\",'Proyeccion Cuotas'!$H35-H34)","v":31},{"$f":"IFERROR('Proyeccion Cuotas'!$I35+'Proyeccion Cuotas'!$J35,\"\")","v":1412.6179604261797},{"$f":"+IFERROR((M34-'Proyeccion Cuotas'!$I35),\"\")","v":48888.88888888892}]
["dia",{"$f":"+IFERROR(VLOOKUP($B$35,$A$16:$B$27,2,FALSE),\"revisar\")","v":28},null,20,{"$f":"IF('Proyeccion Cuotas'!$D36=\"\",\"\",IF(F35=12,E35+1,E35))","v":2026},{"$f":"IF('Proyeccion Cuotas'!$D36=\"\",\"\",IF(F35=12,1,F35+1))","v":9},{"$f":"+IF('Proyeccion Cuotas'!$D36=\"\",\"\",VLOOKUP('Proyeccion Cuotas'!$F36,$A$16:$B$27,2,FALSE))","v":30},{"$f":"IF('Proyeccion Cuotas'!$D36=\"\",\"\",CONCATENATE('Proyeccion Cuotas'!$G36,\"/\",'Proyeccion Cuotas'!$F36,\"/\",'Proyeccion Cuotas'!$E36))","v":"30/9/2026"},{"$f":"IFERROR(IF('Proyeccion Cuotas'!$D36=\"\",\"\",IF(OR('Proyeccion Cuotas'!$F36=7,'Proyeccion Cuotas'!$F36=12),($B$45+(($F$1-$B$47)/$F$3)),(($F$1-$B$47)/$F$3))),0)","v":1111.1111111111111},{"$f":"IFERROR(IF('Proyeccion Cuotas'!$D36=\"\",\"\",(M35*$F$5*'Proyeccion Cuotas'!$K36/365)),\"\")","v":285.29680365296821},{"$f":"+IF('Proyeccion Cuotas'!$D36=\"\",\"\",'Proyeccion Cuotas'!$H36-H35)","v":30},{"$f":"IFERROR('Proyeccion Cuotas'!$I36+'Proyeccion Cuotas'!$J36,\"\")","v":1396.4079147640794},{"$f":"+IFERROR((M35-'Proyeccion Cuotas'!$I36),\"\")","v":47777.77777777781}]
["año",{"$f":"+IF(B30=12,B32+1,B32)","v":2025},null,21,{"$f":"IF('Proyeccion Cuotas'!$D37=\"\",\"\",IF(F36=12,E36+1,E36))","v":2026},{"$f":"IF('Proyeccion Cuotas'!$D37=\"\",\"\",IF(F36=12,1,F36+1))","v":10},{"$f":"+IF('Proyeccion Cuotas'!$D37=\"\",\"\",VLOOKUP('Proyeccion Cuotas'!$F37,$A$16:$B$27,2,FALSE))","v":31},{"$f":"IF('Proyeccion Cuotas'!$D37=\"\",\"\",CONCATENATE('Proyeccion Cuotas'!$G37,\"/\",'Proyeccion Cuotas'!$F37,\"/\",'Proyeccion Cuotas'!$E37))","v":"31/10/2026"},{"$f":"IFERROR(IF('Proyeccion Cuotas'!$D37=\"\",\"\",IF(OR('Proyeccion Cuotas'!$F37=7,'Proyeccion Cuotas'!$F37=12),($B$45+(($F$1-$B$47)/$F$3)),(($F$1-$B$47)/$F$3))),0)","v":1111.1111111111111},{"$f":"IFERROR(IF('Proyeccion Cuotas'!$D37=\"\",\"\",(M36*$F$5*'Proyeccion Cuotas'!$K37/365)),\"\")","v":288.1065449010656},{"$f":"+IF('Proyeccion Cuotas'!$D37=\"\",\"\",'Proyeccion Cuotas'!$H37-H36)","v":31},{"$f":"IFERROR('Proyeccion Cuotas'!$I37+'Proyeccion Cuotas'!$J37,\"\")","v":1399.2176560121766},{"$f":"+IFERROR((M36-'Proyeccion Cuotas'!$I37),\"\")","v":46666.666666666701}]
[null,null,null,22,{"$f":"IF('Proyeccion Cuotas'!$D38=\"\",\"\",IF(F37=12,E37+1,E37))","v":2026},{"$f":"IF('Proyeccion Cuotas'!$D38=\"\",\"\",IF(F37=12,1,F37+1))","v":11},{"$f":"+IF('Proyeccion Cuotas'!$D38=\"\",\"\",VLOOKUP('Proyeccion Cuotas'!$F38,$A$16:$B$27,2,FALSE))","v":30},{"$f":"IF('Proyeccion Cuotas'!$D38=\"\",\"\",CONCATENATE('Proyeccion Cuotas'!$G38,\"/\",'Proyeccion Cuotas'!$F38,\"/\",'Proyeccion Cuotas'!$E38))","v":"30/11/2026"},{"$f":"IFERROR(IF('Proyeccion Cuotas'!$D38=\"\",\"\",IF(OR('Proyeccion Cuotas'!$F38=7,'Proyeccion Cuotas'!$F38=12),($B$45+(($F$1-$B$47)/$F$3)),(($F$1-$B$47)/$F$3))),0)","v":1111.1111111111111},{"$f":"IFERROR(IF('Proyeccion Cuotas'!$D38=\"\",\"\",(M37*$F$5*'Proyeccion Cuotas'!$K38/365)),\"\")","v":272.32876712328783},{"$f":"+IF('Proyeccion Cuotas'!$D38=\"\",\"\",'Proyeccion Cuotas'!$H38-H37)","v":30},{"$f":"IFERROR('Proyeccion Cuotas'!$I38+'Proyeccion Cuotas'!$J38,\"\")","v":1383.439878234399},{"$f":"+IFERROR((M37-'Proyeccion Cuotas'!$I38),\"\")","v":45555.555555555591}]
["fpago Int",{"$f":"+CONCATENATE(B41,\"/\",B40,\"/\",B42)","v":"31/1/2025"},null,23,{"$f":"IF('Proyeccion Cuotas'!$D39=\"\",\"\",IF(F38=12,E38+1,E38))","v":2026},{"$f":"IF('Proyeccion Cuotas'!$D39=\"\",\"\",IF(F38=12,1,F38+1))","v":12},{"$f":"+IF('Proyeccion Cuotas'!$D39=\"\",\"\",VLOOKUP('Proyeccion Cuotas'!$F39,$A$16:$B$27,2,FALSE))","v":31},{"$f":"IF('Proyeccion Cuotas'!$D39=\"\",\"\",CONCATENATE('Proyeccion Cuotas'!$G39,\"/\",'Proyeccion Cuotas'!$F39,\"/\",'Proyeccion Cuotas'!$E39))","v":"31/12/2026"},{"$f":"IFERROR(IF('Proyeccion Cuotas'!$D39=\"\",\"\",IF(OR('Proyeccion Cuotas'!$F39=7,'Proyeccion Cuotas'!$F39=12),($B$45+(($F$1-$B$47)/$F$3)),(($F$1-$B$47)/$F$3))),0)","v":11111.111111111111},{"$f":"IFERROR(IF('Proyeccion Cuotas'!$D39=\"\",\"\",(M38*$F$5*'Proyeccion Cuotas'!$K39/365)),\"\")","v":274.70624048706259},{"$f":"+IF('Proyeccion Cuotas'!$D39=\"\",\"\",'Proyeccion Cuotas'!$H39-H38)","v":31},{"$f":"IFERROR('Proyeccion Cuotas'!$I39+'Proyeccion Cuotas'!$J39,\"\")","v":11385.817351598174},{"$f":"+IFERROR((M38-'Proyeccion Cuotas'!$I39),\"\")","v":34444.444444444482}]
["mes",{"$f":"+MONTH(B29)","v":1},null,24,{"$f":"IF('Proyeccion Cuotas'!$D40=\"\",\"\",IF(F39=12,E39+1,E39))","v":2027},{"$f":"IF('Proyeccion Cuotas'!$D40=\"\",\"\",IF(F39=12,1,F39+1))","v":1},{"$f":"+IF('Proyeccion Cuotas'!$D40=\"\",\"\",VLOOKUP('Proyeccion Cuotas'!$F40,$A$16:$B$27,2,FALSE))","v":31},{"$f":"IF('Proyeccion Cuotas'!$D40=\"\",\"\",CONCATENATE('Proyeccion Cuotas'!$G40,\"/\",'Proyeccion Cuotas'!$F40,\"/\",'Proyeccion Cuotas'!$E40))","v":"31/1/2027"},{"$f":"IFERROR(IF('Proyeccion Cuotas'!$D40=\"\",\"\",IF(OR('Proyeccion Cuotas'!$F40=7,'Proyeccion Cuotas'!$F40=12),($B$45+(($F$1-$B$47)/$F$3)),(($F$1-$B$47)/$F$3))),0)","v":1111.1111111111111},{"$f":"IFERROR(IF('Proyeccion Cuotas'!$D40=\"\",\"\",(M39*$F$5*'Proyeccion Cuotas'!$K40/365)),\"\")","v":207.70471841704739},{"$f":"+IF('Proyeccion Cuotas'!$D40=\"\",\"\",'Proyeccion Cuotas'!$H40-H39)","v":31},{"$f":"IFERROR('Proyeccion Cuotas'!$I40+'Proyeccion Cuotas'!$J40,\"\")","v":1318.8158295281585},{"$f":"+IFERROR((M39-'Proyeccion Cuotas'!$I40),\"\")","v":33333.333333333372}]
["dia",{"$f":"+VLOOKUP(B40,$A$16:$B$27,2,FALSE)","v":31},null,25,{"$f":"IF('Proyeccion Cuotas'!$D41=\"\",\"\",IF(F40=12,E40+1,E40))","v":2027},{"$f":"IF('Proyeccion Cuotas'!$D41=\"\",\"\",IF(F40=12,1,F40+1))","v":2},{"$f":"+IF('Proyeccion Cuotas'!$D41=\"\",\"\",VLOOKUP('Proyeccion Cuotas'!$F41,$A$16:$B$27,2,FALSE))","v":28},{"$f":"IF('Proyeccion Cuotas'!$D41=\"\",\"\",CONCATENATE('Proyeccion Cuotas'!$G41,\"/\",'Proyeccion Cuotas'!$F41,\"/\",'Proyeccion Cuotas'!$E41))","v":"28/2/2027"},{"$f":"IFERROR(IF('Proyeccion Cuotas'!$D41=\"\",\"\",IF(OR('Proyeccion Cuotas'!$F41=7,'Proyeccion Cuotas'!$F41=12),($B$45+(($F$1-$B$47)/$F$3)),(($F$1-$B$47)/$F$3))),0)","v":1111.1111111111111},{"$f":"IFERROR(IF('Proyeccion Cuotas'!$D41=\"\",\"\",(M40*$F$5*'Proyeccion Cuotas'!$K41/365)),\"\")","v":181.55251141552532},{"$f":"+IF('Proyeccion Cuotas'!$D41=\"\",\"\",'Proyeccion Cuotas'!$H41-H40)","v":28},{"$f":"IFERROR('Proyeccion Cuotas'!$I41+'Proyeccion Cuotas'!$J41,\"\")","v":1292.6636225266363},{"$f":"+IFERROR((M40-'Proyeccion Cuotas'!$I41),\"\")","v":32222.222222222263}]
["año",{"$f":"+B32","v":2025},null,26,{"$f":"IF('Proyeccion Cuotas'!$D42=\"\",\"\",IF(F41=12,E41+1,E41))","v":2027},{"$f":"IF('Proyeccion Cuotas'!$D42=\"\",\"\",IF(F41=12,1,F41+1))","v":3},{"$f":"+IF('Proyeccion Cuotas'!$D42=\"\",\"\",VLOOKUP('Proyeccion Cuotas'!$F42,$A$16:$B$27,2,FALSE))","v":31},{"$f":"IF('Proyeccion Cuotas'!$D42=\"\",\"\",CONCATENATE('Proyeccion Cuotas'!$G42,\"/\",'Proyeccion Cuotas'!$F42,\"/\",'Proyeccion Cuotas'!$E42))","v":"31/3/2027"},{"$f":"IFERROR(IF('Proyeccion Cuotas'!$D42=\"\",\"\",IF(OR('Proyeccion Cuotas'!$F42=7,'Proyeccion Cuotas'!$F42=12),($B$45+(($F$1-$B$47)/$F$3)),(($F$1-$B$47)/$F$3))),0)","v":1111.1111111111111},{"$f":"IFERROR(IF('Proyeccion Cuotas'!$D42=\"\",\"\",(M41*$F$5*'Proyeccion Cuotas'!$K42/365)),\"\")","v":194.30441400304437},{"$f":"+IF('Proyeccion Cuotas'!$D42=\"\",\"\",'Proyeccion Cuotas'!$H42-H41)","v":31},{"$f":"IFERROR('Proyeccion Cuotas'!$I42+'Proyeccion Cuotas'!$J42,\"\")","v":1305.4155251141556},{"$f":"+IFERROR((M41-'Proyeccion Cuotas'!$I42),\"\")","v":31111.111111111153}]
[null,null,null,27,{"$f":"IF('Proyeccion Cuotas'!$D43=\"\",\"\",IF(F42=12,E42+1,E42))","v":2027},{"$f":"IF('Proyeccion Cuotas'!$D43=\"\",\"\",IF(F42=12,1,F42+1))","v":4},{"$f":"+IF('Proyeccion Cuotas'!$D43=\"\",\"\",VLOOKUP('Proyeccion Cuotas'!$F43,$A$16:$B$27,2,FALSE))","v":30},{"$f":"IF('Proyeccion Cuotas'!$D43=\"\",\"\",CONCATENATE('Proyeccion Cuotas'!$G43,\"/\",'Proyeccion Cuotas'!$F43,\"/\",'Proyeccion Cuotas'!$E43))","v":"30/4/2027"},{"$f":"IFERROR(IF('Proyeccion Cuotas'!$D43=\"\",\"\",IF(OR('Proyeccion Cuotas'!$F43=7,'Proyeccion Cuotas'!$F43=12),($B$45+(($F$1-$B$47)/$F$3)),(($F$1-$B$47)/$F$3))),0)","v":1111.1111111111111},{"$f":"IFERROR(IF('Proyeccion Cuotas'!$D43=\"\",\"\",(M42*$F$5*'Proyeccion Cuotas'!$K43/365)),\"\")","v":181.55251141552537},{"$f":"+IF('Proyeccion Cuotas'!$D43=\"\",\"\",'Proyeccion Cuotas'!$H43-H42)","v":30},{"$f":"IFERROR('Proyeccion Cuotas'!$I43+'Proyeccion Cuotas'!$J43,\"\")","v":1292.6636225266366},{"$f":"+IFERROR((M42-'Proyeccion Cuotas'!$I43),\"\")","v":30000.000000000044}]
["Abonos Capital",null,null,28,{"$f":"IF('Proyeccion Cuotas'!$D44=\"\",\"\",IF(F43=12,E43+1,E43))","v":2027},{"$f":"IF('Proyeccion Cuotas'!$D44=\"\",\"\",IF(F43=12,1,F43+1))","v":5},{"$f":"+IF('Proyeccion Cuotas'!$D44=\"\",\"\",VLOOKUP('Proyeccion Cuotas'!$F44,$A$16:$B$27,2,FALSE))","v":31},{"$f":"IF('Proyeccion Cuotas'!$D44=\"\",\"\",CONCATENATE('Proyeccion Cuotas'!$G44,\"/\",'Proyeccion Cuotas'!$F44,\"/\",'Proyeccion Cuotas'!$E44))","v":"31/5/2027"},{"$f":"IFERROR(IF('Proyeccion Cuotas'!$D44=\"\",\"\",IF(OR('Proyeccion Cuotas'!$F44=7,'Proyeccion Cuotas'!$F44=12),($B$45+(($F$1-$B$47)/$F$3)),(($F$1-$B$47)/$F$3))),0)","v":1111.1111111111111},{"$f":"IFERROR(IF('Proyeccion Cuotas'!$D44=\"\",\"\",(M43*$F$5*'Proyeccion Cuotas'!$K44/365)),\"\")","v":180.90410958904133},{"$f":"+IF('Proyeccion Cuotas'!$D44=\"\",\"\",'Proyeccion Cuotas'!$H44-H43)","v":31},{"$f":"IFERROR('Proyeccion Cuotas'!$I44+'Proyeccion Cuotas'!$J44,\"\")","v":1292.0152207001524},{"$f":"+IFERROR((M43-'Proyeccion Cuotas'!$I44),\"\")","v":28888.888888888934}]
[{"$f":"+'Ingreso de Datos'!D7/12","v":3},{"$f":"+'Ingreso de Datos'!D13","v":10000},null,29,{"$f":"IF('Proyeccion Cuotas'!$D45=\"\",\"\",IF(F44=12,E44+1,E44))","v":2027},{"$f":"IF('Proyeccion Cuotas'!$D45=\"\",\"\",IF(F44=12,1,F44+1))","v":6},{"$f":"+IF('Proyeccion Cuotas'!$D45=\"\",\"\",VLOOKUP('Proyeccion Cuotas'!$F45,$A$16:$B$27,2,FALSE))","v":30},{"$f":"IF('Proyeccion Cuotas'!$D45=\"\",\"\",CONCATENATE('Proyeccion Cuotas'!$G45,\"/\",'Proyeccion Cuotas'!$F45,\"/\",'Proyeccion Cuotas'!$E45))","v":"30/6/2027"},{"$f":"IFERROR(IF('Proyeccion Cuotas'!$D45=\"\",\"\",IF(OR('Proyeccion Cuotas'!$F45=7,'Proyeccion Cuotas'!$F45=12),($B$45+(($F$1-$B$47)/$F$3)),(($F$1-$B$47)/$F$3))),0)","v":1111.1111111111111},{"$f":"IFERROR(IF('Proyeccion Cuotas'!$D45=\"\",\"\",(M44*$F$5*'Proyeccion Cuotas'!$K45/365)),\"\")","v":168.584474885845},{"$f":"+IF('Proyeccion Cuotas'!$D45=\"\",\"\",'Proyeccion Cuotas'!$H45-H44)","v":30},{"$f":"IFERROR('Proyeccion Cuotas'!$I45+'Proyeccion Cuotas'!$J45,\"\")","v":1279.6955859969562},{"$f":"+IFERROR((M44-'Proyeccion Cuotas'!$I45),\"\")","v":27777.777777777825}]
["Anual",{"$f":"+B45*2","v":20000},null,30,{"$f":"IF('Proyeccion Cuotas'!$D46=\"\",\"\",IF(F45=12,E45+1,E45))","v":2027},{"$f":"IF('Proyeccion Cuotas'!$D46=\"\",\"\",IF(F45=12,1,F45+1))","v":7},{"$f":"+IF('Proyeccion Cuotas'!$D46=\"\",\"\",VLOOKUP('Proyeccion Cuotas'!$F46,$A$16:$B$27,2,FALSE))","v":31},{"$f":"IF('Proyeccion Cuotas'!$D46=\"\",\"\",CONCATENATE('Proyeccion Cuotas'!$G46,\"/\",'Proyeccion Cuotas'!$F46,\"/\",'Proyeccion Cuotas'!$E46))","v":"31/7/2027"},{"$f":"IFERROR(IF('Proyeccion Cuotas'!$D46=\"\",\"\",IF(OR('Proyeccion Cuotas'!$F46=7,'Proyeccion Cuotas'!$F46=12),($B$45+(($F$1-$B$47)/$F$3)),(($F$1-$B$47)/$F$3))),0)","v":11111.111111111111},{"$f":"IFERROR(IF('Proyeccion Cuotas'!$D46=\"\",\"\",(M45*$F$5*'Proyeccion Cuotas'!$K46/365)),\"\")","v":167.50380517503831},{"$f":"+IF('Proyeccion Cuotas'!$D46=\"\",\"\",'Proyeccion Cuotas'!$H46-H45)","v":31},{"$f":"IFERROR('Proyeccion Cuotas'!$I46+'Proyeccion Cuotas'!$J46,\"\")","v":11278.614916286149},{"$f":"+IFERROR((M45-'Proyeccion Cuotas'!$I46),\"\")","v":16666.666666666715}]
["Total Plazo",{"$f":"+B46*A45","v":60000},null,31,{"$f":"IF('Proyeccion Cuotas'!$D47=\"\",\"\",IF(F46=12,E46+1,E46))","v":2027},{"$f":"IF('Proyeccion Cuotas'!$D47=\"\",\"\",IF(F46=12,1,F46+1))","v":8},{"$f":"+IF('Proyeccion Cuotas'!$D47=\"\",\"\",VLOOKUP('Proyeccion Cuotas'!$F47,$A$16:$B$27,2,FALSE))","v":31},{"$f":"IF('Proyeccion Cuotas'!$D47=\"\",\"\",CONCATENATE('Proyeccion Cuotas'!$G47,\"/\",'Proyeccion Cuotas'!$F47,\"/\",'Proyeccion Cuotas'!$E47))","v":"31/8/2027"},{"$f":"IFERROR(IF('Proyeccion Cuotas'!$D47=\"\",\"\",IF(OR('Proyeccion Cuotas'!$F47=7,'Proyeccion Cuotas'!$F47=12),($B$45+(($F$1-$B$47)/$F$3)),(($F$1-$B$47)/$F$3))),0)","v":1111.1111111111111},{"$f":"IFERROR(IF('Proyeccion Cuotas'!$D47=\"\",\"\",(M46*$F$5*'Proyeccion Cuotas'!$K47/365)),\"\")","v":100.50228310502311},{"$f":"+IF('Proyeccion Cuotas'!$D47=\"\",\"\",'Proyeccion Cuotas'!$H47-H46)","v":31},{"$f":"IFERROR('Proyeccion Cuotas'!$I47+'Proyeccion Cuotas'!$J47,\"\")","v":1211.6133942161341},{"$f":"+IFERROR((M46-'Proyeccion Cuotas'!$I47),\"\")","v":15555.555555555604}]
[null,null,null,32,{"$f":"IF('Proyeccion Cuotas'!$D48=\"\",\"\",IF(F47=12,E47+1,E47))","v":2027},{"$f":"IF('Proyeccion Cuotas'!$D48=\"\",\"\",IF(F47=12,1,F47+1))","v":9},{"$f":"+IF('Proyeccion Cuotas'!$D48=\"\",\"\",VLOOKUP('Proyeccion Cuotas'!$F48,$A$16:$B$27,2,FALSE))","v":30},{"$f":"IF('Proyeccion Cuotas'!$D48=\"\",\"\",CONCATENATE('Proyeccion Cuotas'!$G48,\"/\",'Proyeccion Cuotas'!$F48,\"/\",'Proyeccion Cuotas'!$E48))","v":"30/9/2027"},{"$f":"IFERROR(IF('Proyeccion Cuotas'!$D48=\"\",\"\",IF(OR('Proyeccion Cuotas'!$F48=7,'Proyeccion Cuotas'!$F48=12),($B$45+(($F$1-$B$47)/$F$3)),(($F$1-$B$47)/$F$3))),0)","v":1111.1111111111111},{"$f":"IFERROR(IF('Proyeccion Cuotas'!$D48=\"\",\"\",(M47*$F$5*'Proyeccion Cuotas'!$K48/365)),\"\")","v":90.776255707762829},{"$f":"+IF('Proyeccion Cuotas'!$D48=\"\",\"\",'Proyeccion Cuotas'!$H48-H47)","v":30},{"$f":"IFERROR('Proyeccion Cuotas'!$I48+'Proyeccion Cuotas'!$J48,\"\")","v":1201.8873668188739},{"$f":"+IFERROR((M47-'Proyeccion Cuotas'!$I48),\"\")","v":14444.444444444493}]
[{"$f":"+M16","v":100000},{"$f":"+A49-B47","v":40000},null,33,{"$f":"IF('Proyeccion Cuotas'!$D49=\"\",\"\",IF(F48=12,E48+1,E48))","v":2027},{"$f":"IF('Proyeccion Cuotas'!$D49=\"\",\"\",IF(F48=12,1,F48+1))","v":10},{"$f":"+IF('Proyeccion Cuotas'!$D49=\"\",\"\",VLOOKUP('Proyeccion Cuotas'!$F49,$A$16:$B$27,2,FALSE))","v":31},{"$f":"IF('Proyeccion Cuotas'!$D49=\"\",\"\",CONCATENATE('Proyeccion Cuotas'!$G49,\"/\",'Proyeccion Cuotas'!$F49,\"/\",'Proyeccion Cuotas'!$E49))","v":"31/10/2027"},{"$f":"IFERROR(IF('Proyeccion Cuotas'!$D49=\"\",\"\",IF(OR('Proyeccion Cuotas'!$F49=7,'Proyeccion Cuotas'!$F49=12),($B$45+(($F$1-$B$47)/$F$3)),(($F$1-$B$47)/$F$3))),0)","v":1111.1111111111111},{"$f":"IFERROR(IF('Proyeccion Cuotas'!$D49=\"\",\"\",(M48*$F$5*'Proyeccion Cuotas'!$K49/365)),\"\")","v":87.101978691020065},{"$f":"+IF('Proyeccion Cuotas'!$D49=\"\",\"\",'Proyeccion Cuotas'!$H49-H48)","v":31},{"$f":"IFERROR('Proyeccion Cuotas'!$I49+'Proyeccion Cuotas'!$J49,\"\")","v":1198.2130898021312},{"$f":"+IFERROR((M48-'Proyeccion Cuotas'!$I49),\"\")","v":13333.333333333381}]
[null,null,null,34,{"$f":"IF('Proyeccion Cuotas'!$D50=\"\",\"\",IF(F49=12,E49+1,E49))","v":2027},{"$f":"IF('Proyeccion Cuotas'!$D50=\"\",\"\",IF(F49=12,1,F49+1))","v":11},{"$f":"+IF('Proyeccion Cuotas'!$D50=\"\",\"\",VLOOKUP('Proyeccion Cuotas'!$F50,$A$16:$B$27,2,FALSE))","v":30},{"$f":"IF('Proyeccion Cuotas'!$D50=\"\",\"\",CONCATENATE('Proyeccion Cuotas'!$G50,\"/\",'Proyeccion Cuotas'!$F50,\"/\",'Proyeccion Cuotas'!$E50))","v":"30/11/2027"},{"$f":"IFERROR(IF('Proyeccion Cuotas'!$D50=\"\",\"\",IF(OR('Proyeccion Cuotas'!$F50=7,'Proyeccion Cuotas'!$F50=12),($B$45+(($F$1-$B$47)/$F$3)),(($F$1-$B$47)/$F$3))),0)","v":1111.1111111111111},{"$f":"IFERROR(IF('Proyeccion Cuotas'!$D50=\"\",\"\",(M49*$F$5*'Proyeccion Cuotas'!$K50/365)),\"\")","v":77.808219178082467},{"$f":"+IF('Proyeccion Cuotas'!$D50=\"\",\"\",'Proyeccion Cuotas'!$H50-H49)","v":30},{"$f":"IFERROR('Proyeccion Cuotas'!$I50+'Proyeccion Cuotas'!$J50,\"\")","v":1188.9193302891936},{"$f":"+IFERROR((M49-'Proyeccion Cuotas'!$I50),\"\")","v":12222.22222222227}]
[null,null,null,35,{"$f":"IF('Proyeccion Cuotas'!$D51=\"\",\"\",IF(F50=12,E50+1,E50))","v":2027},{"$f":"IF('Proyeccion Cuotas'!$D51=\"\",\"\",IF(F50=12,1,F50+1))","v":12},{"$f":"+IF('Proyeccion Cuotas'!$D51=\"\",\"\",VLOOKUP('Proyeccion Cuotas'!$F51,$A$16:$B$27,2,FALSE))","v":31},{"$f":"IF('Proyeccion Cuotas'!$D51=\"\",\"\",CONCATENATE('Proyeccion Cuotas'!$G51,\"/\",'Proyeccion Cuotas'!$F51,\"/\",'Proyeccion Cuotas'!$E51))","v":"31/12/2027"},{"$f":"IFERROR(IF('Proyeccion Cuotas'!$D51=\"\",\"\",IF(OR('Proyeccion Cuotas'!$F51=7,'Proyeccion Cuotas'!$F51=12),($B$45+(($F$1-$B$47)/$F$3)),(($F$1-$B$47)/$F$3))),0)","v":11111.111111111111},{"$f":"IFERROR(IF('Proyeccion Cuotas'!$D51=\"\",\"\",(M50*$F$5*'Proyeccion Cuotas'!$K51/365)),\"\")","v":73.701674277017034},{"$f":"+IF('Proyeccion Cuotas'!$D51=\"\",\"\",'Proyeccion Cuotas'!$H51-H50)","v":31},{"$f":"IFERROR('Proyeccion Cuotas'!$I51+'Proyeccion Cuotas'!$J51,\"\")","v":11184.812785388129},{"$f":"+IFERROR((M50-'Proyeccion Cuotas'!$I51),\"\")","v":1111.1111111111586}]
[null,null,null,36,{"$f":"IF('Proyeccion Cuotas'!$D52=\"\",\"\",IF(F51=12,E51+1,E51))","v":2028},{"$f":"IF('Proyeccion Cuotas'!$D52=\"\",\"\",IF(F51=12,1,F51+1))","v":1},{"$f":"+IF('Proyeccion Cuotas'!$D52=\"\",\"\",VLOOKUP('Proyeccion Cuotas'!$F52,$A$16:$B$27,2,FALSE))","v":31},{"$f":"IF('Proyeccion Cuotas'!$D52=\"\",\"\",CONCATENATE('Proyeccion Cuotas'!$G52,\"/\",'Proyeccion Cuotas'!$F52,\"/\",'Proyeccion Cuotas'!$E52))","v":"31/1/2028"},{"$f":"IFERROR(IF('Proyeccion Cuotas'!$D52=\"\",\"\",IF(OR('Proyeccion Cuotas'!$F52=7,'Proyeccion Cuotas'!$F52=12),($B$45+(($F$1-$B$47)/$F$3)),(($F$1-$B$47)/$F$3))),0)","v":1111.1111111111111},{"$f":"IFERROR(IF('Proyeccion Cuotas'!$D52=\"\",\"\",(M51*$F$5*'Proyeccion Cuotas'!$K52/365)),\"\")","v":6.7001522070018078},{"$f":"+IF('Proyeccion Cuotas'!$D52=\"\",\"\",'Proyeccion Cuotas'!$H52-H51)","v":31},{"$f":"IFERROR('Proyeccion Cuotas'!$I52+'Proyeccion Cuotas'!$J52,\"\")","v":1117.8112633181129},{"$f":"+IFERROR((M51-'Proyeccion Cuotas'!$I52),\"\")","v":4.75210981676355E-11}]
[null,null,null,"",{"$f":"IF('Proyeccion Cuotas'!$D53=\"\",\"\",IF(F52=12,E52+1,E52))","v":""},{"$f":"IF('Proyeccion Cuotas'!$D53=\"\",\"\",IF(F52=12,1,F52+1))","v":""},{"$f":"+IF('Proyeccion Cuotas'!$D53=\"\",\"\",VLOOKUP('Proyeccion Cuotas'!$F53,$A$16:$B$27,2,FALSE))","v":""},{"$f":"IF('Proyeccion Cuotas'!$D53=\"\",\"\",CONCATENATE('Proyeccion Cuotas'!$G53,\"/\",'Proyeccion Cuotas'!$F53,\"/\",'Proyeccion Cuotas'!$E53))","v":""},{"$f":"IFERROR(IF('Proyeccion Cuotas'!$D53=\"\",\"\",IF(OR('Proyeccion Cuotas'!$F53=7,'Proyeccion Cuotas'!$F53=12),($B$45+(($F$1-$B$47)/$F$3)),(($F$1-$B$47)/$F$3))),0)","v":""},{"$f":"IFERROR(IF('Proyeccion Cuotas'!$D53=\"\",\"\",(M52*$F$5*'Proyeccion Cuotas'!$K53/365)),\"\")","v":""},{"$f":"+IF('Proyeccion Cuotas'!$D53=\"\",\"\",'Proyeccion Cuotas'!$H53-H52)","v":""},{"$f":"IFERROR('Proyeccion Cuotas'!$I53+'Proyeccion Cuotas'!$J53,\"\")","v":""},{"$f":"+IFERROR((M52-'Proyeccion Cuotas'!$I53),\"\")","v":""}]
[null,null,null,"",{"$f":"IF('Proyeccion Cuotas'!$D54=\"\",\"\",IF(F53=12,E53+1,E53))","v":""},{"$f":"IF('Proyeccion Cuotas'!$D54=\"\",\"\",IF(F53=12,1,F53+1))","v":""},{"$f":"+IF('Proyeccion Cuotas'!$D54=\"\",\"\",VLOOKUP('Proyeccion Cuotas'!$F54,$A$16:$B$27,2,FALSE))","v":""},{"$f":"IF('Proyeccion Cuotas'!$D54=\"\",\"\",CONCATENATE('Proyeccion Cuotas'!$G54,\"/\",'Proyeccion Cuotas'!$F54,\"/\",'Proyeccion Cuotas'!$E54))","v":""},{"$f":"IFERROR(IF('Proyeccion Cuotas'!$D54=\"\",\"\",IF(OR('Proyeccion Cuotas'!$F54=7,'Proyeccion Cuotas'!$F54=12),($B$45+(($F$1-$B$47)/$F$3)),(($F$1-$B$47)/$F$3))),0)","v":""},{"$f":"IFERROR(IF('Proyeccion Cuotas'!$D54=\"\",\"\",(M53*$F$5*'Proyeccion Cuotas'!$K54/365)),\"\")","v":""},{"$f":"+IF('Proyeccion Cuotas'!$D54=\"\",\"\",'Proyeccion Cuotas'!$H54-H53)","v":""},{"$f":"IFERROR('Proyeccion Cuotas'!$I54+'Proyeccion Cuotas'!$J54,\"\")","v":""},{"$f":"+IFERROR((M53-'Proyeccion Cuotas'!$I54),\"\")","v":""}]
[null,null,null,"",{"$f":"IF('Proyeccion Cuotas'!$D55=\"\",\"\",IF(F54=12,E54+1,E54))","v":""},{"$f":"IF('Proyeccion Cuotas'!$D55=\"\",\"\",IF(F54=12,1,F54+1))","v":""},{"$f":"+IF('Proyeccion Cuotas'!$D55=\"\",\"\",VLOOKUP('Proyeccion Cuotas'!$F55,$A$16:$B$27,2,FALSE))","v":""},{"$f":"IF('Proyeccion Cuotas'!$D55=\"\",\"\",CONCATENATE('Proyeccion Cuotas'!$G55,\"/\",'Proyeccion Cuotas'!$F55,\"/\",'Proyeccion Cuotas'!$E55))","v":""},{"$f":"IFERROR(IF('Proyeccion Cuotas'!$D55=\"\",\"\",IF(OR('Proyeccion Cuotas'!$F55=7,'Proyeccion Cuotas'!$F55=12),($B$45+(($F$1-$B$47)/$F$3)),(($F$1-$B$47)/$F$3))),0)","v":""},{"$f":"IFERROR(IF('Proyeccion Cuotas'!$D55=\"\",\"\",(M54*$F$5*'Proyeccion Cuotas'!$K55/365)),\"\")","v":""},{"$f":"+IF('Proyeccion Cuotas'!$D55=\"\",\"\",'Proyeccion Cuotas'!$H55-H54)","v":""},{"$f":"IFERROR('Proyeccion Cuotas'!$I55+'Proyeccion Cuotas'!$J55,\"\")","v":""},{"$f":"+IFERROR((M54-'Proyeccion Cuotas'!$I55),\"\")","v":""}]
[null,null,null,"",{"$f":"IF('Proyeccion Cuotas'!$D56=\"\",\"\",IF(F55=12,E55+1,E55))","v":""},{"$f":"IF('Proyeccion Cuotas'!$D56=\"\",\"\",IF(F55=12,1,F55+1))","v":""},{"$f":"+IF('Proyeccion Cuotas'!$D56=\"\",\"\",VLOOKUP('Proyeccion Cuotas'!$F56,$A$16:$B$27,2,FALSE))","v":""},{"$f":"IF('Proyeccion Cuotas'!$D56=\"\",\"\",CONCATENATE('Proyeccion Cuotas'!$G56,\"/\",'Proyeccion Cuotas'!$F56,\"/\",'Proyeccion Cuotas'!$E56))","v":""},{"$f":"IFERROR(IF('Proyeccion Cuotas'!$D56=\"\",\"\",IF(OR('Proyeccion Cuotas'!$F56=7,'Proyeccion Cuotas'!$F56=12),($B$45+(($F$1-$B$47)/$F$3)),(($F$1-$B$47)/$F$3))),0)","v":""},{"$f":"IFERROR(IF('Proyeccion Cuotas'!$D56=\"\",\"\",(M55*$F$5*'Proyeccion Cuotas'!$K56/365)),\"\")","v":""},{"$f":"+IF('Proyeccion Cuotas'!$D56=\"\",\"\",'Proyeccion Cuotas'!$H56-H55)","v":""},{"$f":"IFERROR('Proyeccion Cuotas'!$I56+'Proyeccion Cuotas'!$J56,\"\")","v":""},{"$f":"+IFERROR((M55-'Proyeccion Cuotas'!$I56),\"\")","v":""}]
[null,null,null,"",{"$f":"IF('Proyeccion Cuotas'!$D57=\"\",\"\",IF(F56=12,E56+1,E56))","v":""},{"$f":"IF('Proyeccion Cuotas'!$D57=\"\",\"\",IF(F56=12,1,F56+1))","v":""},{"$f":"+IF('Proyeccion Cuotas'!$D57=\"\",\"\",VLOOKUP('Proyeccion Cuotas'!$F57,$A$16:$B$27,2,FALSE))","v":""},{"$f":"IF('Proyeccion Cuotas'!$D57=\"\",\"\",CONCATENATE('Proyeccion Cuotas'!$G57,\"/\",'Proyeccion Cuotas'!$F57,\"/\",'Proyeccion Cuotas'!$E57))","v":""},{"$f":"IFERROR(IF('Proyeccion Cuotas'!$D57=\"\",\"\",IF(OR('Proyeccion Cuotas'!$F57=7,'Proyeccion Cuotas'!$F57=12),($B$45+(($F$1-$B$47)/$F$3)),(($F$1-$B$47)/$F$3))),0)","v":""},{"$f":"IFERROR(IF('Proyeccion Cuotas'!$D57=\"\",\"\",(M56*$F$5*'Proyeccion Cuotas'!$K57/365)),\"\")","v":""},{"$f":"+IF('Proyeccion Cuotas'!$D57=\"\",\"\",'Proyeccion Cuotas'!$H57-H56)","v":""},{"$f":"IFERROR('Proyeccion Cuotas'!$I57+'Proyeccion Cuotas'!$J57,\"\")","v":""},{"$f":"+IFERROR((M56-'Proyeccion Cuotas'!$I57),\"\")","v":""}]
[null,null,null,"",{"$f":"IF('Proyeccion Cuotas'!$D58=\"\",\"\",IF(F57=12,E57+1,E57))","v":""},{"$f":"IF('Proyeccion Cuotas'!$D58=\"\",\"\",IF(F57=12,1,F57+1))","v":""},{"$f":"+IF('Proyeccion Cuotas'!$D58=\"\",\"\",VLOOKUP('Proyeccion Cuotas'!$F58,$A$16:$B$27,2,FALSE))","v":""},{"$f":"IF('Proyeccion Cuotas'!$D58=\"\",\"\",CONCATENATE('Proyeccion Cuotas'!$G58,\"/\",'Proyeccion Cuotas'!$F58,\"/\",'Proyeccion Cuotas'!$E58))","v":""},{"$f":"IFERROR(IF('Proyeccion Cuotas'!$D58=\"\",\"\",IF(OR('Proyeccion Cuotas'!$F58=7,'Proyeccion Cuotas'!$F58=12),($B$45+(($F$1-$B$47)/$F$3)),(($F$1-$B$47)/$F$3))),0)","v":""},{"$f":"IFERROR(IF('Proyeccion Cuotas'!$D58=\"\",\"\",(M57*$F$5*'Proyeccion Cuotas'!$K58/365)),\"\")","v":""},{"$f":"+IF('Proyeccion Cuotas'!$D58=\"\",\"\",'Proyeccion Cuotas'!$H58-H57)","v":""},{"$f":"IFERROR('Proyeccion Cuotas'!$I58+'Proyeccion Cuotas'!$J58,\"\")","v":""},{"$f":"+IFERROR((M57-'Proyeccion Cuotas'!$I58),\"\")","v":""}]
[null,null,null,"",{"$f":"IF('Proyeccion Cuotas'!$D59=\"\",\"\",IF(F58=12,E58+1,E58))","v":""},{"$f":"IF('Proyeccion Cuotas'!$D59=\"\",\"\",IF(F58=12,1,F58+1))","v":""},{"$f":"+IF('Proyeccion Cuotas'!$D59=\"\",\"\",VLOOKUP('Proyeccion Cuotas'!$F59,$A$16:$B$27,2,FALSE))","v":""},{"$f":"IF('Proyeccion Cuotas'!$D59=\"\",\"\",CONCATENATE('Proyeccion Cuotas'!$G59,\"/\",'Proyeccion Cuotas'!$F59,\"/\",'Proyeccion Cuotas'!$E59))","v":""},{"$f":"IFERROR(IF('Proyeccion Cuotas'!$D59=\"\",\"\",IF(OR('Proyeccion Cuotas'!$F59=7,'Proyeccion Cuotas'!$F59=12),($B$45+(($F$1-$B$47)/$F$3)),(($F$1-$B$47)/$F$3))),0)","v":""},{"$f":"IFERROR(IF('Proyeccion Cuotas'!$D59=\"\",\"\",(M58*$F$5*'Proyeccion Cuotas'!$K59/365)),\"\")","v":""},{"$f":"+IF('Proyeccion Cuotas'!$D59=\"\",\"\",'Proyeccion Cuotas'!$H59-H58)","v":""},{"$f":"IFERROR('Proyeccion Cuotas'!$I59+'Proyeccion Cuotas'!$J59,\"\")","v":""},{"$f":"+IFERROR((M58-'Proyeccion Cuotas'!$I59),\"\")","v":""}]
[null,null,null,"",{"$f":"IF('Proyeccion Cuotas'!$D60=\"\",\"\",IF(F59=12,E59+1,E59))","v":""},{"$f":"IF('Proyeccion Cuotas'!$D60=\"\",\"\",IF(F59=12,1,F59+1))","v":""},{"$f":"+IF('Proyeccion Cuotas'!$D60=\"\",\"\",VLOOKUP('Proyeccion Cuotas'!$F60,$A$16:$B$27,2,FALSE))","v":""},{"$f":"IF('Proyeccion Cuotas'!$D60=\"\",\"\",CONCATENATE('Proyeccion Cuotas'!$G60,\"/\",'Proyeccion Cuotas'!$F60,\"/\",'Proyeccion Cuotas'!$E60))","v":""},{"$f":"IFERROR(IF('Proyeccion Cuotas'!$D60=\"\",\"\",IF(OR('Proyeccion Cuotas'!$F60=7,'Proyeccion Cuotas'!$F60=12),($B$45+(($F$1-$B$47)/$F$3)),(($F$1-$B$47)/$F$3))),0)","v":""},{"$f":"IFERROR(IF('Proyeccion Cuotas'!$D60=\"\",\"\",(M59*$F$5*'Proyeccion Cuotas'!$K60/365)),\"\")","v":""},{"$f":"+IF('Proyeccion Cuotas'!$D60=\"\",\"\",'Proyeccion Cuotas'!$H60-H59)","v":""},{"$f":"IFERROR('Proyeccion Cuotas'!$I60+'Proyeccion Cuotas'!$J60,\"\")","v":""},{"$f":"+IFERROR((M59-'Proyeccion Cuotas'!$I60),\"\")","v":""}]
[null,null,null,"",{"$f":"IF('Proyeccion Cuotas'!$D61=\"\",\"\",IF(F60=12,E60+1,E60))","v":""},{"$f":"IF('Proyeccion Cuotas'!$D61=\"\",\"\",IF(F60=12,1,F60+1))","v":""},{"$f":"+IF('Proyeccion Cuotas'!$D61=\"\",\"\",VLOOKUP('Proyeccion Cuotas'!$F61,$A$16:$B$27,2,FALSE))","v":""},{"$f":"IF('Proyeccion Cuotas'!$D61=\"\",\"\",CONCATENATE('Proyeccion Cuotas'!$G61,\"/\",'Proyeccion Cuotas'!$F61,\"/\",'Proyeccion Cuotas'!$E61))","v":""},{"$f":"IFERROR(IF('Proyeccion Cuotas'!$D61=\"\",\"\",IF(OR('Proyeccion Cuotas'!$F61=7,'Proyeccion Cuotas'!$F61=12),($B$45+(($F$1-$B$47)/$F$3)),(($F$1-$B$47)/$F$3))),0)","v":""},{"$f":"IFERROR(IF('Proyeccion Cuotas'!$D61=\"\",\"\",(M60*$F$5*'Proyeccion Cuotas'!$K61/365)),\"\")","v":""},{"$f":"+IF('Proyeccion Cuotas'!$D61=\"\",\"\",'Proyeccion Cuotas'!$H61-H60)","v":""},{"$f":"IFERROR('Proyeccion Cuotas'!$I61+'Proyeccion Cuotas'!$J61,\"\")","v":""},{"$f":"+IFERROR((M60-'Proyeccion Cuotas'!$I61),\"\")","v":""}]
[null,null,null,"",{"$f":"IF('Proyeccion Cuotas'!$D62=\"\",\"\",IF(F61=12,E61+1,E61))","v":""},{"$f":"IF('Proyeccion Cuotas'!$D62=\"\",\"\",IF(F61=12,1,F61+1))","v":""},{"$f":"+IF('Proyeccion Cuotas'!$D62=\"\",\"\",VLOOKUP('Proyeccion Cuotas'!$F62,$A$16:$B$27,2,FALSE))","v":""},{"$f":"IF('Proyeccion Cuotas'!$D62=\"\",\"\",CONCATENATE('Proyeccion Cuotas'!$G62,\"/\",'Proyeccion Cuotas'!$F62,\"/\",'Proyeccion Cuotas'!$E62))","v":""},{"$f":"IFERROR(IF('Proyeccion Cuotas'!$D62=\"\",\"\",IF(OR('Proyeccion Cuotas'!$F62=7,'Proyeccion Cuotas'!$F62=12),($B$45+(($F$1-$B$47)/$F$3)),(($F$1-$B$47)/$F$3))),0)","v":""},{"$f":"IFERROR(IF('Proyeccion Cuotas'!$D62=\"\",\"\",(M61*$F$5*'Proyeccion Cuotas'!$K62/365)),\"\")","v":""},{"$f":"+IF('Proyeccion Cuotas'!$D62=\"\",\"\",'Proyeccion Cuotas'!$H62-H61)","v":""},{"$f":"IFERROR('Proyeccion Cuotas'!$I62+'Proyeccion Cuotas'!$J62,\"\")","v":""},{"$f":"+IFERROR((M61-'Proyeccion Cuotas'!$I62),\"\")","v":""}]
[null,null,null,"",{"$f":"IF('Proyeccion Cuotas'!$D63=\"\",\"\",IF(F62=12,E62+1,E62))","v":""},{"$f":"IF('Proyeccion Cuotas'!$D63=\"\",\"\",IF(F62=12,1,F62+1))","v":""},{"$f":"+IF('Proyeccion Cuotas'!$D63=\"\",\"\",VLOOKUP('Proyeccion Cuotas'!$F63,$A$16:$B$27,2,FALSE))","v":""},{"$f":"IF('Proyeccion Cuotas'!$D63=\"\",\"\",CONCATENATE('Proyeccion Cuotas'!$G63,\"/\",'Proyeccion Cuotas'!$F63,\"/\",'Proyeccion Cuotas'!$E63))","v":""},{"$f":"IFERROR(IF('Proyeccion Cuotas'!$D63=\"\",\"\",IF(OR('Proyeccion Cuotas'!$F63=7,'Proyeccion Cuotas'!$F63=12),($B$45+(($F$1-$B$47)/$F$3)),(($F$1-$B$47)/$F$3))),0)","v":""},{"$f":"IFERROR(IF('Proyeccion Cuotas'!$D63=\"\",\"\",(M62*$F$5*'Proyeccion Cuotas'!$K63/365)),\"\")","v":""},{"$f":"+IF('Proyeccion Cuotas'!$D63=\"\",\"\",'Proyeccion Cuotas'!$H63-H62)","v":""},{"$f":"IFERROR('Proyeccion Cuotas'!$I63+'Proyeccion Cuotas'!$J63,\"\")","v":""},{"$f":"+IFERROR((M62-'Proyeccion Cuotas'!$I63),\"\")","v":""}]
[null,null,null,"",{"$f":"IF('Proyeccion Cuotas'!$D64=\"\",\"\",IF(F63=12,E63+1,E63))","v":""},{"$f":"IF('Proyeccion Cuotas'!$D64=\"\",\"\",IF(F63=12,1,F63+1))","v":""},{"$f":"+IF('Proyeccion Cuotas'!$D64=\"\",\"\",VLOOKUP('Proyeccion Cuotas'!$F64,$A$16:$B$27,2,FALSE))","v":""},{"$f":"IF('Proyeccion Cuotas'!$D64=\"\",\"\",CONCATENATE('Proyeccion Cuotas'!$G64,\"/\",'Proyeccion Cuotas'!$F64,\"/\",'Proyeccion Cuotas'!$E64))","v":""},{"$f":"IFERROR(IF('Proyeccion Cuotas'!$D64=\"\",\"\",IF(OR('Proyeccion Cuotas'!$F64=7,'Proyeccion Cuotas'!$F64=12),($B$45+(($F$1-$B$47)/$F$3)),(($F$1-$B$47)/$F$3))),0)","v":""},{"$f":"IFERROR(IF('Proyeccion Cuotas'!$D64=\"\",\"\",(M63*$F$5*'Proyeccion Cuotas'!$K64/365)),\"\")","v":""},{"$f":"+IF('Proyeccion Cuotas'!$D64=\"\",\"\",'Proyeccion Cuotas'!$H64-H63)","v":""},{"$f":"IFERROR('Proyeccion Cuotas'!$I64+'Proyeccion Cuotas'!$J64,\"\")","v":""},{"$f":"+IFERROR((M63-'Proyeccion Cuotas'!$I64),\"\")","v":""}]
[null,null,null,"",{"$f":"IF('Proyeccion Cuotas'!$D65=\"\",\"\",IF(F64=12,E64+1,E64))","v":""},{"$f":"IF('Proyeccion Cuotas'!$D65=\"\",\"\",IF(F64=12,1,F64+1))","v":""},{"$f":"+IF('Proyeccion Cuotas'!$D65=\"\",\"\",VLOOKUP('Proyeccion Cuotas'!$F65,$A$16:$B$27,2,FALSE))","v":""},{"$f":"IF('Proyeccion Cuotas'!$D65=\"\",\"\",CONCATENATE('Proyeccion Cuotas'!$G65,\"/\",'Proyeccion Cuotas'!$F65,\"/\",'Proyeccion Cuotas'!$E65))","v":""},{"$f":"IFERROR(IF('Proyeccion Cuotas'!$D65=\"\",\"\",IF(OR('Proyeccion Cuotas'!$F65=7,'Proyeccion Cuotas'!$F65=12),($B$45+(($F$1-$B$47)/$F$3)),(($F$1-$B$47)/$F$3))),0)","v":""},{"$f":"IFERROR(IF('Proyeccion Cuotas'!$D65=\"\",\"\",(M64*$F$5*'Proyeccion Cuotas'!$K65/365)),\"\")","v":""},{"$f":"+IF('Proyeccion Cuotas'!$D65=\"\",\"\",'Proyeccion Cuotas'!$H65-H64)","v":""},{"$f":"IFERROR('Proyeccion Cuotas'!$I65+'Proyeccion Cuotas'!$J65,\"\")","v":""},{"$f":"+IFERROR((M64-'Proyeccion Cuotas'!$I65),\"\")","v":""}]
[null,null,null,"",{"$f":"IF('Proyeccion Cuotas'!$D66=\"\",\"\",IF(F65=12,E65+1,E65))","v":""},{"$f":"IF('Proyeccion Cuotas'!$D66=\"\",\"\",IF(F65=12,1,F65+1))","v":""},{"$f":"+IF('Proyeccion Cuotas'!$D66=\"\",\"\",VLOOKUP('Proyeccion Cuotas'!$F66,$A$16:$B$27,2,FALSE))","v":""},{"$f":"IF('Proyeccion Cuotas'!$D66=\"\",\"\",CONCATENATE('Proyeccion Cuotas'!$G66,\"/\",'Proyeccion Cuotas'!$F66,\"/\",'Proyeccion Cuotas'!$E66))","v":""},{"$f":"IFERROR(IF('Proyeccion Cuotas'!$D66=\"\",\"\",IF(OR('Proyeccion Cuotas'!$F66=7,'Proyeccion Cuotas'!$F66=12),($B$45+(($F$1-$B$47)/$F$3)),(($F$1-$B$47)/$F$3))),0)","v":""},{"$f":"IFERROR(IF('Proyeccion Cuotas'!$D66=\"\",\"\",(M65*$F$5*'Proyeccion Cuotas'!$K66/365)),\"\")","v":""},{"$f":"+IF('Proyeccion Cuotas'!$D66=\"\",\"\",'Proyeccion Cuotas'!$H66-H65)","v":""},{"$f":"IFERROR('Proyeccion Cuotas'!$I66+'Proyeccion Cuotas'!$J66,\"\")","v":""},{"$f":"+IFERROR((M65-'Proyeccion Cuotas'!$I66),\"\")","v":""}]
[null,null,null,"",{"$f":"IF('Proyeccion Cuotas'!$D67=\"\",\"\",IF(F66=12,E66+1,E66))","v":""},{"$f":"IF('Proyeccion Cuotas'!$D67=\"\",\"\",IF(F66=12,1,F66+1))","v":""},{"$f":"+IF('Proyeccion Cuotas'!$D67=\"\",\"\",VLOOKUP('Proyeccion Cuotas'!$F67,$A$16:$B$27,2,FALSE))","v":""},{"$f":"IF('Proyeccion Cuotas'!$D67=\"\",\"\",CONCATENATE('Proyeccion Cuotas'!$G67,\"/\",'Proyeccion Cuotas'!$F67,\"/\",'Proyeccion Cuotas'!$E67))","v":""},{"$f":"IFERROR(IF('Proyeccion Cuotas'!$D67=\"\",\"\",IF(OR('Proyeccion Cuotas'!$F67=7,'Proyeccion Cuotas'!$F67=12),($B$45+(($F$1-$B$47)/$F$3)),(($F$1-$B$47)/$F$3))),0)","v":""},{"$f":"IFERROR(IF('Proyeccion Cuotas'!$D67=\"\",\"\",(M66*$F$5*'Proyeccion Cuotas'!$K67/365)),\"\")","v":""},{"$f":"+IF('Proyeccion Cuotas'!$D67=\"\",\"\",'Proyeccion Cuotas'!$H67-H66)","v":""},{"$f":"IFERROR('Proyeccion Cuotas'!$I67+'Proyeccion Cuotas'!$J67,\"\")","v":""},{"$f":"+IFERROR((M66-'Proyeccion Cuotas'!$I67),\"\")","v":""}]
[null,null,null,"",{"$f":"IF('Proyeccion Cuotas'!$D68=\"\",\"\",IF(F67=12,E67+1,E67))","v":""},{"$f":"IF('Proyeccion Cuotas'!$D68=\"\",\"\",IF(F67=12,1,F67+1))","v":""},{"$f":"+IF('Proyeccion Cuotas'!$D68=\"\",\"\",VLOOKUP('Proyeccion Cuotas'!$F68,$A$16:$B$27,2,FALSE))","v":""},{"$f":"IF('Proyeccion Cuotas'!$D68=\"\",\"\",CONCATENATE('Proyeccion Cuotas'!$G68,\"/\",'Proyeccion Cuotas'!$F68,\"/\",'Proyeccion Cuotas'!$E68))","v":""},{"$f":"IFERROR(IF('Proyeccion Cuotas'!$D68=\"\",\"\",IF(OR('Proyeccion Cuotas'!$F68=7,'Proyeccion Cuotas'!$F68=12),($B$45+(($F$1-$B$47)/$F$3)),(($F$1-$B$47)/$F$3))),0)","v":""},{"$f":"IFERROR(IF('Proyeccion Cuotas'!$D68=\"\",\"\",(M67*$F$5*'Proyeccion Cuotas'!$K68/365)),\"\")","v":""},{"$f":"+IF('Proyeccion Cuotas'!$D68=\"\",\"\",'Proyeccion Cuotas'!$H68-H67)","v":""},{"$f":"IFERROR('Proyeccion Cuotas'!$I68+'Proyeccion Cuotas'!$J68,\"\")","v":""},{"$f":"+IFERROR((M67-'Proyeccion Cuotas'!$I68),\"\")","v":""}]
[null,null,null,"",{"$f":"IF('Proyeccion Cuotas'!$D69=\"\",\"\",IF(F68=12,E68+1,E68))","v":""},{"$f":"IF('Proyeccion Cuotas'!$D69=\"\",\"\",IF(F68=12,1,F68+1))","v":""},{"$f":"+IF('Proyeccion Cuotas'!$D69=\"\",\"\",VLOOKUP('Proyeccion Cuotas'!$F69,$A$16:$B$27,2,FALSE))","v":""},{"$f":"IF('Proyeccion Cuotas'!$D69=\"\",\"\",CONCATENATE('Proyeccion Cuotas'!$G69,\"/\",'Proyeccion Cuotas'!$F69,\"/\",'Proyeccion Cuotas'!$E69))","v":""},{"$f":"IFERROR(IF('Proyeccion Cuotas'!$D69=\"\",\"\",IF(OR('Proyeccion Cuotas'!$F69=7,'Proyeccion Cuotas'!$F69=12),($B$45+(($F$1-$B$47)/$F$3)),(($F$1-$B$47)/$F$3))),0)","v":""},{"$f":"IFERROR(IF('Proyeccion Cuotas'!$D69=\"\",\"\",(M68*$F$5*'Proyeccion Cuotas'!$K69/365)),\"\")","v":""},{"$f":"+IF('Proyeccion Cuotas'!$D69=\"\",\"\",'Proyeccion Cuotas'!$H69-H68)","v":""},{"$f":"IFERROR('Proyeccion Cuotas'!$I69+'Proyeccion Cuotas'!$J69,\"\")","v":""},{"$f":"+IFERROR((M68-'Proyeccion Cuotas'!$I69),\"\")","v":""}]
[null,null,null,"",{"$f":"IF('Proyeccion Cuotas'!$D70=\"\",\"\",IF(F69=12,E69+1,E69))","v":""},{"$f":"IF('Proyeccion Cuotas'!$D70=\"\",\"\",IF(F69=12,1,F69+1))","v":""},{"$f":"+IF('Proyeccion Cuotas'!$D70=\"\",\"\",VLOOKUP('Proyeccion Cuotas'!$F70,$A$16:$B$27,2,FALSE))","v":""},{"$f":"IF('Proyeccion Cuotas'!$D70=\"\",\"\",CONCATENATE('Proyeccion Cuotas'!$G70,\"/\",'Proyeccion Cuotas'!$F70,\"/\",'Proyeccion Cuotas'!$E70))","v":""},{"$f":"IFERROR(IF('Proyeccion Cuotas'!$D70=\"\",\"\",IF(OR('Proyeccion Cuotas'!$F70=7,'Proyeccion Cuotas'!$F70=12),($B$45+(($F$1-$B$47)/$F$3)),(($F$1-$B$47)/$F$3))),0)","v":""},{"$f":"IFERROR(IF('Proyeccion Cuotas'!$D70=\"\",\"\",(M69*$F$5*'Proyeccion Cuotas'!$K70/365)),\"\")","v":""},{"$f":"+IF('Proyeccion Cuotas'!$D70=\"\",\"\",'Proyeccion Cuotas'!$H70-H69)","v":""},{"$f":"IFERROR('Proyeccion Cuotas'!$I70+'Proyeccion Cuotas'!$J70,\"\")","v":""},{"$f":"+IFERROR((M69-'Proyeccion Cuotas'!$I70),\"\")","v":""}]
[null,null,null,"",{"$f":"IF('Proyeccion Cuotas'!$D71=\"\",\"\",IF(F70=12,E70+1,E70))","v":""},{"$f":"IF('Proyeccion Cuotas'!$D71=\"\",\"\",IF(F70=12,1,F70+1))","v":""},{"$f":"+IF('Proyeccion Cuotas'!$D71=\"\",\"\",VLOOKUP('Proyeccion Cuotas'!$F71,$A$16:$B$27,2,FALSE))","v":""},{"$f":"IF('Proyeccion Cuotas'!$D71=\"\",\"\",CONCATENATE('Proyeccion Cuotas'!$G71,\"/\",'Proyeccion Cuotas'!$F71,\"/\",'Proyeccion Cuotas'!$E71))","v":""},{"$f":"IFERROR(IF('Proyeccion Cuotas'!$D71=\"\",\"\",IF(OR('Proyeccion Cuotas'!$F71=7,'Proyeccion Cuotas'!$F71=12),($B$45+(($F$1-$B$47)/$F$3)),(($F$1-$B$47)/$F$3))),0)","v":""},{"$f":"IFERROR(IF('Proyeccion Cuotas'!$D71=\"\",\"\",(M70*$F$5*'Proyeccion Cuotas'!$K71/365)),\"\")","v":""},{"$f":"+IF('Proyeccion Cuotas'!$D71=\"\",\"\",'Proyeccion Cuotas'!$H71-H70)","v":""},{"$f":"IFERROR('Proyeccion Cuotas'!$I71+'Proyeccion Cuotas'!$J71,\"\")","v":""},{"$f":"+IFERROR((M70-'Proyeccion Cuotas'!$I71),\"\")","v":""}]
[null,null,null,"",{"$f":"IF('Proyeccion Cuotas'!$D72=\"\",\"\",IF(F71=12,E71+1,E71))","v":""},{"$f":"IF('Proyeccion Cuotas'!$D72=\"\",\"\",IF(F71=12,1,F71+1))","v":""},{"$f":"+IF('Proyeccion Cuotas'!$D72=\"\",\"\",VLOOKUP('Proyeccion Cuotas'!$F72,$A$16:$B$27,2,FALSE))","v":""},{"$f":"IF('Proyeccion Cuotas'!$D72=\"\",\"\",CONCATENATE('Proyeccion Cuotas'!$G72,\"/\",'Proyeccion Cuotas'!$F72,\"/\",'Proyeccion Cuotas'!$E72))","v":""},{"$f":"IFERROR(IF('Proyeccion Cuotas'!$D72=\"\",\"\",IF(OR('Proyeccion Cuotas'!$F72=7,'Proyeccion Cuotas'!$F72=12),($B$45+(($F$1-$B$47)/$F$3)),(($F$1-$B$47)/$F$3))),0)","v":""},{"$f":"IFERROR(IF('Proyeccion Cuotas'!$D72=\"\",\"\",(M71*$F$5*'Proyeccion Cuotas'!$K72/365)),\"\")","v":""},{"$f":"+IF('Proyeccion Cuotas'!$D72=\"\",\"\",'Proyeccion Cuotas'!$H72-H71)","v":""},{"$f":"IFERROR('Proyeccion Cuotas'!$I72+'Proyeccion Cuotas'!$J72,\"\")","v":""},{"$f":"+IFERROR((M71-'Proyeccion Cuotas'!$I72),\"\")","v":""}]
[null,null,null,"",{"$f":"IF('Proyeccion Cuotas'!$D73=\"\",\"\",IF(F72=12,E72+1,E72))","v":""},{"$f":"IF('Proyeccion Cuotas'!$D73=\"\",\"\",IF(F72=12,1,F72+1))","v":""},{"$f":"+IF('Proyeccion Cuotas'!$D73=\"\",\"\",VLOOKUP('Proyeccion Cuotas'!$F73,$A$16:$B$27,2,FALSE))","v":""},{"$f":"IF('Proyeccion Cuotas'!$D73=\"\",\"\",CONCATENATE('Proyeccion Cuotas'!$G73,\"/\",'Proyeccion Cuotas'!$F73,\"/\",'Proyeccion Cuotas'!$E73))","v":""},{"$f":"IFERROR(IF('Proyeccion Cuotas'!$D73=\"\",\"\",IF(OR('Proyeccion Cuotas'!$F73=7,'Proyeccion Cuotas'!$F73=12),($B$45+(($F$1-$B$47)/$F$3)),(($F$1-$B$47)/$F$3))),0)","v":""},{"$f":"IFERROR(IF('Proyeccion Cuotas'!$D73=\"\",\"\",(M72*$F$5*'Proyeccion Cuotas'!$K73/365)),\"\")","v":""},{"$f":"+IF('Proyeccion Cuotas'!$D73=\"\",\"\",'Proyeccion Cuotas'!$H73-H72)","v":""},{"$f":"IFERROR('Proyeccion Cuotas'!$I73+'Proyeccion Cuotas'!$J73,\"\")","v":""},{"$f":"+IFERROR((M72-'Proyeccion Cuotas'!$I73),\"\")","v":""}]
[null,null,null,"",{"$f":"IF('Proyeccion Cuotas'!$D74=\"\",\"\",IF(F73=12,E73+1,E73))","v":""},{"$f":"IF('Proyeccion Cuotas'!$D74=\"\",\"\",IF(F73=12,1,F73+1))","v":""},{"$f":"+IF('Proyeccion Cuotas'!$D74=\"\",\"\",VLOOKUP('Proyeccion Cuotas'!$F74,$A$16:$B$27,2,FALSE))","v":""},{"$f":"IF('Proyeccion Cuotas'!$D74=\"\",\"\",CONCATENATE('Proyeccion Cuotas'!$G74,\"/\",'Proyeccion Cuotas'!$F74,\"/\",'Proyeccion Cuotas'!$E74))","v":""},{"$f":"IFERROR(IF('Proyeccion Cuotas'!$D74=\"\",\"\",IF(OR('Proyeccion Cuotas'!$F74=7,'Proyeccion Cuotas'!$F74=12),($B$45+(($F$1-$B$47)/$F$3)),(($F$1-$B$47)/$F$3))),0)","v":""},{"$f":"IFERROR(IF('Proyeccion Cuotas'!$D74=\"\",\"\",(M73*$F$5*'Proyeccion Cuotas'!$K74/365)),\"\")","v":""},{"$f":"+IF('Proyeccion Cuotas'!$D74=\"\",\"\",'Proyeccion Cuotas'!$H74-H73)","v":""},{"$f":"IFERROR('Proyeccion Cuotas'!$I74+'Proyeccion Cuotas'!$J74,\"\")","v":""},{"$f":"+IFERROR((M73-'Proyeccion Cuotas'!$I74),\"\")","v":""}]
[null,null,null,"",{"$f":"IF('Proyeccion Cuotas'!$D75=\"\",\"\",IF(F74=12,E74+1,E74))","v":""},{"$f":"IF('Proyeccion Cuotas'!$D75=\"\",\"\",IF(F74=12,1,F74+1))","v":""},{"$f":"+IF('Proyeccion Cuotas'!$D75=\"\",\"\",VLOOKUP('Proyeccion Cuotas'!$F75,$A$16:$B$27,2,FALSE))","v":""},{"$f":"IF('Proyeccion Cuotas'!$D75=\"\",\"\",CONCATENATE('Proyeccion Cuotas'!$G75,\"/\",'Proyeccion Cuotas'!$F75,\"/\",'Proyeccion Cuotas'!$E75))","v":""},{"$f":"IFERROR(IF('Proyeccion Cuotas'!$D75=\"\",\"\",IF(OR('Proyeccion Cuotas'!$F75=7,'Proyeccion Cuotas'!$F75=12),($B$45+(($F$1-$B$47)/$F$3)),(($F$1-$B$47)/$F$3))),0)","v":""},{"$f":"IFERROR(IF('Proyeccion Cuotas'!$D75=\"\",\"\",(M74*$F$5*'Proyeccion Cuotas'!$K75/365)),\"\")","v":""},{"$f":"+IF('Proyeccion Cuotas'!$D75=\"\",\"\",'Proyeccion Cuotas'!$H75-H74)","v":""},{"$f":"IFERROR('Proyeccion Cuotas'!$I75+'Proyeccion Cuotas'!$J75,\"\")","v":""},{"$f":"+IFERROR((M74-'Proyeccion Cuotas'!$I75),\"\")","v":""}]
[null,null,null,"",{"$f":"IF('Proyeccion Cuotas'!$D76=\"\",\"\",IF(F75=12,E75+1,E75))","v":""},{"$f":"IF('Proyeccion Cuotas'!$D76=\"\",\"\",IF(F75=12,1,F75+1))","v":""},{"$f":"+IF('Proyeccion Cuotas'!$D76=\"\",\"\",VLOOKUP('Proyeccion Cuotas'!$F76,$A$16:$B$27,2,FALSE))","v":""},{"$f":"IF('Proyeccion Cuotas'!$D76=\"\",\"\",CONCATENATE('Proyeccion Cuotas'!$G76,\"/\",'Proyeccion Cuotas'!$F76,\"/\",'Proyeccion Cuotas'!$E76))","v":""},{"$f":"IFERROR(IF('Proyeccion Cuotas'!$D76=\"\",\"\",IF(OR('Proyeccion Cuotas'!$F76=7,'Proyeccion Cuotas'!$F76=12),($B$45+(($F$1-$B$47)/$F$3)),(($F$1-$B$47)/$F$3))),0)","v":""},{"$f":"IFERROR(IF('Proyeccion Cuotas'!$D76=\"\",\"\",(M75*$F$5*'Proyeccion Cuotas'!$K76/365)),\"\")","v":""},{"$f":"+IF('Proyeccion Cuotas'!$D76=\"\",\"\",'Proyeccion Cuotas'!$H76-H75)","v":""},{"$f":"IFERROR('Proyeccion Cuotas'!$I76+'Proyeccion Cuotas'!$J76,\"\")","v":""},{"$f":"+IFERROR((M75-'Proyeccion Cuotas'!$I76),\"\")","v":""}]
[null,null,null,"",{"$f":"IF('Proyeccion Cuotas'!$D77=\"\",\"\",IF(F76=12,E76+1,E76))","v":""},{"$f":"IF('Proyeccion Cuotas'!$D77=\"\",\"\",IF(F76=12,1,F76+1))","v":""},{"$f":"+IF('Proyeccion Cuotas'!$D77=\"\",\"\",VLOOKUP('Proyeccion Cuotas'!$F77,$A$16:$B$27,2,FALSE))","v":""},{"$f":"IF('Proyeccion Cuotas'!$D77=\"\",\"\",CONCATENATE('Proyeccion Cuotas'!$G77,\"/\",'Proyeccion Cuotas'!$F77,\"/\",'Proyeccion Cuotas'!$E77))","v":""},{"$f":"IFERROR(IF('Proyeccion Cuotas'!$D77=\"\",\"\",IF(OR('Proyeccion Cuotas'!$F77=7,'Proyeccion Cuotas'!$F77=12),($B$45+(($F$1-$B$47)/$F$3)),(($F$1-$B$47)/$F$3))),0)","v":""},{"$f":"IFERROR(IF('Proyeccion Cuotas'!$D77=\"\",\"\",(M76*$F$5*'Proyeccion Cuotas'!$K77/365)),\"\")","v":""},{"$f":"+IF('Proyeccion Cuotas'!$D77=\"\",\"\",'Proyeccion Cuotas'!$H77-H76)","v":""},{"$f":"IFERROR('Proyeccion Cuotas'!$I77+'Proyeccion Cuotas'!$J77,\"\")","v":""},{"$f":"+IFERROR((M76-'Proyeccion Cuotas'!$I77),\"\")","v":""}]
[null,null,null,"",{"$f":"IF('Proyeccion Cuotas'!$D78=\"\",\"\",IF(F77=12,E77+1,E77))","v":""},{"$f":"IF('Proyeccion Cuotas'!$D78=\"\",\"\",IF(F77=12,1,F77+1))","v":""},{"$f":"+IF('Proyeccion Cuotas'!$D78=\"\",\"\",VLOOKUP('Proyeccion Cuotas'!$F78,$A$16:$B$27,2,FALSE))","v":""},{"$f":"IF('Proyeccion Cuotas'!$D78=\"\",\"\",CONCATENATE('Proyeccion Cuotas'!$G78,\"/\",'Proyeccion Cuotas'!$F78,\"/\",'Proyeccion Cuotas'!$E78))","v":""},{"$f":"IFERROR(IF('Proyeccion Cuotas'!$D78=\"\",\"\",IF(OR('Proyeccion Cuotas'!$F78=7,'Proyeccion Cuotas'!$F78=12),($B$45+(($F$1-$B$47)/$F$3)),(($F$1-$B$47)/$F$3))),0)","v":""},{"$f":"IFERROR(IF('Proyeccion Cuotas'!$D78=\"\",\"\",(M77*$F$5*'Proyeccion Cuotas'!$K78/365)),\"\")","v":""},{"$f":"+IF('Proyeccion Cuotas'!$D78=\"\",\"\",'Proyeccion Cuotas'!$H78-H77)","v":""},{"$f":"IFERROR('Proyeccion Cuotas'!$I78+'Proyeccion Cuotas'!$J78,\"\")","v":""},{"$f":"+IFERROR((M77-'Proyeccion Cuotas'!$I78),\"\")","v":""}]
[null,null,null,"",{"$f":"IF('Proyeccion Cuotas'!$D79=\"\",\"\",IF(F78=12,E78+1,E78))","v":""},{"$f":"IF('Proyeccion Cuotas'!$D79=\"\",\"\",IF(F78=12,1,F78+1))","v":""},{"$f":"+IF('Proyeccion Cuotas'!$D79=\"\",\"\",VLOOKUP('Proyeccion Cuotas'!$F79,$A$16:$B$27,2,FALSE))","v":""},{"$f":"IF('Proyeccion Cuotas'!$D79=\"\",\"\",CONCATENATE('Proyeccion Cuotas'!$G79,\"/\",'Proyeccion Cuotas'!$F79,\"/\",'Proyeccion Cuotas'!$E79))","v":""},{"$f":"IFERROR(IF('Proyeccion Cuotas'!$D79=\"\",\"\",IF(OR('Proyeccion Cuotas'!$F79=7,'Proyeccion Cuotas'!$F79=12),($B$45+(($F$1-$B$47)/$F$3)),(($F$1-$B$47)/$F$3))),0)","v":""},{"$f":"IFERROR(IF('Proyeccion Cuotas'!$D79=\"\",\"\",(M78*$F$5*'Proyeccion Cuotas'!$K79/365)),\"\")","v":""},{"$f":"+IF('Proyeccion Cuotas'!$D79=\"\",\"\",'Proyeccion Cuotas'!$H79-H78)","v":""},{"$f":"IFERROR('Proyeccion Cuotas'!$I79+'Proyeccion Cuotas'!$J79,\"\")","v":""},{"$f":"+IFERROR((M78-'Proyeccion Cuotas'!$I79),\"\")","v":""}]
[null,null,null,"",{"$f":"IF('Proyeccion Cuotas'!$D80=\"\",\"\",IF(F79=12,E79+1,E79))","v":""},{"$f":"IF('Proyeccion Cuotas'!$D80=\"\",\"\",IF(F79=12,1,F79+1))","v":""},{"$f":"+IF('Proyeccion Cuotas'!$D80=\"\",\"\",VLOOKUP('Proyeccion Cuotas'!$F80,$A$16:$B$27,2,FALSE))","v":""},{"$f":"IF('Proyeccion Cuotas'!$D80=\"\",\"\",CONCATENATE('Proyeccion Cuotas'!$G80,\"/\",'Proyeccion Cuotas'!$F80,\"/\",'Proyeccion Cuotas'!$E80))","v":""},{"$f":"IFERROR(IF('Proyeccion Cuotas'!$D80=\"\",\"\",IF(OR('Proyeccion Cuotas'!$F80=7,'Proyeccion Cuotas'!$F80=12),($B$45+(($F$1-$B$47)/$F$3)),(($F$1-$B$47)/$F$3))),0)","v":""},{"$f":"IFERROR(IF('Proyeccion Cuotas'!$D80=\"\",\"\",(M79*$F$5*'Proyeccion Cuotas'!$K80/365)),\"\")","v":""},{"$f":"+IF('Proyeccion Cuotas'!$D80=\"\",\"\",'Proyeccion Cuotas'!$H80-H79)","v":""},{"$f":"IFERROR('Proyeccion Cuotas'!$I80+'Proyeccion Cuotas'!$J80,\"\")","v":""},{"$f":"+IFERROR((M79-'Proyeccion Cuotas'!$I80),\"\")","v":""}]
[null,null,null,"",{"$f":"IF('Proyeccion Cuotas'!$D81=\"\",\"\",IF(F80=12,E80+1,E80))","v":""},{"$f":"IF('Proyeccion Cuotas'!$D81=\"\",\"\",IF(F80=12,1,F80+1))","v":""},{"$f":"+IF('Proyeccion Cuotas'!$D81=\"\",\"\",VLOOKUP('Proyeccion Cuotas'!$F81,$A$16:$B$27,2,FALSE))","v":""},{"$f":"IF('Proyeccion Cuotas'!$D81=\"\",\"\",CONCATENATE('Proyeccion Cuotas'!$G81,\"/\",'Proyeccion Cuotas'!$F81,\"/\",'Proyeccion Cuotas'!$E81))","v":""},{"$f":"IFERROR(IF('Proyeccion Cuotas'!$D81=\"\",\"\",IF(OR('Proyeccion Cuotas'!$F81=7,'Proyeccion Cuotas'!$F81=12),($B$45+(($F$1-$B$47)/$F$3)),(($F$1-$B$47)/$F$3))),0)","v":""},{"$f":"IFERROR(IF('Proyeccion Cuotas'!$D81=\"\",\"\",(M80*$F$5*'Proyeccion Cuotas'!$K81/365)),\"\")","v":""},{"$f":"+IF('Proyeccion Cuotas'!$D81=\"\",\"\",'Proyeccion Cuotas'!$H81-H80)","v":""},{"$f":"IFERROR('Proyeccion Cuotas'!$I81+'Proyeccion Cuotas'!$J81,\"\")","v":""},{"$f":"+IFERROR((M80-'Proyeccion Cuotas'!$I81),\"\")","v":""}]
[null,null,null,{"$f":"IFERROR(IF(M81<0.001,\"\",(D81+1)),\"\")","v":""},{"$f":"IF('Proyeccion Cuotas'!$D82=\"\",\"\",IF(F81=12,E81+1,E81))","v":""},{"$f":"IF('Proyeccion Cuotas'!$D82=\"\",\"\",IF(F81=12,1,F81+1))","v":""},{"$f":"+IF('Proyeccion Cuotas'!$D82=\"\",\"\",VLOOKUP('Proyeccion Cuotas'!$F82,$A$16:$B$27,2,FALSE))","v":""},{"$f":"IF('Proyeccion Cuotas'!$D82=\"\",\"\",CONCATENATE('Proyeccion Cuotas'!$G82,\"/\",'Proyeccion Cuotas'!$F82,\"/\",'Proyeccion Cuotas'!$E82))","v":""},{"$f":"IFERROR(IF('Proyeccion Cuotas'!$D82=\"\",\"\",IF(OR('Proyeccion Cuotas'!$F82=7,'Proyeccion Cuotas'!$F82=12),($B$45+(($F$1-$B$47)/$F$3)),(($F$1-$B$47)/$F$3))),0)","v":""},{"$f":"IFERROR(IF('Proyeccion Cuotas'!$D82=\"\",\"\",(M81*$F$5*'Proyeccion Cuotas'!$K82/365)),\"\")","v":""},{"$f":"+IF('Proyeccion Cuotas'!$D82=\"\",\"\",'Proyeccion Cuotas'!$H82-H81)","v":""},{"$f":"IFERROR('Proyeccion Cuotas'!$I82+'Proyeccion Cuotas'!$J82,\"\")","v":""},{"$f":"+IFERROR((M81-'Proyeccion Cuotas'!$I82),\"\")","v":""}]
[null,null,null,"",{"$f":"IF('Proyeccion Cuotas'!$D83=\"\",\"\",IF(F82=12,E82+1,E82))","v":""},{"$f":"IF('Proyeccion Cuotas'!$D83=\"\",\"\",IF(F82=12,1,F82+1))","v":""},{"$f":"+IF('Proyeccion Cuotas'!$D83=\"\",\"\",VLOOKUP('Proyeccion Cuotas'!$F83,$A$16:$B$27,2,FALSE))","v":""},{"$f":"IF('Proyeccion Cuotas'!$D83=\"\",\"\",CONCATENATE('Proyeccion Cuotas'!$G83,\"/\",'Proyeccion Cuotas'!$F83,\"/\",'Proyeccion Cuotas'!$E83))","v":""},{"$f":"IFERROR(IF('Proyeccion Cuotas'!$D83=\"\",\"\",IF(OR('Proyeccion Cuotas'!$F83=7,'Proyeccion Cuotas'!$F83=12),($B$45+(($F$1-$B$47)/$F$3)),(($F$1-$B$47)/$F$3))),0)","v":""},{"$f":"IFERROR(IF('Proyeccion Cuotas'!$D83=\"\",\"\",(M82*$F$5*'Proyeccion Cuotas'!$K83/365)),\"\")","v":""},{"$f":"+IF('Proyeccion Cuotas'!$D83=\"\",\"\",'Proyeccion Cuotas'!$H83-H82)","v":""},{"$f":"IFERROR('Proyeccion Cuotas'!$I83+'Proyeccion Cuotas'!$J83,\"\")","v":""},{"$f":"+IFERROR((M82-'Proyeccion Cuotas'!$I83),\"\")","v":""}]
[null,null,null,"",{"$f":"IF('Proyeccion Cuotas'!$D84=\"\",\"\",IF(F83=12,E83+1,E83))","v":""},{"$f":"IF('Proyeccion Cuotas'!$D84=\"\",\"\",IF(F83=12,1,F83+1))","v":""},{"$f":"+IF('Proyeccion Cuotas'!$D84=\"\",\"\",VLOOKUP('Proyeccion Cuotas'!$F84,$A$16:$B$27,2,FALSE))","v":""},{"$f":"IF('Proyeccion Cuotas'!$D84=\"\",\"\",CONCATENATE('Proyeccion Cuotas'!$G84,\"/\",'Proyeccion Cuotas'!$F84,\"/\",'Proyeccion Cuotas'!$E84))","v":""},{"$f":"IFERROR(IF('Proyeccion Cuotas'!$D84=\"\",\"\",IF(OR('Proyeccion Cuotas'!$F84=7,'Proyeccion Cuotas'!$F84=12),($B$45+(($F$1-$B$47)/$F$3)),(($F$1-$B$47)/$F$3))),0)","v":""},{"$f":"IFERROR(IF('Proyeccion Cuotas'!$D84=\"\",\"\",(M83*$F$5*'Proyeccion Cuotas'!$K84/365)),\"\")","v":""},{"$f":"+IF('Proyeccion Cuotas'!$D84=\"\",\"\",'Proyeccion Cuotas'!$H84-H83)","v":""},{"$f":"IFERROR('Proyeccion Cuotas'!$I84+'Proyeccion Cuotas'!$J84,\"\")","v":""},{"$f":"+IFERROR((M83-'Proyeccion Cuotas'!$I84),\"\")","v":""}]
[null,null,null,"",{"$f":"IF('Proyeccion Cuotas'!$D85=\"\",\"\",IF(F84=12,E84+1,E84))","v":""},{"$f":"IF('Proyeccion Cuotas'!$D85=\"\",\"\",IF(F84=12,1,F84+1))","v":""},{"$f":"+IF('Proyeccion Cuotas'!$D85=\"\",\"\",VLOOKUP('Proyeccion Cuotas'!$F85,$A$16:$B$27,2,FALSE))","v":""},{"$f":"IF('Proyeccion Cuotas'!$D85=\"\",\"\",CONCATENATE('Proyeccion Cuotas'!$G85,\"/\",'Proyeccion Cuotas'!$F85,\"/\",'Proyeccion Cuotas'!$E85))","v":""},{"$f":"IFERROR(IF('Proyeccion Cuotas'!$D85=\"\",\"\",IF(OR('Proyeccion Cuotas'!$F85=7,'Proyeccion Cuotas'!$F85=12),($B$45+(($F$1-$B$47)/$F$3)),(($F$1-$B$47)/$F$3))),0)","v":""},{"$f":"IFERROR(IF('Proyeccion Cuotas'!$D85=\"\",\"\",(M84*$F$5*'Proyeccion Cuotas'!$K85/365)),\"\")","v":""},{"$f":"+IF('Proyeccion Cuotas'!$D85=\"\",\"\",'Proyeccion Cuotas'!$H85-H84)","v":""},{"$f":"IFERROR('Proyeccion Cuotas'!$I85+'Proyeccion Cuotas'!$J85,\"\")","v":""},{"$f":"+IFERROR((M84-'Proyeccion Cuotas'!$I85),\"\")","v":""}]
[null,null,null,"",{"$f":"IF('Proyeccion Cuotas'!$D86=\"\",\"\",IF(F85=12,E85+1,E85))","v":""},{"$f":"IF('Proyeccion Cuotas'!$D86=\"\",\"\",IF(F85=12,1,F85+1))","v":""},{"$f":"+IF('Proyeccion Cuotas'!$D86=\"\",\"\",VLOOKUP('Proyeccion Cuotas'!$F86,$A$16:$B$27,2,FALSE))","v":""},{"$f":"IF('Proyeccion Cuotas'!$D86=\"\",\"\",CONCATENATE('Proyeccion Cuotas'!$G86,\"/\",'Proyeccion Cuotas'!$F86,\"/\",'Proyeccion Cuotas'!$E86))","v":""},{"$f":"IFERROR(IF('Proyeccion Cuotas'!$D86=\"\",\"\",IF(OR('Proyeccion Cuotas'!$F86=7,'Proyeccion Cuotas'!$F86=12),($B$45+(($F$1-$B$47)/$F$3)),(($F$1-$B$47)/$F$3))),0)","v":""},{"$f":"IFERROR(IF('Proyeccion Cuotas'!$D86=\"\",\"\",(M85*$F$5*'Proyeccion Cuotas'!$K86/365)),\"\")","v":""},{"$f":"+IF('Proyeccion Cuotas'!$D86=\"\",\"\",'Proyeccion Cuotas'!$H86-H85)","v":""},{"$f":"IFERROR('Proyeccion Cuotas'!$I86+'Proyeccion Cuotas'!$J86,\"\")","v":""},{"$f":"+IFERROR((M85-'Proyeccion Cuotas'!$I86),\"\")","v":""}]
[null,null,null,"",{"$f":"IF('Proyeccion Cuotas'!$D87=\"\",\"\",IF(F86=12,E86+1,E86))","v":""},{"$f":"IF('Proyeccion Cuotas'!$D87=\"\",\"\",IF(F86=12,1,F86+1))","v":""},{"$f":"+IF('Proyeccion Cuotas'!$D87=\"\",\"\",VLOOKUP('Proyeccion Cuotas'!$F87,$A$16:$B$27,2,FALSE))","v":""},{"$f":"IF('Proyeccion Cuotas'!$D87=\"\",\"\",CONCATENATE('Proyeccion Cuotas'!$G87,\"/\",'Proyeccion Cuotas'!$F87,\"/\",'Proyeccion Cuotas'!$E87))","v":""},{"$f":"IFERROR(IF('Proyeccion Cuotas'!$D87=\"\",\"\",IF(OR('Proyeccion Cuotas'!$F87=7,'Proyeccion Cuotas'!$F87=12),($B$45+(($F$1-$B$47)/$F$3)),(($F$1-$B$47)/$F$3))),0)","v":""},{"$f":"IFERROR(IF('Proyeccion Cuotas'!$D87=\"\",\"\",(M86*$F$5*'Proyeccion Cuotas'!$K87/365)),\"\")","v":""},{"$f":"+IF('Proyeccion Cuotas'!$D87=\"\",\"\",'Proyeccion Cuotas'!$H87-H86)","v":""},{"$f":"IFERROR('Proyeccion Cuotas'!$I87+'Proyeccion Cuotas'!$J87,\"\")","v":""},{"$f":"+IFERROR((M86-'Proyeccion Cuotas'!$I87),\"\")","v":""}]
[null,null,null,"",{"$f":"IF('Proyeccion Cuotas'!$D88=\"\",\"\",IF(F87=12,E87+1,E87))","v":""},{"$f":"IF('Proyeccion Cuotas'!$D88=\"\",\"\",IF(F87=12,1,F87+1))","v":""},{"$f":"+IF('Proyeccion Cuotas'!$D88=\"\",\"\",VLOOKUP('Proyeccion Cuotas'!$F88,$A$16:$B$27,2,FALSE))","v":""},{"$f":"IF('Proyeccion Cuotas'!$D88=\"\",\"\",CONCATENATE('Proyeccion Cuotas'!$G88,\"/\",'Proyeccion Cuotas'!$F88,\"/\",'Proyeccion Cuotas'!$E88))","v":""},{"$f":"IFERROR(IF('Proyeccion Cuotas'!$D88=\"\",\"\",IF(OR('Proyeccion Cuotas'!$F88=7,'Proyeccion Cuotas'!$F88=12),($B$45+(($F$1-$B$47)/$F$3)),(($F$1-$B$47)/$F$3))),0)","v":""},{"$f":"IFERROR(IF('Proyeccion Cuotas'!$D88=\"\",\"\",(M87*$F$5*'Proyeccion Cuotas'!$K88/365)),\"\")","v":""},{"$f":"+IF('Proyeccion Cuotas'!$D88=\"\",\"\",'Proyeccion Cuotas'!$H88-H87)","v":""},{"$f":"IFERROR('Proyeccion Cuotas'!$I88+'Proyeccion Cuotas'!$J88,\"\")","v":""},{"$f":"+IFERROR((M87-'Proyeccion Cuotas'!$I88),\"\")","v":""}]
[null,null,null,"",{"$f":"IF('Proyeccion Cuotas'!$D89=\"\",\"\",IF(F88=12,E88+1,E88))","v":""},{"$f":"IF('Proyeccion Cuotas'!$D89=\"\",\"\",IF(F88=12,1,F88+1))","v":""},{"$f":"+IF('Proyeccion Cuotas'!$D89=\"\",\"\",VLOOKUP('Proyeccion Cuotas'!$F89,$A$16:$B$27,2,FALSE))","v":""},{"$f":"IF('Proyeccion Cuotas'!$D89=\"\",\"\",CONCATENATE('Proyeccion Cuotas'!$G89,\"/\",'Proyeccion Cuotas'!$F89,\"/\",'Proyeccion Cuotas'!$E89))","v":""},{"$f":"IFERROR(IF('Proyeccion Cuotas'!$D89=\"\",\"\",IF(OR('Proyeccion Cuotas'!$F89=7,'Proyeccion Cuotas'!$F89=12),($B$45+(($F$1-$B$47)/$F$3)),(($F$1-$B$47)/$F$3))),0)","v":""},{"$f":"IFERROR(IF('Proyeccion Cuotas'!$D89=\"\",\"\",(M88*$F$5*'Proyeccion Cuotas'!$K89/365)),\"\")","v":""},{"$f":"+IF('Proyeccion Cuotas'!$D89=\"\",\"\",'Proyeccion Cuotas'!$H89-H88)","v":""},{"$f":"IFERROR('Proyeccion Cuotas'!$I89+'Proyeccion Cuotas'!$J89,\"\")","v":""},{"$f":"+IFERROR((M88-'Proyeccion Cuotas'!$I89),\"\")","v":""}]
[null,null,null,"",{"$f":"IF('Proyeccion Cuotas'!$D90=\"\",\"\",IF(F89=12,E89+1,E89))","v":""},{"$f":"IF('Proyeccion Cuotas'!$D90=\"\",\"\",IF(F89=12,1,F89+1))","v":""},{"$f":"+IF('Proyeccion Cuotas'!$D90=\"\",\"\",VLOOKUP('Proyeccion Cuotas'!$F90,$A$16:$B$27,2,FALSE))","v":""},{"$f":"IF('Proyeccion Cuotas'!$D90=\"\",\"\",CONCATENATE('Proyeccion Cuotas'!$G90,\"/\",'Proyeccion Cuotas'!$F90,\"/\",'Proyeccion Cuotas'!$E90))","v":""},{"$f":"IFERROR(IF('Proyeccion Cuotas'!$D90=\"\",\"\",IF(OR('Proyeccion Cuotas'!$F90=7,'Proyeccion Cuotas'!$F90=12),($B$45+(($F$1-$B$47)/$F$3)),(($F$1-$B$47)/$F$3))),0)","v":""},{"$f":"IFERROR(IF('Proyeccion Cuotas'!$D90=\"\",\"\",(M89*$F$5*'Proyeccion Cuotas'!$K90/365)),\"\")","v":""},{"$f":"+IF('Proyeccion Cuotas'!$D90=\"\",\"\",'Proyeccion Cuotas'!$H90-H89)","v":""},{"$f":"IFERROR('Proyeccion Cuotas'!$I90+'Proyeccion Cuotas'!$J90,\"\")","v":""},{"$f":"+IFERROR((M89-'Proyeccion Cuotas'!$I90),\"\")","v":""}]
[null,null,null,"",{"$f":"IF('Proyeccion Cuotas'!$D91=\"\",\"\",IF(F90=12,E90+1,E90))","v":""},{"$f":"IF('Proyeccion Cuotas'!$D91=\"\",\"\",IF(F90=12,1,F90+1))","v":""},{"$f":"+IF('Proyeccion Cuotas'!$D91=\"\",\"\",VLOOKUP('Proyeccion Cuotas'!$F91,$A$16:$B$27,2,FALSE))","v":""},{"$f":"IF('Proyeccion Cuotas'!$D91=\"\",\"\",CONCATENATE('Proyeccion Cuotas'!$G91,\"/\",'Proyeccion Cuotas'!$F91,\"/\",'Proyeccion Cuotas'!$E91))","v":""},{"$f":"IFERROR(IF('Proyeccion Cuotas'!$D91=\"\",\"\",IF(OR('Proyeccion Cuotas'!$F91=7,'Proyeccion Cuotas'!$F91=12),($B$45+(($F$1-$B$47)/$F$3)),(($F$1-$B$47)/$F$3))),0)","v":""},{"$f":"IFERROR(IF('Proyeccion Cuotas'!$D91=\"\",\"\",(M90*$F$5*'Proyeccion Cuotas'!$K91/365)),\"\")","v":""},{"$f":"+IF('Proyeccion Cuotas'!$D91=\"\",\"\",'Proyeccion Cuotas'!$H91-H90)","v":""},{"$f":"IFERROR('Proyeccion Cuotas'!$I91+'Proyeccion Cuotas'!$J91,\"\")","v":""},{"$f":"+IFERROR((M90-'Proyeccion Cuotas'!$I91),\"\")","v":""}]
[null,null,null,"",{"$f":"IF('Proyeccion Cuotas'!$D92=\"\",\"\",IF(F91=12,E91+1,E91))","v":""},{"$f":"IF('Proyeccion Cuotas'!$D92=\"\",\"\",IF(F91=12,1,F91+1))","v":""},{"$f":"+IF('Proyeccion Cuotas'!$D92=\"\",\"\",VLOOKUP('Proyeccion Cuotas'!$F92,$A$16:$B$27,2,FALSE))","v":""},{"$f":"IF('Proyeccion Cuotas'!$D92=\"\",\"\",CONCATENATE('Proyeccion Cuotas'!$G92,\"/\",'Proyeccion Cuotas'!$F92,\"/\",'Proyeccion Cuotas'!$E92))","v":""},{"$f":"IFERROR(IF('Proyeccion Cuotas'!$D92=\"\",\"\",IF(OR('Proyeccion Cuotas'!$F92=7,'Proyeccion Cuotas'!$F92=12),($B$45+(($F$1-$B$47)/$F$3)),(($F$1-$B$47)/$F$3))),0)","v":""},{"$f":"IFERROR(IF('Proyeccion Cuotas'!$D92=\"\",\"\",(M91*$F$5*'Proyeccion Cuotas'!$K92/365)),\"\")","v":""},{"$f":"+IF('Proyeccion Cuotas'!$D92=\"\",\"\",'Proyeccion Cuotas'!$H92-H91)","v":""},{"$f":"IFERROR('Proyeccion Cuotas'!$I92+'Proyeccion Cuotas'!$J92,\"\")","v":""},{"$f":"+IFERROR((M91-'Proyeccion Cuotas'!$I92),\"\")","v":""}]
[null,null,null,"",{"$f":"IF('Proyeccion Cuotas'!$D93=\"\",\"\",IF(F92=12,E92+1,E92))","v":""},{"$f":"IF('Proyeccion Cuotas'!$D93=\"\",\"\",IF(F92=12,1,F92+1))","v":""},{"$f":"+IF('Proyeccion Cuotas'!$D93=\"\",\"\",VLOOKUP('Proyeccion Cuotas'!$F93,$A$16:$B$27,2,FALSE))","v":""},{"$f":"IF('Proyeccion Cuotas'!$D93=\"\",\"\",CONCATENATE('Proyeccion Cuotas'!$G93,\"/\",'Proyeccion Cuotas'!$F93,\"/\",'Proyeccion Cuotas'!$E93))","v":""},{"$f":"IFERROR(IF('Proyeccion Cuotas'!$D93=\"\",\"\",IF(OR('Proyeccion Cuotas'!$F93=7,'Proyeccion Cuotas'!$F93=12),($B$45+(($F$1-$B$47)/$F$3)),(($F$1-$B$47)/$F$3))),0)","v":""},{"$f":"IFERROR(IF('Proyeccion Cuotas'!$D93=\"\",\"\",(M92*$F$5*'Proyeccion Cuotas'!$K93/365)),\"\")","v":""},{"$f":"+IF('Proyeccion Cuotas'!$D93=\"\",\"\",'Proyeccion Cuotas'!$H93-H92)","v":""},{"$f":"IFERROR('Proyeccion Cuotas'!$I93+'Proyeccion Cuotas'!$J93,\"\")","v":""},{"$f":"+IFERROR((M92-'Proyeccion Cuotas'!$I93),\"\")","v":""}]
[null,null,null,"",{"$f":"IF('Proyeccion Cuotas'!$D94=\"\",\"\",IF(F93=12,E93+1,E93))","v":""},{"$f":"IF('Proyeccion Cuotas'!$D94=\"\",\"\",IF(F93=12,1,F93+1))","v":""},{"$f":"+IF('Proyeccion Cuotas'!$D94=\"\",\"\",VLOOKUP('Proyeccion Cuotas'!$F94,$A$16:$B$27,2,FALSE))","v":""},{"$f":"IF('Proyeccion Cuotas'!$D94=\"\",\"\",CONCATENATE('Proyeccion Cuotas'!$G94,\"/\",'Proyeccion Cuotas'!$F94,\"/\",'Proyeccion Cuotas'!$E94))","v":""},{"$f":"IFERROR(IF('Proyeccion Cuotas'!$D94=\"\",\"\",IF(OR('Proyeccion Cuotas'!$F94=7,'Proyeccion Cuotas'!$F94=12),($B$45+(($F$1-$B$47)/$F$3)),(($F$1-$B$47)/$F$3))),0)","v":""},{"$f":"IFERROR(IF('Proyeccion Cuotas'!$D94=\"\",\"\",(M93*$F$5*'Proyeccion Cuotas'!$K94/365)),\"\")","v":""},{"$f":"+IF('Proyeccion Cuotas'!$D94=\"\",\"\",'Proyeccion Cuotas'!$H94-H93)","v":""},{"$f":"IFERROR('Proyeccion Cuotas'!$I94+'Proyeccion Cuotas'!$J94,\"\")","v":""},{"$f":"+IFERROR((M93-'Proyeccion Cuotas'!$I94),\"\")","v":""}]
[null,null,null,"",{"$f":"IF('Proyeccion Cuotas'!$D95=\"\",\"\",IF(F94=12,E94+1,E94))","v":""},{"$f":"IF('Proyeccion Cuotas'!$D95=\"\",\"\",IF(F94=12,1,F94+1))","v":""},{"$f":"+IF('Proyeccion Cuotas'!$D95=\"\",\"\",VLOOKUP('Proyeccion Cuotas'!$F95,$A$16:$B$27,2,FALSE))","v":""},{"$f":"IF('Proyeccion Cuotas'!$D95=\"\",\"\",CONCATENATE('Proyeccion Cuotas'!$G95,\"/\",'Proyeccion Cuotas'!$F95,\"/\",'Proyeccion Cuotas'!$E95))","v":""},{"$f":"IFERROR(IF('Proyeccion Cuotas'!$D95=\"\",\"\",IF(OR('Proyeccion Cuotas'!$F95=7,'Proyeccion Cuotas'!$F95=12),($B$45+(($F$1-$B$47)/$F$3)),(($F$1-$B$47)/$F$3))),0)","v":""},{"$f":"IFERROR(IF('Proyeccion Cuotas'!$D95=\"\",\"\",(M94*$F$5*'Proyeccion Cuotas'!$K95/365)),\"\")","v":""},{"$f":"+IF('Proyeccion Cuotas'!$D95=\"\",\"\",'Proyeccion Cuotas'!$H95-H94)","v":""},{"$f":"IFERROR('Proyeccion Cuotas'!$I95+'Proyeccion Cuotas'!$J95,\"\")","v":""},{"$f":"+IFERROR((M94-'Proyeccion Cuotas'!$I95),\"\")","v":""}]
[null,null,null,"",{"$f":"IF('Proyeccion Cuotas'!$D96=\"\",\"\",IF(F95=12,E95+1,E95))","v":""},{"$f":"IF('Proyeccion Cuotas'!$D96=\"\",\"\",IF(F95=12,1,F95+1))","v":""},{"$f":"+IF('Proyeccion Cuotas'!$D96=\"\",\"\",VLOOKUP('Proyeccion Cuotas'!$F96,$A$16:$B$27,2,FALSE))","v":""},{"$f":"IF('Proyeccion Cuotas'!$D96=\"\",\"\",CONCATENATE('Proyeccion Cuotas'!$G96,\"/\",'Proyeccion Cuotas'!$F96,\"/\",'Proyeccion Cuotas'!$E96))","v":""},{"$f":"IFERROR(IF('Proyeccion Cuotas'!$D96=\"\",\"\",IF(OR('Proyeccion Cuotas'!$F96=7,'Proyeccion Cuotas'!$F96=12),($B$45+(($F$1-$B$47)/$F$3)),(($F$1-$B$47)/$F$3))),0)","v":""},{"$f":"IFERROR(IF('Proyeccion Cuotas'!$D96=\"\",\"\",(M95*$F$5*'Proyeccion Cuotas'!$K96/365)),\"\")","v":""},{"$f":"+IF('Proyeccion Cuotas'!$D96=\"\",\"\",'Proyeccion Cuotas'!$H96-H95)","v":""},{"$f":"IFERROR('Proyeccion Cuotas'!$I96+'Proyeccion Cuotas'!$J96,\"\")","v":""},{"$f":"+IFERROR((M95-'Proyeccion Cuotas'!$I96),\"\")","v":""}]
[null,null,null,"",{"$f":"IF('Proyeccion Cuotas'!$D97=\"\",\"\",IF(F96=12,E96+1,E96))","v":""},{"$f":"IF('Proyeccion Cuotas'!$D97=\"\",\"\",IF(F96=12,1,F96+1))","v":""},{"$f":"+IF('Proyeccion Cuotas'!$D97=\"\",\"\",VLOOKUP('Proyeccion Cuotas'!$F97,$A$16:$B$27,2,FALSE))","v":""},{"$f":"IF('Proyeccion Cuotas'!$D97=\"\",\"\",CONCATENATE('Proyeccion Cuotas'!$G97,\"/\",'Proyeccion Cuotas'!$F97,\"/\",'Proyeccion Cuotas'!$E97))","v":""},{"$f":"IFERROR(IF('Proyeccion Cuotas'!$D97=\"\",\"\",IF(OR('Proyeccion Cuotas'!$F97=7,'Proyeccion Cuotas'!$F97=12),($B$45+(($F$1-$B$47)/$F$3)),(($F$1-$B$47)/$F$3))),0)","v":""},{"$f":"IFERROR(IF('Proyeccion Cuotas'!$D97=\"\",\"\",(M96*$F$5*'Proyeccion Cuotas'!$K97/365)),\"\")","v":""},{"$f":"+IF('Proyeccion Cuotas'!$D97=\"\",\"\",'Proyeccion Cuotas'!$H97-H96)","v":""},{"$f":"IFERROR('Proyeccion Cuotas'!$I97+'Proyeccion Cuotas'!$J97,\"\")","v":""},{"$f":"+IFERROR((M96-'Proyeccion Cuotas'!$I97),\"\")","v":""}]
[null,null,null,"",{"$f":"IF('Proyeccion Cuotas'!$D98=\"\",\"\",IF(F97=12,E97+1,E97))","v":""},{"$f":"IF('Proyeccion Cuotas'!$D98=\"\",\"\",IF(F97=12,1,F97+1))","v":""},{"$f":"+IF('Proyeccion Cuotas'!$D98=\"\",\"\",VLOOKUP('Proyeccion Cuotas'!$F98,$A$16:$B$27,2,FALSE))","v":""},{"$f":"IF('Proyeccion Cuotas'!$D98=\"\",\"\",CONCATENATE('Proyeccion Cuotas'!$G98,\"/\",'Proyeccion Cuotas'!$F98,\"/\",'Proyeccion Cuotas'!$E98))","v":""},{"$f":"IFERROR(IF('Proyeccion Cuotas'!$D98=\"\",\"\",IF(OR('Proyeccion Cuotas'!$F98=7,'Proyeccion Cuotas'!$F98=12),($B$45+(($F$1-$B$47)/$F$3)),(($F$1-$B$47)/$F$3))),0)","v":""},{"$f":"IFERROR(IF('Proyeccion Cuotas'!$D98=\"\",\"\",(M97*$F$5*'Proyeccion Cuotas'!$K98/365)),\"\")","v":""},{"$f":"+IF('Proyeccion Cuotas'!$D98=\"\",\"\",'Proyeccion Cuotas'!$H98-H97)","v":""},{"$f":"IFERROR('Proyeccion Cuotas'!$I98+'Proyeccion Cuotas'!$J98,\"\")","v":""},{"$f":"+IFERROR((M97-'Proyeccion Cuotas'!$I98),\"\")","v":""}]
[null,null,null,"",{"$f":"IF('Proyeccion Cuotas'!$D99=\"\",\"\",IF(F98=12,E98+1,E98))","v":""},{"$f":"IF('Proyeccion Cuotas'!$D99=\"\",\"\",IF(F98=12,1,F98+1))","v":""},{"$f":"+IF('Proyeccion Cuotas'!$D99=\"\",\"\",VLOOKUP('Proyeccion Cuotas'!$F99,$A$16:$B$27,2,FALSE))","v":""},{"$f":"IF('Proyeccion Cuotas'!$D99=\"\",\"\",CONCATENATE('Proyeccion Cuotas'!$G99,\"/\",'Proyeccion Cuotas'!$F99,\"/\",'Proyeccion Cuotas'!$E99))","v":""},{"$f":"IFERROR(IF('Proyeccion Cuotas'!$D99=\"\",\"\",IF(OR('Proyeccion Cuotas'!$F99=7,'Proyeccion Cuotas'!$F99=12),($B$45+(($F$1-$B$47)/$F$3)),(($F$1-$B$47)/$F$3))),0)","v":""},{"$f":"IFERROR(IF('Proyeccion Cuotas'!$D99=\"\",\"\",(M98*$F$5*'Proyeccion Cuotas'!$K99/365)),\"\")","v":""},{"$f":"+IF('Proyeccion Cuotas'!$D99=\"\",\"\",'Proyeccion Cuotas'!$H99-H98)","v":""},{"$f":"IFERROR('Proyeccion Cuotas'!$I99+'Proyeccion Cuotas'!$J99,\"\")","v":""},{"$f":"+IFERROR((M98-'Proyeccion Cuotas'!$I99),\"\")","v":""}]
[null,null,null,"",{"$f":"IF('Proyeccion Cuotas'!$D100=\"\",\"\",IF(F99=12,E99+1,E99))","v":""},{"$f":"IF('Proyeccion Cuotas'!$D100=\"\",\"\",IF(F99=12,1,F99+1))","v":""},{"$f":"+IF('Proyeccion Cuotas'!$D100=\"\",\"\",VLOOKUP('Proyeccion Cuotas'!$F100,$A$16:$B$27,2,FALSE))","v":""},{"$f":"IF('Proyeccion Cuotas'!$D100=\"\",\"\",CONCATENATE('Proyeccion Cuotas'!$G100,\"/\",'Proyeccion Cuotas'!$F100,\"/\",'Proyeccion Cuotas'!$E100))","v":""},{"$f":"IFERROR(IF('Proyeccion Cuotas'!$D100=\"\",\"\",IF(OR('Proyeccion Cuotas'!$F100=7,'Proyeccion Cuotas'!$F100=12),($B$45+(($F$1-$B$47)/$F$3)),(($F$1-$B$47)/$F$3))),0)","v":""},{"$f":"IFERROR(IF('Proyeccion Cuotas'!$D100=\"\",\"\",(M99*$F$5*'Proyeccion Cuotas'!$K100/365)),\"\")","v":""},{"$f":"+IF('Proyeccion Cuotas'!$D100=\"\",\"\",'Proyeccion Cuotas'!$H100-H99)","v":""},{"$f":"IFERROR('Proyeccion Cuotas'!$I100+'Proyeccion Cuotas'!$J100,\"\")","v":""},{"$f":"+IFERROR((M99-'Proyeccion Cuotas'!$I100),\"\")","v":""}]
[null,null,null,"",{"$f":"IF('Proyeccion Cuotas'!$D101=\"\",\"\",IF(F100=12,E100+1,E100))","v":""},{"$f":"IF('Proyeccion Cuotas'!$D101=\"\",\"\",IF(F100=12,1,F100+1))","v":""},{"$f":"+IF('Proyeccion Cuotas'!$D101=\"\",\"\",VLOOKUP('Proyeccion Cuotas'!$F101,$A$16:$B$27,2,FALSE))","v":""},{"$f":"IF('Proyeccion Cuotas'!$D101=\"\",\"\",CONCATENATE('Proyeccion Cuotas'!$G101,\"/\",'Proyeccion Cuotas'!$F101,\"/\",'Proyeccion Cuotas'!$E101))","v":""},{"$f":"IFERROR(IF('Proyeccion Cuotas'!$D101=\"\",\"\",IF(OR('Proyeccion Cuotas'!$F101=7,'Proyeccion Cuotas'!$F101=12),($B$45+(($F$1-$B$47)/$F$3)),(($F$1-$B$47)/$F$3))),0)","v":""},{"$f":"IFERROR(IF('Proyeccion Cuotas'!$D101=\"\",\"\",(M100*$F$5*'Proyeccion Cuotas'!$K101/365)),\"\")","v":""},{"$f":"+IF('Proyeccion Cuotas'!$D101=\"\",\"\",'Proyeccion Cuotas'!$H101-H100)","v":""},{"$f":"IFERROR('Proyeccion Cuotas'!$I101+'Proyeccion Cuotas'!$J101,\"\")","v":""},{"$f":"+IFERROR((M100-'Proyeccion Cuotas'!$I101),\"\")","v":""}]
[null,null,null,"",{"$f":"IF('Proyeccion Cuotas'!$D102=\"\",\"\",IF(F101=12,E101+1,E101))","v":""},{"$f":"IF('Proyeccion Cuotas'!$D102=\"\",\"\",IF(F101=12,1,F101+1))","v":""},{"$f":"+IF('Proyeccion Cuotas'!$D102=\"\",\"\",VLOOKUP('Proyeccion Cuotas'!$F102,$A$16:$B$27,2,FALSE))","v":""},{"$f":"IF('Proyeccion Cuotas'!$D102=\"\",\"\",CONCATENATE('Proyeccion Cuotas'!$G102,\"/\",'Proyeccion Cuotas'!$F102,\"/\",'Proyeccion Cuotas'!$E102))","v":""},{"$f":"IFERROR(IF('Proyeccion Cuotas'!$D102=\"\",\"\",IF(OR('Proyeccion Cuotas'!$F102=7,'Proyeccion Cuotas'!$F102=12),($B$45+(($F$1-$B$47)/$F$3)),(($F$1-$B$47)/$F$3))),0)","v":""},{"$f":"IFERROR(IF('Proyeccion Cuotas'!$D102=\"\",\"\",(M101*$F$5*'Proyeccion Cuotas'!$K102/365)),\"\")","v":""},{"$f":"+IF('Proyeccion Cuotas'!$D102=\"\",\"\",'Proyeccion Cuotas'!$H102-H101)","v":""},{"$f":"IFERROR('Proyeccion Cuotas'!$I102+'Proyeccion Cuotas'!$J102,\"\")","v":""},{"$f":"+IFERROR((M101-'Proyeccion Cuotas'!$I102),\"\")","v":""}]
[null,null,null,"",{"$f":"IF('Proyeccion Cuotas'!$D103=\"\",\"\",IF(F102=12,E102+1,E102))","v":""},{"$f":"IF('Proyeccion Cuotas'!$D103=\"\",\"\",IF(F102=12,1,F102+1))","v":""},{"$f":"+IF('Proyeccion Cuotas'!$D103=\"\",\"\",VLOOKUP('Proyeccion Cuotas'!$F103,$A$16:$B$27,2,FALSE))","v":""},{"$f":"IF('Proyeccion Cuotas'!$D103=\"\",\"\",CONCATENATE('Proyeccion Cuotas'!$G103,\"/\",'Proyeccion Cuotas'!$F103,\"/\",'Proyeccion Cuotas'!$E103))","v":""},{"$f":"IFERROR(IF('Proyeccion Cuotas'!$D103=\"\",\"\",IF(OR('Proyeccion Cuotas'!$F103=7,'Proyeccion Cuotas'!$F103=12),($B$45+(($F$1-$B$47)/$F$3)),(($F$1-$B$47)/$F$3))),0)","v":""},{"$f":"IFERROR(IF('Proyeccion Cuotas'!$D103=\"\",\"\",(M102*$F$5*'Proyeccion Cuotas'!$K103/365)),\"\")","v":""},{"$f":"+IF('Proyeccion Cuotas'!$D103=\"\",\"\",'Proyeccion Cuotas'!$H103-H102)","v":""},{"$f":"IFERROR('Proyeccion Cuotas'!$I103+'Proyeccion Cuotas'!$J103,\"\")","v":""},{"$f":"+IFERROR((M102-'Proyeccion Cuotas'!$I103),\"\")","v":""}]
[null,null,null,"",{"$f":"IF('Proyeccion Cuotas'!$D104=\"\",\"\",IF(F103=12,E103+1,E103))","v":""},{"$f":"IF('Proyeccion Cuotas'!$D104=\"\",\"\",IF(F103=12,1,F103+1))","v":""},{"$f":"+IF('Proyeccion Cuotas'!$D104=\"\",\"\",VLOOKUP('Proyeccion Cuotas'!$F104,$A$16:$B$27,2,FALSE))","v":""},{"$f":"IF('Proyeccion Cuotas'!$D104=\"\",\"\",CONCATENATE('Proyeccion Cuotas'!$G104,\"/\",'Proyeccion Cuotas'!$F104,\"/\",'Proyeccion Cuotas'!$E104))","v":""},{"$f":"IFERROR(IF('Proyeccion Cuotas'!$D104=\"\",\"\",IF(OR('Proyeccion Cuotas'!$F104=7,'Proyeccion Cuotas'!$F104=12),($B$45+(($F$1-$B$47)/$F$3)),(($F$1-$B$47)/$F$3))),0)","v":""},{"$f":"IFERROR(IF('Proyeccion Cuotas'!$D104=\"\",\"\",(M103*$F$5*'Proyeccion Cuotas'!$K104/365)),\"\")","v":""},{"$f":"+IF('Proyeccion Cuotas'!$D104=\"\",\"\",'Proyeccion Cuotas'!$H104-H103)","v":""},{"$f":"IFERROR('Proyeccion Cuotas'!$I104+'Proyeccion Cuotas'!$J104,\"\")","v":""},{"$f":"+IFERROR((M103-'Proyeccion Cuotas'!$I104),\"\")","v":""}]
[null,null,null,"",{"$f":"IF('Proyeccion Cuotas'!$D105=\"\",\"\",IF(F104=12,E104+1,E104))","v":""},{"$f":"IF('Proyeccion Cuotas'!$D105=\"\",\"\",IF(F104=12,1,F104+1))","v":""},{"$f":"+IF('Proyeccion Cuotas'!$D105=\"\",\"\",VLOOKUP('Proyeccion Cuotas'!$F105,$A$16:$B$27,2,FALSE))","v":""},{"$f":"IF('Proyeccion Cuotas'!$D105=\"\",\"\",CONCATENATE('Proyeccion Cuotas'!$G105,\"/\",'Proyeccion Cuotas'!$F105,\"/\",'Proyeccion Cuotas'!$E105))","v":""},{"$f":"IFERROR(IF('Proyeccion Cuotas'!$D105=\"\",\"\",IF(OR('Proyeccion Cuotas'!$F105=7,'Proyeccion Cuotas'!$F105=12),($B$45+(($F$1-$B$47)/$F$3)),(($F$1-$B$47)/$F$3))),0)","v":""},{"$f":"IFERROR(IF('Proyeccion Cuotas'!$D105=\"\",\"\",(M104*$F$5*'Proyeccion Cuotas'!$K105/365)),\"\")","v":""},{"$f":"+IF('Proyeccion Cuotas'!$D105=\"\",\"\",'Proyeccion Cuotas'!$H105-H104)","v":""},{"$f":"IFERROR('Proyeccion Cuotas'!$I105+'Proyeccion Cuotas'!$J105,\"\")","v":""},{"$f":"+IFERROR((M104-'Proyeccion Cuotas'!$I105),\"\")","v":""}]
[null,null,null,"",{"$f":"IF('Proyeccion Cuotas'!$D106=\"\",\"\",IF(F105=12,E105+1,E105))","v":""},{"$f":"IF('Proyeccion Cuotas'!$D106=\"\",\"\",IF(F105=12,1,F105+1))","v":""},{"$f":"+IF('Proyeccion Cuotas'!$D106=\"\",\"\",VLOOKUP('Proyeccion Cuotas'!$F106,$A$16:$B$27,2,FALSE))","v":""},{"$f":"IF('Proyeccion Cuotas'!$D106=\"\",\"\",CONCATENATE('Proyeccion Cuotas'!$G106,\"/\",'Proyeccion Cuotas'!$F106,\"/\",'Proyeccion Cuotas'!$E106))","v":""},{"$f":"IFERROR(IF('Proyeccion Cuotas'!$D106=\"\",\"\",IF(OR('Proyeccion Cuotas'!$F106=7,'Proyeccion Cuotas'!$F106=12),($B$45+(($F$1-$B$47)/$F$3)),(($F$1-$B$47)/$F$3))),0)","v":""},{"$f":"IFERROR(IF('Proyeccion Cuotas'!$D106=\"\",\"\",(M105*$F$5*'Proyeccion Cuotas'!$K106/365)),\"\")","v":""},{"$f":"+IF('Proyeccion Cuotas'!$D106=\"\",\"\",'Proyeccion Cuotas'!$H106-H105)","v":""},{"$f":"IFERROR('Proyeccion Cuotas'!$I106+'Proyeccion Cuotas'!$J106,\"\")","v":""},{"$f":"+IFERROR((M105-'Proyeccion Cuotas'!$I106),\"\")","v":""}]
[null,null,null,"",{"$f":"IF('Proyeccion Cuotas'!$D107=\"\",\"\",IF(F106=12,E106+1,E106))","v":""},{"$f":"IF('Proyeccion Cuotas'!$D107=\"\",\"\",IF(F106=12,1,F106+1))","v":""},{"$f":"+IF('Proyeccion Cuotas'!$D107=\"\",\"\",VLOOKUP('Proyeccion Cuotas'!$F107,$A$16:$B$27,2,FALSE))","v":""},{"$f":"IF('Proyeccion Cuotas'!$D107=\"\",\"\",CONCATENATE('Proyeccion Cuotas'!$G107,\"/\",'Proyeccion Cuotas'!$F107,\"/\",'Proyeccion Cuotas'!$E107))","v":""},{"$f":"IFERROR(IF('Proyeccion Cuotas'!$D107=\"\",\"\",IF(OR('Proyeccion Cuotas'!$F107=7,'Proyeccion Cuotas'!$F107=12),($B$45+(($F$1-$B$47)/$F$3)),(($F$1-$B$47)/$F$3))),0)","v":""},{"$f":"IFERROR(IF('Proyeccion Cuotas'!$D107=\"\",\"\",(M106*$F$5*'Proyeccion Cuotas'!$K107/365)),\"\")","v":""},{"$f":"+IF('Proyeccion Cuotas'!$D107=\"\",\"\",'Proyeccion Cuotas'!$H107-H106)","v":""},{"$f":"IFERROR('Proyeccion Cuotas'!$I107+'Proyeccion Cuotas'!$J107,\"\")","v":""},{"$f":"+IFERROR((M106-'Proyeccion Cuotas'!$I107),\"\")","v":""}]
[null,null,null,"",{"$f":"IF('Proyeccion Cuotas'!$D108=\"\",\"\",IF(F107=12,E107+1,E107))","v":""},{"$f":"IF('Proyeccion Cuotas'!$D108=\"\",\"\",IF(F107=12,1,F107+1))","v":""},{"$f":"+IF('Proyeccion Cuotas'!$D108=\"\",\"\",VLOOKUP('Proyeccion Cuotas'!$F108,$A$16:$B$27,2,FALSE))","v":""},{"$f":"IF('Proyeccion Cuotas'!$D108=\"\",\"\",CONCATENATE('Proyeccion Cuotas'!$G108,\"/\",'Proyeccion Cuotas'!$F108,\"/\",'Proyeccion Cuotas'!$E108))","v":""},{"$f":"IFERROR(IF('Proyeccion Cuotas'!$D108=\"\",\"\",IF(OR('Proyeccion Cuotas'!$F108=7,'Proyeccion Cuotas'!$F108=12),($B$45+(($F$1-$B$47)/$F$3)),(($F$1-$B$47)/$F$3))),0)","v":""},{"$f":"IFERROR(IF('Proyeccion Cuotas'!$D108=\"\",\"\",(M107*$F$5*'Proyeccion Cuotas'!$K108/365)),\"\")","v":""},{"$f":"+IF('Proyeccion Cuotas'!$D108=\"\",\"\",'Proyeccion Cuotas'!$H108-H107)","v":""},{"$f":"IFERROR('Proyeccion Cuotas'!$I108+'Proyeccion Cuotas'!$J108,\"\")","v":""},{"$f":"+IFERROR((M107-'Proyeccion Cuotas'!$I108),\"\")","v":""}]
[null,null,null,"",{"$f":"IF('Proyeccion Cuotas'!$D109=\"\",\"\",IF(F108=12,E108+1,E108))","v":""},{"$f":"IF('Proyeccion Cuotas'!$D109=\"\",\"\",IF(F108=12,1,F108+1))","v":""},{"$f":"+IF('Proyeccion Cuotas'!$D109=\"\",\"\",VLOOKUP('Proyeccion Cuotas'!$F109,$A$16:$B$27,2,FALSE))","v":""},{"$f":"IF('Proyeccion Cuotas'!$D109=\"\",\"\",CONCATENATE('Proyeccion Cuotas'!$G109,\"/\",'Proyeccion Cuotas'!$F109,\"/\",'Proyeccion Cuotas'!$E109))","v":""},{"$f":"IFERROR(IF('Proyeccion Cuotas'!$D109=\"\",\"\",IF(OR('Proyeccion Cuotas'!$F109=7,'Proyeccion Cuotas'!$F109=12),($B$45+(($F$1-$B$47)/$F$3)),(($F$1-$B$47)/$F$3))),0)","v":""},{"$f":"IFERROR(IF('Proyeccion Cuotas'!$D109=\"\",\"\",(M108*$F$5*'Proyeccion Cuotas'!$K109/365)),\"\")","v":""},{"$f":"+IF('Proyeccion Cuotas'!$D109=\"\",\"\",'Proyeccion Cuotas'!$H109-H108)","v":""},{"$f":"IFERROR('Proyeccion Cuotas'!$I109+'Proyeccion Cuotas'!$J109,\"\")","v":""},{"$f":"+IFERROR((M108-'Proyeccion Cuotas'!$I109),\"\")","v":""}]
[null,null,null,"",{"$f":"IF('Proyeccion Cuotas'!$D110=\"\",\"\",IF(F109=12,E109+1,E109))","v":""},{"$f":"IF('Proyeccion Cuotas'!$D110=\"\",\"\",IF(F109=12,1,F109+1))","v":""},{"$f":"+IF('Proyeccion Cuotas'!$D110=\"\",\"\",VLOOKUP('Proyeccion Cuotas'!$F110,$A$16:$B$27,2,FALSE))","v":""},{"$f":"IF('Proyeccion Cuotas'!$D110=\"\",\"\",CONCATENATE('Proyeccion Cuotas'!$G110,\"/\",'Proyeccion Cuotas'!$F110,\"/\",'Proyeccion Cuotas'!$E110))","v":""},{"$f":"IFERROR(IF('Proyeccion Cuotas'!$D110=\"\",\"\",IF(OR('Proyeccion Cuotas'!$F110=7,'Proyeccion Cuotas'!$F110=12),($B$45+(($F$1-$B$47)/$F$3)),(($F$1-$B$47)/$F$3))),0)","v":""},{"$f":"IFERROR(IF('Proyeccion Cuotas'!$D110=\"\",\"\",(M109*$F$5*'Proyeccion Cuotas'!$K110/365)),\"\")","v":""},{"$f":"+IF('Proyeccion Cuotas'!$D110=\"\",\"\",'Proyeccion Cuotas'!$H110-H109)","v":""},{"$f":"IFERROR('Proyeccion Cuotas'!$I110+'Proyeccion Cuotas'!$J110,\"\")","v":""},{"$f":"+IFERROR((M109-'Proyeccion Cuotas'!$I110),\"\")","v":""}]
[null,null,null,"",{"$f":"IF('Proyeccion Cuotas'!$D111=\"\",\"\",IF(F110=12,E110+1,E110))","v":""},{"$f":"IF('Proyeccion Cuotas'!$D111=\"\",\"\",IF(F110=12,1,F110+1))","v":""},{"$f":"+IF('Proyeccion Cuotas'!$D111=\"\",\"\",VLOOKUP('Proyeccion Cuotas'!$F111,$A$16:$B$27,2,FALSE))","v":""},{"$f":"IF('Proyeccion Cuotas'!$D111=\"\",\"\",CONCATENATE('Proyeccion Cuotas'!$G111,\"/\",'Proyeccion Cuotas'!$F111,\"/\",'Proyeccion Cuotas'!$E111))","v":""},{"$f":"IFERROR(IF('Proyeccion Cuotas'!$D111=\"\",\"\",IF(OR('Proyeccion Cuotas'!$F111=7,'Proyeccion Cuotas'!$F111=12),($B$45+(($F$1-$B$47)/$F$3)),(($F$1-$B$47)/$F$3))),0)","v":""},{"$f":"IFERROR(IF('Proyeccion Cuotas'!$D111=\"\",\"\",(M110*$F$5*'Proyeccion Cuotas'!$K111/365)),\"\")","v":""},{"$f":"+IF('Proyeccion Cuotas'!$D111=\"\",\"\",'Proyeccion Cuotas'!$H111-H110)","v":""},{"$f":"IFERROR('Proyeccion Cuotas'!$I111+'Proyeccion Cuotas'!$J111,\"\")","v":""},{"$f":"+IFERROR((M110-'Proyeccion Cuotas'!$I111),\"\")","v":""}]
[null,null,null,"",{"$f":"IF('Proyeccion Cuotas'!$D112=\"\",\"\",IF(F111=12,E111+1,E111))","v":""},{"$f":"IF('Proyeccion Cuotas'!$D112=\"\",\"\",IF(F111=12,1,F111+1))","v":""},{"$f":"+IF('Proyeccion Cuotas'!$D112=\"\",\"\",VLOOKUP('Proyeccion Cuotas'!$F112,$A$16:$B$27,2,FALSE))","v":""},{"$f":"IF('Proyeccion Cuotas'!$D112=\"\",\"\",CONCATENATE('Proyeccion Cuotas'!$G112,\"/\",'Proyeccion Cuotas'!$F112,\"/\",'Proyeccion Cuotas'!$E112))","v":""},{"$f":"IFERROR(IF('Proyeccion Cuotas'!$D112=\"\",\"\",IF(OR('Proyeccion Cuotas'!$F112=7,'Proyeccion Cuotas'!$F112=12),($B$45+(($F$1-$B$47)/$F$3)),(($F$1-$B$47)/$F$3))),0)","v":""},{"$f":"IFERROR(IF('Proyeccion Cuotas'!$D112=\"\",\"\",(M111*$F$5*'Proyeccion Cuotas'!$K112/365)),\"\")","v":""},{"$f":"+IF('Proyeccion Cuotas'!$D112=\"\",\"\",'Proyeccion Cuotas'!$H112-H111)","v":""},{"$f":"IFERROR('Proyeccion Cuotas'!$I112+'Proyeccion Cuotas'!$J112,\"\")","v":""},{"$f":"+IFERROR((M111-'Proyeccion Cuotas'!$I112),\"\")","v":""}]
[null,null,null,"",{"$f":"IF('Proyeccion Cuotas'!$D113=\"\",\"\",IF(F112=12,E112+1,E112))","v":""},{"$f":"IF('Proyeccion Cuotas'!$D113=\"\",\"\",IF(F112=12,1,F112+1))","v":""},{"$f":"+IF('Proyeccion Cuotas'!$D113=\"\",\"\",VLOOKUP('Proyeccion Cuotas'!$F113,$A$16:$B$27,2,FALSE))","v":""},{"$f":"IF('Proyeccion Cuotas'!$D113=\"\",\"\",CONCATENATE('Proyeccion Cuotas'!$G113,\"/\",'Proyeccion Cuotas'!$F113,\"/\",'Proyeccion Cuotas'!$E113))","v":""},{"$f":"IFERROR(IF('Proyeccion Cuotas'!$D113=\"\",\"\",IF(OR('Proyeccion Cuotas'!$F113=7,'Proyeccion Cuotas'!$F113=12),($B$45+(($F$1-$B$47)/$F$3)),(($F$1-$B$47)/$F$3))),0)","v":""},{"$f":"IFERROR(IF('Proyeccion Cuotas'!$D113=\"\",\"\",(M112*$F$5*'Proyeccion Cuotas'!$K113/365)),\"\")","v":""},{"$f":"+IF('Proyeccion Cuotas'!$D113=\"\",\"\",'Proyeccion Cuotas'!$H113-H112)","v":""},{"$f":"IFERROR('Proyeccion Cuotas'!$I113+'Proyeccion Cuotas'!$J113,\"\")","v":""},{"$f":"+IFERROR((M112-'Proyeccion Cuotas'!$I113),\"\")","v":""}]
[null,null,null,"",{"$f":"IF('Proyeccion Cuotas'!$D114=\"\",\"\",IF(F113=12,E113+1,E113))","v":""},{"$f":"IF('Proyeccion Cuotas'!$D114=\"\",\"\",IF(F113=12,1,F113+1))","v":""},{"$f":"+IF('Proyeccion Cuotas'!$D114=\"\",\"\",VLOOKUP('Proyeccion Cuotas'!$F114,$A$16:$B$27,2,FALSE))","v":""},{"$f":"IF('Proyeccion Cuotas'!$D114=\"\",\"\",CONCATENATE('Proyeccion Cuotas'!$G114,\"/\",'Proyeccion Cuotas'!$F114,\"/\",'Proyeccion Cuotas'!$E114))","v":""},{"$f":"IFERROR(IF('Proyeccion Cuotas'!$D114=\"\",\"\",IF(OR('Proyeccion Cuotas'!$F114=7,'Proyeccion Cuotas'!$F114=12),($B$45+(($F$1-$B$47)/$F$3)),(($F$1-$B$47)/$F$3))),0)","v":""},{"$f":"IFERROR(IF('Proyeccion Cuotas'!$D114=\"\",\"\",(M113*$F$5*'Proyeccion Cuotas'!$K114/365)),\"\")","v":""},{"$f":"+IF('Proyeccion Cuotas'!$D114=\"\",\"\",'Proyeccion Cuotas'!$H114-H113)","v":""},{"$f":"IFERROR('Proyeccion Cuotas'!$I114+'Proyeccion Cuotas'!$J114,\"\")","v":""},{"$f":"+IFERROR((M113-'Proyeccion Cuotas'!$I114),\"\")","v":""}]
[null,null,null,"",{"$f":"IF('Proyeccion Cuotas'!$D115=\"\",\"\",IF(F114=12,E114+1,E114))","v":""},{"$f":"IF('Proyeccion Cuotas'!$D115=\"\",\"\",IF(F114=12,1,F114+1))","v":""},{"$f":"+IF('Proyeccion Cuotas'!$D115=\"\",\"\",VLOOKUP('Proyeccion Cuotas'!$F115,$A$16:$B$27,2,FALSE))","v":""},{"$f":"IF('Proyeccion Cuotas'!$D115=\"\",\"\",CONCATENATE('Proyeccion Cuotas'!$G115,\"/\",'Proyeccion Cuotas'!$F115,\"/\",'Proyeccion Cuotas'!$E115))","v":""},{"$f":"IFERROR(IF('Proyeccion Cuotas'!$D115=\"\",\"\",IF(OR('Proyeccion Cuotas'!$F115=7,'Proyeccion Cuotas'!$F115=12),($B$45+(($F$1-$B$47)/$F$3)),(($F$1-$B$47)/$F$3))),0)","v":""},{"$f":"IFERROR(IF('Proyeccion Cuotas'!$D115=\"\",\"\",(M114*$F$5*'Proyeccion Cuotas'!$K115/365)),\"\")","v":""},{"$f":"+IF('Proyeccion Cuotas'!$D115=\"\",\"\",'Proyeccion Cuotas'!$H115-H114)","v":""},{"$f":"IFERROR('Proyeccion Cuotas'!$I115+'Proyeccion Cuotas'!$J115,\"\")","v":""},{"$f":"+IFERROR((M114-'Proyeccion Cuotas'!$I115),\"\")","v":""}]
[null,null,null,"",{"$f":"IF('Proyeccion Cuotas'!$D116=\"\",\"\",IF(F115=12,E115+1,E115))","v":""},{"$f":"IF('Proyeccion Cuotas'!$D116=\"\",\"\",IF(F115=12,1,F115+1))","v":""},{"$f":"+IF('Proyeccion Cuotas'!$D116=\"\",\"\",VLOOKUP('Proyeccion Cuotas'!$F116,$A$16:$B$27,2,FALSE))","v":""},{"$f":"IF('Proyeccion Cuotas'!$D116=\"\",\"\",CONCATENATE('Proyeccion Cuotas'!$G116,\"/\",'Proyeccion Cuotas'!$F116,\"/\",'Proyeccion Cuotas'!$E116))","v":""},{"$f":"IFERROR(IF('Proyeccion Cuotas'!$D116=\"\",\"\",IF(OR('Proyeccion Cuotas'!$F116=7,'Proyeccion Cuotas'!$F116=12),($B$45+(($F$1-$B$47)/$F$3)),(($F$1-$B$47)/$F$3))),0)","v":""},{"$f":"IFERROR(IF('Proyeccion Cuotas'!$D116=\"\",\"\",(M115*$F$5*'Proyeccion Cuotas'!$K116/365)),\"\")","v":""},{"$f":"+IF('Proyeccion Cuotas'!$D116=\"\",\"\",'Proyeccion Cuotas'!$H116-H115)","v":""},{"$f":"IFERROR('Proyeccion Cuotas'!$I116+'Proyeccion Cuotas'!$J116,\"\")","v":""},{"$f":"+IFERROR((M115-'Proyeccion Cuotas'!$I116),\"\")","v":""}]
[null,null,null,"",{"$f":"IF('Proyeccion Cuotas'!$D117=\"\",\"\",IF(F116=12,E116+1,E116))","v":""},{"$f":"IF('Proyeccion Cuotas'!$D117=\"\",\"\",IF(F116=12,1,F116+1))","v":""},{"$f":"+IF('Proyeccion Cuotas'!$D117=\"\",\"\",VLOOKUP('Proyeccion Cuotas'!$F117,$A$16:$B$27,2,FALSE))","v":""},{"$f":"IF('Proyeccion Cuotas'!$D117=\"\",\"\",CONCATENATE('Proyeccion Cuotas'!$G117,\"/\",'Proyeccion Cuotas'!$F117,\"/\",'Proyeccion Cuotas'!$E117))","v":""},{"$f":"IFERROR(IF('Proyeccion Cuotas'!$D117=\"\",\"\",IF(OR('Proyeccion Cuotas'!$F117=7,'Proyeccion Cuotas'!$F117=12),($B$45+(($F$1-$B$47)/$F$3)),(($F$1-$B$47)/$F$3))),0)","v":""},{"$f":"IFERROR(IF('Proyeccion Cuotas'!$D117=\"\",\"\",(M116*$F$5*'Proyeccion Cuotas'!$K117/365)),\"\")","v":""},{"$f":"+IF('Proyeccion Cuotas'!$D117=\"\",\"\",'Proyeccion Cuotas'!$H117-H116)","v":""},{"$f":"IFERROR('Proyeccion Cuotas'!$I117+'Proyeccion Cuotas'!$J117,\"\")","v":""},{"$f":"+IFERROR((M116-'Proyeccion Cuotas'!$I117),\"\")","v":""}]
[null,null,null,"",{"$f":"IF('Proyeccion Cuotas'!$D118=\"\",\"\",IF(F117=12,E117+1,E117))","v":""},{"$f":"IF('Proyeccion Cuotas'!$D118=\"\",\"\",IF(F117=12,1,F117+1))","v":""},{"$f":"+IF('Proyeccion Cuotas'!$D118=\"\",\"\",VLOOKUP('Proyeccion Cuotas'!$F118,$A$16:$B$27,2,FALSE))","v":""},{"$f":"IF('Proyeccion Cuotas'!$D118=\"\",\"\",CONCATENATE('Proyeccion Cuotas'!$G118,\"/\",'Proyeccion Cuotas'!$F118,\"/\",'Proyeccion Cuotas'!$E118))","v":""},{"$f":"IFERROR(IF('Proyeccion Cuotas'!$D118=\"\",\"\",IF(OR('Proyeccion Cuotas'!$F118=7,'Proyeccion Cuotas'!$F118=12),($B$45+(($F$1-$B$47)/$F$3)),(($F$1-$B$47)/$F$3))),0)","v":""},{"$f":"IFERROR(IF('Proyeccion Cuotas'!$D118=\"\",\"\",(M117*$F$5*'Proyeccion Cuotas'!$K118/365)),\"\")","v":""},{"$f":"+IF('Proyeccion Cuotas'!$D118=\"\",\"\",'Proyeccion Cuotas'!$H118-H117)","v":""},{"$f":"IFERROR('Proyeccion Cuotas'!$I118+'Proyeccion Cuotas'!$J118,\"\")","v":""},{"$f":"+IFERROR((M117-'Proyeccion Cuotas'!$I118),\"\")","v":""}]
[null,null,null,"",{"$f":"IF('Proyeccion Cuotas'!$D119=\"\",\"\",IF(F118=12,E118+1,E118))","v":""},{"$f":"IF('Proyeccion Cuotas'!$D119=\"\",\"\",IF(F118=12,1,F118+1))","v":""},{"$f":"+IF('Proyeccion Cuotas'!$D119=\"\",\"\",VLOOKUP('Proyeccion Cuotas'!$F119,$A$16:$B$27,2,FALSE))","v":""},{"$f":"IF('Proyeccion Cuotas'!$D119=\"\",\"\",CONCATENATE('Proyeccion Cuotas'!$G119,\"/\",'Proyeccion Cuotas'!$F119,\"/\",'Proyeccion Cuotas'!$E119))","v":""},{"$f":"IFERROR(IF('Proyeccion Cuotas'!$D119=\"\",\"\",IF(OR('Proyeccion Cuotas'!$F119=7,'Proyeccion Cuotas'!$F119=12),($B$45+(($F$1-$B$47)/$F$3)),(($F$1-$B$47)/$F$3))),0)","v":""},{"$f":"IFERROR(IF('Proyeccion Cuotas'!$D119=\"\",\"\",(M118*$F$5*'Proyeccion Cuotas'!$K119/365)),\"\")","v":""},{"$f":"+IF('Proyeccion Cuotas'!$D119=\"\",\"\",'Proyeccion Cuotas'!$H119-H118)","v":""},{"$f":"IFERROR('Proyeccion Cuotas'!$I119+'Proyeccion Cuotas'!$J119,\"\")","v":""},{"$f":"+IFERROR((M118-'Proyeccion Cuotas'!$I119),\"\")","v":""}]
[null,null,null,"",{"$f":"IF('Proyeccion Cuotas'!$D120=\"\",\"\",IF(F119=12,E119+1,E119))","v":""},{"$f":"IF('Proyeccion Cuotas'!$D120=\"\",\"\",IF(F119=12,1,F119+1))","v":""},{"$f":"+IF('Proyeccion Cuotas'!$D120=\"\",\"\",VLOOKUP('Proyeccion Cuotas'!$F120,$A$16:$B$27,2,FALSE))","v":""},{"$f":"IF('Proyeccion Cuotas'!$D120=\"\",\"\",CONCATENATE('Proyeccion Cuotas'!$G120,\"/\",'Proyeccion Cuotas'!$F120,\"/\",'Proyeccion Cuotas'!$E120))","v":""},{"$f":"IFERROR(IF('Proyeccion Cuotas'!$D120=\"\",\"\",IF(OR('Proyeccion Cuotas'!$F120=7,'Proyeccion Cuotas'!$F120=12),($B$45+(($F$1-$B$47)/$F$3)),(($F$1-$B$47)/$F$3))),0)","v":""},{"$f":"IFERROR(IF('Proyeccion Cuotas'!$D120=\"\",\"\",(M119*$F$5*'Proyeccion Cuotas'!$K120/365)),\"\")","v":""},{"$f":"+IF('Proyeccion Cuotas'!$D120=\"\",\"\",'Proyeccion Cuotas'!$H120-H119)","v":""},{"$f":"IFERROR('Proyeccion Cuotas'!$I120+'Proyeccion Cuotas'!$J120,\"\")","v":""},{"$f":"+IFERROR((M119-'Proyeccion Cuotas'!$I120),\"\")","v":""}]
[null,null,null,"",{"$f":"IF('Proyeccion Cuotas'!$D121=\"\",\"\",IF(F120=12,E120+1,E120))","v":""},{"$f":"IF('Proyeccion Cuotas'!$D121=\"\",\"\",IF(F120=12,1,F120+1))","v":""},{"$f":"+IF('Proyeccion Cuotas'!$D121=\"\",\"\",VLOOKUP('Proyeccion Cuotas'!$F121,$A$16:$B$27,2,FALSE))","v":""},{"$f":"IF('Proyeccion Cuotas'!$D121=\"\",\"\",CONCATENATE('Proyeccion Cuotas'!$G121,\"/\",'Proyeccion Cuotas'!$F121,\"/\",'Proyeccion Cuotas'!$E121))","v":""},{"$f":"IFERROR(IF('Proyeccion Cuotas'!$D121=\"\",\"\",IF(OR('Proyeccion Cuotas'!$F121=7,'Proyeccion Cuotas'!$F121=12),($B$45+(($F$1-$B$47)/$F$3)),(($F$1-$B$47)/$F$3))),0)","v":""},{"$f":"IFERROR(IF('Proyeccion Cuotas'!$D121=\"\",\"\",(M120*$F$5*'Proyeccion Cuotas'!$K121/365)),\"\")","v":""},{"$f":"+IF('Proyeccion Cuotas'!$D121=\"\",\"\",'Proyeccion Cuotas'!$H121-H120)","v":""},{"$f":"IFERROR('Proyeccion Cuotas'!$I121+'Proyeccion Cuotas'!$J121,\"\")","v":""},{"$f":"+IFERROR((M120-'Proyeccion Cuotas'!$I121),\"\")","v":""}]
[null,null,null,"",{"$f":"IF('Proyeccion Cuotas'!$D122=\"\",\"\",IF(F121=12,E121+1,E121))","v":""},{"$f":"IF('Proyeccion Cuotas'!$D122=\"\",\"\",IF(F121=12,1,F121+1))","v":""},{"$f":"+IF('Proyeccion Cuotas'!$D122=\"\",\"\",VLOOKUP('Proyeccion Cuotas'!$F122,$A$16:$B$27,2,FALSE))","v":""},{"$f":"IF('Proyeccion Cuotas'!$D122=\"\",\"\",CONCATENATE('Proyeccion Cuotas'!$G122,\"/\",'Proyeccion Cuotas'!$F122,\"/\",'Proyeccion Cuotas'!$E122))","v":""},{"$f":"IFERROR(IF('Proyeccion Cuotas'!$D122=\"\",\"\",IF(OR('Proyeccion Cuotas'!$F122=7,'Proyeccion Cuotas'!$F122=12),($B$45+(($F$1-$B$47)/$F$3)),(($F$1-$B$47)/$F$3))),0)","v":""},{"$f":"IFERROR(IF('Proyeccion Cuotas'!$D122=\"\",\"\",(M121*$F$5*'Proyeccion Cuotas'!$K122/365)),\"\")","v":""},{"$f":"+IF('Proyeccion Cuotas'!$D122=\"\",\"\",'Proyeccion Cuotas'!$H122-H121)","v":""},{"$f":"IFERROR('Proyeccion Cuotas'!$I122+'Proyeccion Cuotas'!$J122,\"\")","v":""},{"$f":"+IFERROR((M121-'Proyeccion Cuotas'!$I122),\"\")","v":""}]
[null,null,null,"",{"$f":"IF('Proyeccion Cuotas'!$D123=\"\",\"\",IF(F122=12,E122+1,E122))","v":""},{"$f":"IF('Proyeccion Cuotas'!$D123=\"\",\"\",IF(F122=12,1,F122+1))","v":""},{"$f":"+IF('Proyeccion Cuotas'!$D123=\"\",\"\",VLOOKUP('Proyeccion Cuotas'!$F123,$A$16:$B$27,2,FALSE))","v":""},{"$f":"IF('Proyeccion Cuotas'!$D123=\"\",\"\",CONCATENATE('Proyeccion Cuotas'!$G123,\"/\",'Proyeccion Cuotas'!$F123,\"/\",'Proyeccion Cuotas'!$E123))","v":""},{"$f":"IFERROR(IF('Proyeccion Cuotas'!$D123=\"\",\"\",IF(OR('Proyeccion Cuotas'!$F123=7,'Proyeccion Cuotas'!$F123=12),($B$45+(($F$1-$B$47)/$F$3)),(($F$1-$B$47)/$F$3))),0)","v":""},{"$f":"IFERROR(IF('Proyeccion Cuotas'!$D123=\"\",\"\",(M122*$F$5*'Proyeccion Cuotas'!$K123/365)),\"\")","v":""},{"$f":"+IF('Proyeccion Cuotas'!$D123=\"\",\"\",'Proyeccion Cuotas'!$H123-H122)","v":""},{"$f":"IFERROR('Proyeccion Cuotas'!$I123+'Proyeccion Cuotas'!$J123,\"\")","v":""},{"$f":"+IFERROR((M122-'Proyeccion Cuotas'!$I123),\"\")","v":""}]
[null,null,null,"",{"$f":"IF('Proyeccion Cuotas'!$D124=\"\",\"\",IF(F123=12,E123+1,E123))","v":""},{"$f":"IF('Proyeccion Cuotas'!$D124=\"\",\"\",IF(F123=12,1,F123+1))","v":""},{"$f":"+IF('Proyeccion Cuotas'!$D124=\"\",\"\",VLOOKUP('Proyeccion Cuotas'!$F124,$A$16:$B$27,2,FALSE))","v":""},{"$f":"IF('Proyeccion Cuotas'!$D124=\"\",\"\",CONCATENATE('Proyeccion Cuotas'!$G124,\"/\",'Proyeccion Cuotas'!$F124,\"/\",'Proyeccion Cuotas'!$E124))","v":""},{"$f":"IFERROR(IF('Proyeccion Cuotas'!$D124=\"\",\"\",IF(OR('Proyeccion Cuotas'!$F124=7,'Proyeccion Cuotas'!$F124=12),($B$45+(($F$1-$B$47)/$F$3)),(($F$1-$B$47)/$F$3))),0)","v":""},{"$f":"IFERROR(IF('Proyeccion Cuotas'!$D124=\"\",\"\",(M123*$F$5*'Proyeccion Cuotas'!$K124/365)),\"\")","v":""},{"$f":"+IF('Proyeccion Cuotas'!$D124=\"\",\"\",'Proyeccion Cuotas'!$H124-H123)","v":""},{"$f":"IFERROR('Proyeccion Cuotas'!$I124+'Proyeccion Cuotas'!$J124,\"\")","v":""},{"$f":"+IFERROR((M123-'Proyeccion Cuotas'!$I124),\"\")","v":""}]
[null,null,null,"",{"$f":"IF('Proyeccion Cuotas'!$D125=\"\",\"\",IF(F124=12,E124+1,E124))","v":""},{"$f":"IF('Proyeccion Cuotas'!$D125=\"\",\"\",IF(F124=12,1,F124+1))","v":""},{"$f":"+IF('Proyeccion Cuotas'!$D125=\"\",\"\",VLOOKUP('Proyeccion Cuotas'!$F125,$A$16:$B$27,2,FALSE))","v":""},{"$f":"IF('Proyeccion Cuotas'!$D125=\"\",\"\",CONCATENATE('Proyeccion Cuotas'!$G125,\"/\",'Proyeccion Cuotas'!$F125,\"/\",'Proyeccion Cuotas'!$E125))","v":""},{"$f":"IFERROR(IF('Proyeccion Cuotas'!$D125=\"\",\"\",IF(OR('Proyeccion Cuotas'!$F125=7,'Proyeccion Cuotas'!$F125=12),($B$45+(($F$1-$B$47)/$F$3)),(($F$1-$B$47)/$F$3))),0)","v":""},{"$f":"IFERROR(IF('Proyeccion Cuotas'!$D125=\"\",\"\",(M124*$F$5*'Proyeccion Cuotas'!$K125/365)),\"\")","v":""},{"$f":"+IF('Proyeccion Cuotas'!$D125=\"\",\"\",'Proyeccion Cuotas'!$H125-H124)","v":""},{"$f":"IFERROR('Proyeccion Cuotas'!$I125+'Proyeccion Cuotas'!$J125,\"\")","v":""},{"$f":"+IFERROR((M124-'Proyeccion Cuotas'!$I125),\"\")","v":""}]
[null,null,null,"",{"$f":"IF('Proyeccion Cuotas'!$D126=\"\",\"\",IF(F125=12,E125+1,E125))","v":""},{"$f":"IF('Proyeccion Cuotas'!$D126=\"\",\"\",IF(F125=12,1,F125+1))","v":""},{"$f":"+IF('Proyeccion Cuotas'!$D126=\"\",\"\",VLOOKUP('Proyeccion Cuotas'!$F126,$A$16:$B$27,2,FALSE))","v":""},{"$f":"IF('Proyeccion Cuotas'!$D126=\"\",\"\",CONCATENATE('Proyeccion Cuotas'!$G126,\"/\",'Proyeccion Cuotas'!$F126,\"/\",'Proyeccion Cuotas'!$E126))","v":""},{"$f":"IFERROR(IF('Proyeccion Cuotas'!$D126=\"\",\"\",IF(OR('Proyeccion Cuotas'!$F126=7,'Proyeccion Cuotas'!$F126=12),($B$45+(($F$1-$B$47)/$F$3)),(($F$1-$B$47)/$F$3))),0)","v":""},{"$f":"IFERROR(IF('Proyeccion Cuotas'!$D126=\"\",\"\",(M125*$F$5*'Proyeccion Cuotas'!$K126/365)),\"\")","v":""},{"$f":"+IF('Proyeccion Cuotas'!$D126=\"\",\"\",'Proyeccion Cuotas'!$H126-H125)","v":""},{"$f":"IFERROR('Proyeccion Cuotas'!$I126+'Proyeccion Cuotas'!$J126,\"\")","v":""},{"$f":"+IFERROR((M125-'Proyeccion Cuotas'!$I126),\"\")","v":""}]
[null,null,null,"",{"$f":"IF('Proyeccion Cuotas'!$D127=\"\",\"\",IF(F126=12,E126+1,E126))","v":""},{"$f":"IF('Proyeccion Cuotas'!$D127=\"\",\"\",IF(F126=12,1,F126+1))","v":""},{"$f":"+IF('Proyeccion Cuotas'!$D127=\"\",\"\",VLOOKUP('Proyeccion Cuotas'!$F127,$A$16:$B$27,2,FALSE))","v":""},{"$f":"IF('Proyeccion Cuotas'!$D127=\"\",\"\",CONCATENATE('Proyeccion Cuotas'!$G127,\"/\",'Proyeccion Cuotas'!$F127,\"/\",'Proyeccion Cuotas'!$E127))","v":""},{"$f":"IFERROR(IF('Proyeccion Cuotas'!$D127=\"\",\"\",IF(OR('Proyeccion Cuotas'!$F127=7,'Proyeccion Cuotas'!$F127=12),($B$45+(($F$1-$B$47)/$F$3)),(($F$1-$B$47)/$F$3))),0)","v":""},{"$f":"IFERROR(IF('Proyeccion Cuotas'!$D127=\"\",\"\",(M126*$F$5*'Proyeccion Cuotas'!$K127/365)),\"\")","v":""},{"$f":"+IF('Proyeccion Cuotas'!$D127=\"\",\"\",'Proyeccion Cuotas'!$H127-H126)","v":""},{"$f":"IFERROR('Proyeccion Cuotas'!$I127+'Proyeccion Cuotas'!$J127,\"\")","v":""},{"$f":"+IFERROR((M126-'Proyeccion Cuotas'!$I127),\"\")","v":""}]
[null,null,null,"",{"$f":"IF('Proyeccion Cuotas'!$D128=\"\",\"\",IF(F127=12,E127+1,E127))","v":""},{"$f":"IF('Proyeccion Cuotas'!$D128=\"\",\"\",IF(F127=12,1,F127+1))","v":""},{"$f":"+IF('Proyeccion Cuotas'!$D128=\"\",\"\",VLOOKUP('Proyeccion Cuotas'!$F128,$A$16:$B$27,2,FALSE))","v":""},{"$f":"IF('Proyeccion Cuotas'!$D128=\"\",\"\",CONCATENATE('Proyeccion Cuotas'!$G128,\"/\",'Proyeccion Cuotas'!$F128,\"/\",'Proyeccion Cuotas'!$E128))","v":""},{"$f":"IFERROR(IF('Proyeccion Cuotas'!$D128=\"\",\"\",IF(OR('Proyeccion Cuotas'!$F128=7,'Proyeccion Cuotas'!$F128=12),($B$45+(($F$1-$B$47)/$F$3)),(($F$1-$B$47)/$F$3))),0)","v":""},{"$f":"IFERROR(IF('Proyeccion Cuotas'!$D128=\"\",\"\",(M127*$F$5*'Proyeccion Cuotas'!$K128/365)),\"\")","v":""},{"$f":"+IF('Proyeccion Cuotas'!$D128=\"\",\"\",'Proyeccion Cuotas'!$H128-H127)","v":""},{"$f":"IFERROR('Proyeccion Cuotas'!$I128+'Proyeccion Cuotas'!$J128,\"\")","v":""},{"$f":"+IFERROR((M127-'Proyeccion Cuotas'!$I128),\"\")","v":""}]
[null,null,null,"",{"$f":"IF('Proyeccion Cuotas'!$D129=\"\",\"\",IF(F128=12,E128+1,E128))","v":""},{"$f":"IF('Proyeccion Cuotas'!$D129=\"\",\"\",IF(F128=12,1,F128+1))","v":""},{"$f":"+IF('Proyeccion Cuotas'!$D129=\"\",\"\",VLOOKUP('Proyeccion Cuotas'!$F129,$A$16:$B$27,2,FALSE))","v":""},{"$f":"IF('Proyeccion Cuotas'!$D129=\"\",\"\",CONCATENATE('Proyeccion Cuotas'!$G129,\"/\",'Proyeccion Cuotas'!$F129,\"/\",'Proyeccion Cuotas'!$E129))","v":""},{"$f":"IFERROR(IF('Proyeccion Cuotas'!$D129=\"\",\"\",IF(OR('Proyeccion Cuotas'!$F129=7,'Proyeccion Cuotas'!$F129=12),($B$45+(($F$1-$B$47)/$F$3)),(($F$1-$B$47)/$F$3))),0)","v":""},{"$f":"IFERROR(IF('Proyeccion Cuotas'!$D129=\"\",\"\",(M128*$F$5*'Proyeccion Cuotas'!$K129/365)),\"\")","v":""},{"$f":"+IF('Proyeccion Cuotas'!$D129=\"\",\"\",'Proyeccion Cuotas'!$H129-H128)","v":""},{"$f":"IFERROR('Proyeccion Cuotas'!$I129+'Proyeccion Cuotas'!$J129,\"\")","v":""},{"$f":"+IFERROR((M128-'Proyeccion Cuotas'!$I129),\"\")","v":""}]
[null,null,null,"",{"$f":"IF('Proyeccion Cuotas'!$D130=\"\",\"\",IF(F129=12,E129+1,E129))","v":""},{"$f":"IF('Proyeccion Cuotas'!$D130=\"\",\"\",IF(F129=12,1,F129+1))","v":""},{"$f":"+IF('Proyeccion Cuotas'!$D130=\"\",\"\",VLOOKUP('Proyeccion Cuotas'!$F130,$A$16:$B$27,2,FALSE))","v":""},{"$f":"IF('Proyeccion Cuotas'!$D130=\"\",\"\",CONCATENATE('Proyeccion Cuotas'!$G130,\"/\",'Proyeccion Cuotas'!$F130,\"/\",'Proyeccion Cuotas'!$E130))","v":""},{"$f":"IFERROR(IF('Proyeccion Cuotas'!$D130=\"\",\"\",IF(OR('Proyeccion Cuotas'!$F130=7,'Proyeccion Cuotas'!$F130=12),($B$45+(($F$1-$B$47)/$F$3)),(($F$1-$B$47)/$F$3))),0)","v":""},{"$f":"IFERROR(IF('Proyeccion Cuotas'!$D130=\"\",\"\",(M129*$F$5*'Proyeccion Cuotas'!$K130/365)),\"\")","v":""},{"$f":"+IF('Proyeccion Cuotas'!$D130=\"\",\"\",'Proyeccion Cuotas'!$H130-H129)","v":""},{"$f":"IFERROR('Proyeccion Cuotas'!$I130+'Proyeccion Cuotas'!$J130,\"\")","v":""},{"$f":"+IFERROR((M129-'Proyeccion Cuotas'!$I130),\"\")","v":""}]
[null,null,null,"",{"$f":"IF('Proyeccion Cuotas'!$D131=\"\",\"\",IF(F130=12,E130+1,E130))","v":""},{"$f":"IF('Proyeccion Cuotas'!$D131=\"\",\"\",IF(F130=12,1,F130+1))","v":""},{"$f":"+IF('Proyeccion Cuotas'!$D131=\"\",\"\",VLOOKUP('Proyeccion Cuotas'!$F131,$A$16:$B$27,2,FALSE))","v":""},{"$f":"IF('Proyeccion Cuotas'!$D131=\"\",\"\",CONCATENATE('Proyeccion Cuotas'!$G131,\"/\",'Proyeccion Cuotas'!$F131,\"/\",'Proyeccion Cuotas'!$E131))","v":""},{"$f":"IFERROR(IF('Proyeccion Cuotas'!$D131=\"\",\"\",IF(OR('Proyeccion Cuotas'!$F131=7,'Proyeccion Cuotas'!$F131=12),($B$45+(($F$1-$B$47)/$F$3)),(($F$1-$B$47)/$F$3))),0)","v":""},{"$f":"IFERROR(IF('Proyeccion Cuotas'!$D131=\"\",\"\",(M130*$F$5*'Proyeccion Cuotas'!$K131/365)),\"\")","v":""},{"$f":"+IF('Proyeccion Cuotas'!$D131=\"\",\"\",'Proyeccion Cuotas'!$H131-H130)","v":""},{"$f":"IFERROR('Proyeccion Cuotas'!$I131+'Proyeccion Cuotas'!$J131,\"\")","v":""},{"$f":"+IFERROR((M130-'Proyeccion Cuotas'!$I131),\"\")","v":""}]
[null,null,null,"",{"$f":"IF('Proyeccion Cuotas'!$D132=\"\",\"\",IF(F131=12,E131+1,E131))","v":""},{"$f":"IF('Proyeccion Cuotas'!$D132=\"\",\"\",IF(F131=12,1,F131+1))","v":""},{"$f":"+IF('Proyeccion Cuotas'!$D132=\"\",\"\",VLOOKUP('Proyeccion Cuotas'!$F132,$A$16:$B$27,2,FALSE))","v":""},{"$f":"IF('Proyeccion Cuotas'!$D132=\"\",\"\",CONCATENATE('Proyeccion Cuotas'!$G132,\"/\",'Proyeccion Cuotas'!$F132,\"/\",'Proyeccion Cuotas'!$E132))","v":""},{"$f":"IFERROR(IF('Proyeccion Cuotas'!$D132=\"\",\"\",IF(OR('Proyeccion Cuotas'!$F132=7,'Proyeccion Cuotas'!$F132=12),($B$45+(($F$1-$B$47)/$F$3)),(($F$1-$B$47)/$F$3))),0)","v":""},{"$f":"IFERROR(IF('Proyeccion Cuotas'!$D132=\"\",\"\",(M131*$F$5*'Proyeccion Cuotas'!$K132/365)),\"\")","v":""},{"$f":"+IF('Proyeccion Cuotas'!$D132=\"\",\"\",'Proyeccion Cuotas'!$H132-H131)","v":""},{"$f":"IFERROR('Proyeccion Cuotas'!$I132+'Proyeccion Cuotas'!$J132,\"\")","v":""},{"$f":"+IFERROR((M131-'Proyeccion Cuotas'!$I132),\"\")","v":""}]
[null,null,null,"",{"$f":"IF('Proyeccion Cuotas'!$D133=\"\",\"\",IF(F132=12,E132+1,E132))","v":""},{"$f":"IF('Proyeccion Cuotas'!$D133=\"\",\"\",IF(F132=12,1,F132+1))","v":""},{"$f":"+IF('Proyeccion Cuotas'!$D133=\"\",\"\",VLOOKUP('Proyeccion Cuotas'!$F133,$A$16:$B$27,2,FALSE))","v":""},{"$f":"IF('Proyeccion Cuotas'!$D133=\"\",\"\",CONCATENATE('Proyeccion Cuotas'!$G133,\"/\",'Proyeccion Cuotas'!$F133,\"/\",'Proyeccion Cuotas'!$E133))","v":""},{"$f":"IFERROR(IF('Proyeccion Cuotas'!$D133=\"\",\"\",IF(OR('Proyeccion Cuotas'!$F133=7,'Proyeccion Cuotas'!$F133=12),($B$45+(($F$1-$B$47)/$F$3)),(($F$1-$B$47)/$F$3))),0)","v":""},{"$f":"IFERROR(IF('Proyeccion Cuotas'!$D133=\"\",\"\",(M132*$F$5*'Proyeccion Cuotas'!$K133/365)),\"\")","v":""},{"$f":"+IF('Proyeccion Cuotas'!$D133=\"\",\"\",'Proyeccion Cuotas'!$H133-H132)","v":""},{"$f":"IFERROR('Proyeccion Cuotas'!$I133+'Proyeccion Cuotas'!$J133,\"\")","v":""},{"$f":"+IFERROR((M132-'Proyeccion Cuotas'!$I133),\"\")","v":""}]
[null,null,null,"",{"$f":"IF('Proyeccion Cuotas'!$D134=\"\",\"\",IF(F133=12,E133+1,E133))","v":""},{"$f":"IF('Proyeccion Cuotas'!$D134=\"\",\"\",IF(F133=12,1,F133+1))","v":""},{"$f":"+IF('Proyeccion Cuotas'!$D134=\"\",\"\",VLOOKUP('Proyeccion Cuotas'!$F134,$A$16:$B$27,2,FALSE))","v":""},{"$f":"IF('Proyeccion Cuotas'!$D134=\"\",\"\",CONCATENATE('Proyeccion Cuotas'!$G134,\"/\",'Proyeccion Cuotas'!$F134,\"/\",'Proyeccion Cuotas'!$E134))","v":""},{"$f":"IFERROR(IF('Proyeccion Cuotas'!$D134=\"\",\"\",IF(OR('Proyeccion Cuotas'!$F134=7,'Proyeccion Cuotas'!$F134=12),($B$45+(($F$1-$B$47)/$F$3)),(($F$1-$B$47)/$F$3))),0)","v":""},{"$f":"IFERROR(IF('Proyeccion Cuotas'!$D134=\"\",\"\",(M133*$F$5*'Proyeccion Cuotas'!$K134/365)),\"\")","v":""},{"$f":"+IF('Proyeccion Cuotas'!$D134=\"\",\"\",'Proyeccion Cuotas'!$H134-H133)","v":""},{"$f":"IFERROR('Proyeccion Cuotas'!$I134+'Proyeccion Cuotas'!$J134,\"\")","v":""},{"$f":"+IFERROR((M133-'Proyeccion Cuotas'!$I134),\"\")","v":""}]
[null,null,null,"",{"$f":"IF('Proyeccion Cuotas'!$D135=\"\",\"\",IF(F134=12,E134+1,E134))","v":""},{"$f":"IF('Proyeccion Cuotas'!$D135=\"\",\"\",IF(F134=12,1,F134+1))","v":""},{"$f":"+IF('Proyeccion Cuotas'!$D135=\"\",\"\",VLOOKUP('Proyeccion Cuotas'!$F135,$A$16:$B$27,2,FALSE))","v":""},{"$f":"IF('Proyeccion Cuotas'!$D135=\"\",\"\",CONCATENATE('Proyeccion Cuotas'!$G135,\"/\",'Proyeccion Cuotas'!$F135,\"/\",'Proyeccion Cuotas'!$E135))","v":""},{"$f":"IFERROR(IF('Proyeccion Cuotas'!$D135=\"\",\"\",IF(OR('Proyeccion Cuotas'!$F135=7,'Proyeccion Cuotas'!$F135=12),($B$45+(($F$1-$B$47)/$F$3)),(($F$1-$B$47)/$F$3))),0)","v":""},{"$f":"IFERROR(IF('Proyeccion Cuotas'!$D135=\"\",\"\",(M134*$F$5*'Proyeccion Cuotas'!$K135/365)),\"\")","v":""},{"$f":"+IF('Proyeccion Cuotas'!$D135=\"\",\"\",'Proyeccion Cuotas'!$H135-H134)","v":""},{"$f":"IFERROR('Proyeccion Cuotas'!$I135+'Proyeccion Cuotas'!$J135,\"\")","v":""},{"$f":"+IFERROR((M134-'Proyeccion Cuotas'!$I135),\"\")","v":""}]
[null,null,null,"",{"$f":"IF('Proyeccion Cuotas'!$D136=\"\",\"\",IF(F135=12,E135+1,E135))","v":""},{"$f":"IF('Proyeccion Cuotas'!$D136=\"\",\"\",IF(F135=12,1,F135+1))","v":""},{"$f":"+IF('Proyeccion Cuotas'!$D136=\"\",\"\",VLOOKUP('Proyeccion Cuotas'!$F136,$A$16:$B$27,2,FALSE))","v":""},{"$f":"IF('Proyeccion Cuotas'!$D136=\"\",\"\",CONCATENATE('Proyeccion Cuotas'!$G136,\"/\",'Proyeccion Cuotas'!$F136,\"/\",'Proyeccion Cuotas'!$E136))","v":""},{"$f":"IFERROR(IF('Proyeccion Cuotas'!$D136=\"\",\"\",IF(OR('Proyeccion Cuotas'!$F136=7,'Proyeccion Cuotas'!$F136=12),($B$45+(($F$1-$B$47)/$F$3)),(($F$1-$B$47)/$F$3))),0)","v":""},{"$f":"IFERROR(IF('Proyeccion Cuotas'!$D136=\"\",\"\",(M135*$F$5*'Proyeccion Cuotas'!$K136/365)),\"\")","v":""},{"$f":"+IF('Proyeccion Cuotas'!$D136=\"\",\"\",'Proyeccion Cuotas'!$H136-H135)","v":""},{"$f":"IFERROR('Proyeccion Cuotas'!$I136+'Proyeccion Cuotas'!$J136,\"\")","v":""},{"$f":"+IFERROR((M135-'Proyeccion Cuotas'!$I136),\"\")","v":""}]
[null,null,null,"",{"$f":"IF('Proyeccion Cuotas'!$D137=\"\",\"\",IF(F136=12,E136+1,E136))","v":""},{"$f":"IF('Proyeccion Cuotas'!$D137=\"\",\"\",IF(F136=12,1,F136+1))","v":""},{"$f":"+IF('Proyeccion Cuotas'!$D137=\"\",\"\",VLOOKUP('Proyeccion Cuotas'!$F137,$A$16:$B$27,2,FALSE))","v":""},{"$f":"IF('Proyeccion Cuotas'!$D137=\"\",\"\",CONCATENATE('Proyeccion Cuotas'!$G137,\"/\",'Proyeccion Cuotas'!$F137,\"/\",'Proyeccion Cuotas'!$E137))","v":""},{"$f":"IFERROR(IF('Proyeccion Cuotas'!$D137=\"\",\"\",IF(OR('Proyeccion Cuotas'!$F137=7,'Proyeccion Cuotas'!$F137=12),($B$45+(($F$1-$B$47)/$F$3)),(($F$1-$B$47)/$F$3))),0)","v":""},{"$f":"IFERROR(IF('Proyeccion Cuotas'!$D137=\"\",\"\",(M136*$F$5*'Proyeccion Cuotas'!$K137/365)),\"\")","v":""},{"$f":"+IF('Proyeccion Cuotas'!$D137=\"\",\"\",'Proyeccion Cuotas'!$H137-H136)","v":""},{"$f":"IFERROR('Proyeccion Cuotas'!$I137+'Proyeccion Cuotas'!$J137,\"\")","v":""},{"$f":"+IFERROR((M136-'Proyeccion Cuotas'!$I137),\"\")","v":""}]
[null,null,null,"",{"$f":"IF('Proyeccion Cuotas'!$D138=\"\",\"\",IF(F137=12,E137+1,E137))","v":""},{"$f":"IF('Proyeccion Cuotas'!$D138=\"\",\"\",IF(F137=12,1,F137+1))","v":""},{"$f":"+IF('Proyeccion Cuotas'!$D138=\"\",\"\",VLOOKUP('Proyeccion Cuotas'!$F138,$A$16:$B$27,2,FALSE))","v":""},{"$f":"IF('Proyeccion Cuotas'!$D138=\"\",\"\",CONCATENATE('Proyeccion Cuotas'!$G138,\"/\",'Proyeccion Cuotas'!$F138,\"/\",'Proyeccion Cuotas'!$E138))","v":""},{"$f":"IFERROR(IF('Proyeccion Cuotas'!$D138=\"\",\"\",IF(OR('Proyeccion Cuotas'!$F138=7,'Proyeccion Cuotas'!$F138=12),($B$45+(($F$1-$B$47)/$F$3)),(($F$1-$B$47)/$F$3))),0)","v":""},{"$f":"IFERROR(IF('Proyeccion Cuotas'!$D138=\"\",\"\",(M137*$F$5*'Proyeccion Cuotas'!$K138/365)),\"\")","v":""},{"$f":"+IF('Proyeccion Cuotas'!$D138=\"\",\"\",'Proyeccion Cuotas'!$H138-H137)","v":""},{"$f":"IFERROR('Proyeccion Cuotas'!$I138+'Proyeccion Cuotas'!$J138,\"\")","v":""},{"$f":"+IFERROR((M137-'Proyeccion Cuotas'!$I138),\"\")","v":""}]
[null,null,null,"",{"$f":"IF('Proyeccion Cuotas'!$D139=\"\",\"\",IF(F138=12,E138+1,E138))","v":""},{"$f":"IF('Proyeccion Cuotas'!$D139=\"\",\"\",IF(F138=12,1,F138+1))","v":""},{"$f":"+IF('Proyeccion Cuotas'!$D139=\"\",\"\",VLOOKUP('Proyeccion Cuotas'!$F139,$A$16:$B$27,2,FALSE))","v":""},{"$f":"IF('Proyeccion Cuotas'!$D139=\"\",\"\",CONCATENATE('Proyeccion Cuotas'!$G139,\"/\",'Proyeccion Cuotas'!$F139,\"/\",'Proyeccion Cuotas'!$E139))","v":""},{"$f":"IFERROR(IF('Proyeccion Cuotas'!$D139=\"\",\"\",IF(OR('Proyeccion Cuotas'!$F139=7,'Proyeccion Cuotas'!$F139=12),($B$45+(($F$1-$B$47)/$F$3)),(($F$1-$B$47)/$F$3))),0)","v":""},{"$f":"IFERROR(IF('Proyeccion Cuotas'!$D139=\"\",\"\",(M138*$F$5*'Proyeccion Cuotas'!$K139/365)),\"\")","v":""},{"$f":"+IF('Proyeccion Cuotas'!$D139=\"\",\"\",'Proyeccion Cuotas'!$H139-H138)","v":""},{"$f":"IFERROR('Proyeccion Cuotas'!$I139+'Proyeccion Cuotas'!$J139,\"\")","v":""},{"$f":"+IFERROR((M138-'Proyeccion Cuotas'!$I139),\"\")","v":""}]
[null,null,null,"",{"$f":"IF('Proyeccion Cuotas'!$D140=\"\",\"\",IF(F139=12,E139+1,E139))","v":""},{"$f":"IF('Proyeccion Cuotas'!$D140=\"\",\"\",IF(F139=12,1,F139+1))","v":""},{"$f":"+IF('Proyeccion Cuotas'!$D140=\"\",\"\",VLOOKUP('Proyeccion Cuotas'!$F140,$A$16:$B$27,2,FALSE))","v":""},{"$f":"IF('Proyeccion Cuotas'!$D140=\"\",\"\",CONCATENATE('Proyeccion Cuotas'!$G140,\"/\",'Proyeccion Cuotas'!$F140,\"/\",'Proyeccion Cuotas'!$E140))","v":""},{"$f":"IFERROR(IF('Proyeccion Cuotas'!$D140=\"\",\"\",IF(OR('Proyeccion Cuotas'!$F140=7,'Proyeccion Cuotas'!$F140=12),($B$45+(($F$1-$B$47)/$F$3)),(($F$1-$B$47)/$F$3))),0)","v":""},{"$f":"IFERROR(IF('Proyeccion Cuotas'!$D140=\"\",\"\",(M139*$F$5*'Proyeccion Cuotas'!$K140/365)),\"\")","v":""},{"$f":"+IF('Proyeccion Cuotas'!$D140=\"\",\"\",'Proyeccion Cuotas'!$H140-H139)","v":""},{"$f":"IFERROR('Proyeccion Cuotas'!$I140+'Proyeccion Cuotas'!$J140,\"\")","v":""},{"$f":"+IFERROR((M139-'Proyeccion Cuotas'!$I140),\"\")","v":""}]
[null,null,null,"",{"$f":"IF('Proyeccion Cuotas'!$D141=\"\",\"\",IF(F140=12,E140+1,E140))","v":""},{"$f":"IF('Proyeccion Cuotas'!$D141=\"\",\"\",IF(F140=12,1,F140+1))","v":""},{"$f":"+IF('Proyeccion Cuotas'!$D141=\"\",\"\",VLOOKUP('Proyeccion Cuotas'!$F141,$A$16:$B$27,2,FALSE))","v":""},{"$f":"IF('Proyeccion Cuotas'!$D141=\"\",\"\",CONCATENATE('Proyeccion Cuotas'!$G141,\"/\",'Proyeccion Cuotas'!$F141,\"/\",'Proyeccion Cuotas'!$E141))","v":""},{"$f":"IFERROR(IF('Proyeccion Cuotas'!$D141=\"\",\"\",IF(OR('Proyeccion Cuotas'!$F141=7,'Proyeccion Cuotas'!$F141=12),($B$45+(($F$1-$B$47)/$F$3)),(($F$1-$B$47)/$F$3))),0)","v":""},{"$f":"IFERROR(IF('Proyeccion Cuotas'!$D141=\"\",\"\",(M140*$F$5*'Proyeccion Cuotas'!$K141/365)),\"\")","v":""},{"$f":"+IF('Proyeccion Cuotas'!$D141=\"\",\"\",'Proyeccion Cuotas'!$H141-H140)","v":""},{"$f":"IFERROR('Proyeccion Cuotas'!$I141+'Proyeccion Cuotas'!$J141,\"\")","v":""},{"$f":"+IFERROR((M140-'Proyeccion Cuotas'!$I141),\"\")","v":""}]
[null,null,null,"",{"$f":"IF('Proyeccion Cuotas'!$D142=\"\",\"\",IF(F141=12,E141+1,E141))","v":""},{"$f":"IF('Proyeccion Cuotas'!$D142=\"\",\"\",IF(F141=12,1,F141+1))","v":""},{"$f":"+IF('Proyeccion Cuotas'!$D142=\"\",\"\",VLOOKUP('Proyeccion Cuotas'!$F142,$A$16:$B$27,2,FALSE))","v":""},{"$f":"IF('Proyeccion Cuotas'!$D142=\"\",\"\",CONCATENATE('Proyeccion Cuotas'!$G142,\"/\",'Proyeccion Cuotas'!$F142,\"/\",'Proyeccion Cuotas'!$E142))","v":""},{"$f":"IFERROR(IF('Proyeccion Cuotas'!$D142=\"\",\"\",IF(OR('Proyeccion Cuotas'!$F142=7,'Proyeccion Cuotas'!$F142=12),($B$45+(($F$1-$B$47)/$F$3)),(($F$1-$B$47)/$F$3))),0)","v":""},{"$f":"IFERROR(IF('Proyeccion Cuotas'!$D142=\"\",\"\",(M141*$F$5*'Proyeccion Cuotas'!$K142/365)),\"\")","v":""},{"$f":"+IF('Proyeccion Cuotas'!$D142=\"\",\"\",'Proyeccion Cuotas'!$H142-H141)","v":""},{"$f":"IFERROR('Proyeccion Cuotas'!$I142+'Proyeccion Cuotas'!$J142,\"\")","v":""},{"$f":"+IFERROR((M141-'Proyeccion Cuotas'!$I142),\"\")","v":""}]
[null,null,null,"",{"$f":"IF('Proyeccion Cuotas'!$D143=\"\",\"\",IF(F142=12,E142+1,E142))","v":""},{"$f":"IF('Proyeccion Cuotas'!$D143=\"\",\"\",IF(F142=12,1,F142+1))","v":""},{"$f":"+IF('Proyeccion Cuotas'!$D143=\"\",\"\",VLOOKUP('Proyeccion Cuotas'!$F143,$A$16:$B$27,2,FALSE))","v":""},{"$f":"IF('Proyeccion Cuotas'!$D143=\"\",\"\",CONCATENATE('Proyeccion Cuotas'!$G143,\"/\",'Proyeccion Cuotas'!$F143,\"/\",'Proyeccion Cuotas'!$E143))","v":""},{"$f":"IFERROR(IF('Proyeccion Cuotas'!$D143=\"\",\"\",IF(OR('Proyeccion Cuotas'!$F143=7,'Proyeccion Cuotas'!$F143=12),($B$45+(($F$1-$B$47)/$F$3)),(($F$1-$B$47)/$F$3))),0)","v":""},{"$f":"IFERROR(IF('Proyeccion Cuotas'!$D143=\"\",\"\",(M142*$F$5*'Proyeccion Cuotas'!$K143/365)),\"\")","v":""},{"$f":"+IF('Proyeccion Cuotas'!$D143=\"\",\"\",'Proyeccion Cuotas'!$H143-H142)","v":""},{"$f":"IFERROR('Proyeccion Cuotas'!$I143+'Proyeccion Cuotas'!$J143,\"\")","v":""},{"$f":"+IFERROR((M142-'Proyeccion Cuotas'!$I143),\"\")","v":""}]
[null,null,null,"",{"$f":"IF('Proyeccion Cuotas'!$D144=\"\",\"\",IF(F143=12,E143+1,E143))","v":""},{"$f":"IF('Proyeccion Cuotas'!$D144=\"\",\"\",IF(F143=12,1,F143+1))","v":""},{"$f":"+IF('Proyeccion Cuotas'!$D144=\"\",\"\",VLOOKUP('Proyeccion Cuotas'!$F144,$A$16:$B$27,2,FALSE))","v":""},{"$f":"IF('Proyeccion Cuotas'!$D144=\"\",\"\",CONCATENATE('Proyeccion Cuotas'!$G144,\"/\",'Proyeccion Cuotas'!$F144,\"/\",'Proyeccion Cuotas'!$E144))","v":""},{"$f":"IFERROR(IF('Proyeccion Cuotas'!$D144=\"\",\"\",IF(OR('Proyeccion Cuotas'!$F144=7,'Proyeccion Cuotas'!$F144=12),($B$45+(($F$1-$B$47)/$F$3)),(($F$1-$B$47)/$F$3))),0)","v":""},{"$f":"IFERROR(IF('Proyeccion Cuotas'!$D144=\"\",\"\",(M143*$F$5*'Proyeccion Cuotas'!$K144/365)),\"\")","v":""},{"$f":"+IF('Proyeccion Cuotas'!$D144=\"\",\"\",'Proyeccion Cuotas'!$H144-H143)","v":""},{"$f":"IFERROR('Proyeccion Cuotas'!$I144+'Proyeccion Cuotas'!$J144,\"\")","v":""},{"$f":"+IFERROR((M143-'Proyeccion Cuotas'!$I144),\"\")","v":""}]
[null,null,null,"",{"$f":"IF('Proyeccion Cuotas'!$D145=\"\",\"\",IF(F144=12,E144+1,E144))","v":""},{"$f":"IF('Proyeccion Cuotas'!$D145=\"\",\"\",IF(F144=12,1,F144+1))","v":""},{"$f":"+IF('Proyeccion Cuotas'!$D145=\"\",\"\",VLOOKUP('Proyeccion Cuotas'!$F145,$A$16:$B$27,2,FALSE))","v":""},{"$f":"IF('Proyeccion Cuotas'!$D145=\"\",\"\",CONCATENATE('Proyeccion Cuotas'!$G145,\"/\",'Proyeccion Cuotas'!$F145,\"/\",'Proyeccion Cuotas'!$E145))","v":""},{"$f":"IFERROR(IF('Proyeccion Cuotas'!$D145=\"\",\"\",IF(OR('Proyeccion Cuotas'!$F145=7,'Proyeccion Cuotas'!$F145=12),($B$45+(($F$1-$B$47)/$F$3)),(($F$1-$B$47)/$F$3))),0)","v":""},{"$f":"IFERROR(IF('Proyeccion Cuotas'!$D145=\"\",\"\",(M144*$F$5*'Proyeccion Cuotas'!$K145/365)),\"\")","v":""},{"$f":"+IF('Proyeccion Cuotas'!$D145=\"\",\"\",'Proyeccion Cuotas'!$H145-H144)","v":""},{"$f":"IFERROR('Proyeccion Cuotas'!$I145+'Proyeccion Cuotas'!$J145,\"\")","v":""},{"$f":"+IFERROR((M144-'Proyeccion Cuotas'!$I145),\"\")","v":""}]
[null,null,null,{"$f":"IFERROR(IF(M145<0.001,\"\",(D145+1)),\"\")","v":""},{"$f":"IF('Proyeccion Cuotas'!$D146=\"\",\"\",IF(F145=12,E145+1,E145))","v":""},{"$f":"IF('Proyeccion Cuotas'!$D146=\"\",\"\",IF(F145=12,1,F145+1))","v":""},{"$f":"+IF('Proyeccion Cuotas'!$D146=\"\",\"\",VLOOKUP('Proyeccion Cuotas'!$F146,$A$16:$B$27,2,FALSE))","v":""},{"$f":"IF('Proyeccion Cuotas'!$D146=\"\",\"\",CONCATENATE('Proyeccion Cuotas'!$G146,\"/\",'Proyeccion Cuotas'!$F146,\"/\",'Proyeccion Cuotas'!$E146))","v":""},{"$f":"IFERROR(IF('Proyeccion Cuotas'!$D146=\"\",\"\",IF(OR('Proyeccion Cuotas'!$F146=7,'Proyeccion Cuotas'!$F146=12),($B$45+(($F$1-$B$47)/$F$3)),(($F$1-$B$47)/$F$3))),0)","v":""},{"$f":"IFERROR(IF('Proyeccion Cuotas'!$D146=\"\",\"\",(M145*$F$5*'Proyeccion Cuotas'!$K146/365)),\"\")","v":""},{"$f":"+IF('Proyeccion Cuotas'!$D146=\"\",\"\",'Proyeccion Cuotas'!$H146-H145)","v":""},{"$f":"IFERROR('Proyeccion Cuotas'!$I146+'Proyeccion Cuotas'!$J146,\"\")","v":""},{"$f":"+IFERROR((M145-'Proyeccion Cuotas'!$I146),\"\")","v":""}]
[null,null,null,"",{"$f":"IF('Proyeccion Cuotas'!$D147=\"\",\"\",IF(F146=12,E146+1,E146))","v":""},{"$f":"IF('Proyeccion Cuotas'!$D147=\"\",\"\",IF(F146=12,1,F146+1))","v":""},{"$f":"+IF('Proyeccion Cuotas'!$D147=\"\",\"\",VLOOKUP('Proyeccion Cuotas'!$F147,$A$16:$B$27,2,FALSE))","v":""},{"$f":"IF('Proyeccion Cuotas'!$D147=\"\",\"\",CONCATENATE('Proyeccion Cuotas'!$G147,\"/\",'Proyeccion Cuotas'!$F147,\"/\",'Proyeccion Cuotas'!$E147))","v":""},{"$f":"IFERROR(IF('Proyeccion Cuotas'!$D147=\"\",\"\",IF(OR('Proyeccion Cuotas'!$F147=7,'Proyeccion Cuotas'!$F147=12),($B$45+(($F$1-$B$47)/$F$3)),(($F$1-$B$47)/$F$3))),0)","v":""},{"$f":"IFERROR(IF('Proyeccion Cuotas'!$D147=\"\",\"\",(M146*$F$5*'Proyeccion Cuotas'!$K147/365)),\"\")","v":""},{"$f":"+IF('Proyeccion Cuotas'!$D147=\"\",\"\",'Proyeccion Cuotas'!$H147-H146)","v":""},{"$f":"IFERROR('Proyeccion Cuotas'!$I147+'Proyeccion Cuotas'!$J147,\"\")","v":""},{"$f":"+IFERROR((M146-'Proyeccion Cuotas'!$I147),\"\")","v":""}]
[null,null,null,"",{"$f":"IF('Proyeccion Cuotas'!$D148=\"\",\"\",IF(F147=12,E147+1,E147))","v":""},{"$f":"IF('Proyeccion Cuotas'!$D148=\"\",\"\",IF(F147=12,1,F147+1))","v":""},{"$f":"+IF('Proyeccion Cuotas'!$D148=\"\",\"\",VLOOKUP('Proyeccion Cuotas'!$F148,$A$16:$B$27,2,FALSE))","v":""},{"$f":"IF('Proyeccion Cuotas'!$D148=\"\",\"\",CONCATENATE('Proyeccion Cuotas'!$G148,\"/\",'Proyeccion Cuotas'!$F148,\"/\",'Proyeccion Cuotas'!$E148))","v":""},{"$f":"IFERROR(IF('Proyeccion Cuotas'!$D148=\"\",\"\",IF(OR('Proyeccion Cuotas'!$F148=7,'Proyeccion Cuotas'!$F148=12),($B$45+(($F$1-$B$47)/$F$3)),(($F$1-$B$47)/$F$3))),0)","v":""},{"$f":"IFERROR(IF('Proyeccion Cuotas'!$D148=\"\",\"\",(M147*$F$5*'Proyeccion Cuotas'!$K148/365)),\"\")","v":""},{"$f":"+IF('Proyeccion Cuotas'!$D148=\"\",\"\",'Proyeccion Cuotas'!$H148-H147)","v":""},{"$f":"IFERROR('Proyeccion Cuotas'!$I148+'Proyeccion Cuotas'!$J148,\"\")","v":""},{"$f":"+IFERROR((M147-'Proyeccion Cuotas'!$I148),\"\")","v":""}]
[null,null,null,"",{"$f":"IF('Proyeccion Cuotas'!$D149=\"\",\"\",IF(F148=12,E148+1,E148))","v":""},{"$f":"IF('Proyeccion Cuotas'!$D149=\"\",\"\",IF(F148=12,1,F148+1))","v":""},{"$f":"+IF('Proyeccion Cuotas'!$D149=\"\",\"\",VLOOKUP('Proyeccion Cuotas'!$F149,$A$16:$B$27,2,FALSE))","v":""},{"$f":"IF('Proyeccion Cuotas'!$D149=\"\",\"\",CONCATENATE('Proyeccion Cuotas'!$G149,\"/\",'Proyeccion Cuotas'!$F149,\"/\",'Proyeccion Cuotas'!$E149))","v":""},{"$f":"IFERROR(IF('Proyeccion Cuotas'!$D149=\"\",\"\",IF(OR('Proyeccion Cuotas'!$F149=7,'Proyeccion Cuotas'!$F149=12),($B$45+(($F$1-$B$47)/$F$3)),(($F$1-$B$47)/$F$3))),0)","v":""},{"$f":"IFERROR(IF('Proyeccion Cuotas'!$D149=\"\",\"\",(M148*$F$5*'Proyeccion Cuotas'!$K149/365)),\"\")","v":""},{"$f":"+IF('Proyeccion Cuotas'!$D149=\"\",\"\",'Proyeccion Cuotas'!$H149-H148)","v":""},{"$f":"IFERROR('Proyeccion Cuotas'!$I149+'Proyeccion Cuotas'!$J149,\"\")","v":""},{"$f":"+IFERROR((M148-'Proyeccion Cuotas'!$I149),\"\")","v":""}]
[null,null,null,"",{"$f":"IF('Proyeccion Cuotas'!$D150=\"\",\"\",IF(F149=12,E149+1,E149))","v":""},{"$f":"IF('Proyeccion Cuotas'!$D150=\"\",\"\",IF(F149=12,1,F149+1))","v":""},{"$f":"+IF('Proyeccion Cuotas'!$D150=\"\",\"\",VLOOKUP('Proyeccion Cuotas'!$F150,$A$16:$B$27,2,FALSE))","v":""},{"$f":"IF('Proyeccion Cuotas'!$D150=\"\",\"\",CONCATENATE('Proyeccion Cuotas'!$G150,\"/\",'Proyeccion Cuotas'!$F150,\"/\",'Proyeccion Cuotas'!$E150))","v":""},{"$f":"IFERROR(IF('Proyeccion Cuotas'!$D150=\"\",\"\",IF(OR('Proyeccion Cuotas'!$F150=7,'Proyeccion Cuotas'!$F150=12),($B$45+(($F$1-$B$47)/$F$3)),(($F$1-$B$47)/$F$3))),0)","v":""},{"$f":"IFERROR(IF('Proyeccion Cuotas'!$D150=\"\",\"\",(M149*$F$5*'Proyeccion Cuotas'!$K150/365)),\"\")","v":""},{"$f":"+IF('Proyeccion Cuotas'!$D150=\"\",\"\",'Proyeccion Cuotas'!$H150-H149)","v":""},{"$f":"IFERROR('Proyeccion Cuotas'!$I150+'Proyeccion Cuotas'!$J150,\"\")","v":""},{"$f":"+IFERROR((M149-'Proyeccion Cuotas'!$I150),\"\")","v":""}]
[null,null,null,"",{"$f":"IF('Proyeccion Cuotas'!$D151=\"\",\"\",IF(F150=12,E150+1,E150))","v":""},{"$f":"IF('Proyeccion Cuotas'!$D151=\"\",\"\",IF(F150=12,1,F150+1))","v":""},{"$f":"+IF('Proyeccion Cuotas'!$D151=\"\",\"\",VLOOKUP('Proyeccion Cuotas'!$F151,$A$16:$B$27,2,FALSE))","v":""},{"$f":"IF('Proyeccion Cuotas'!$D151=\"\",\"\",CONCATENATE('Proyeccion Cuotas'!$G151,\"/\",'Proyeccion Cuotas'!$F151,\"/\",'Proyeccion Cuotas'!$E151))","v":""},{"$f":"IFERROR(IF('Proyeccion Cuotas'!$D151=\"\",\"\",IF(OR('Proyeccion Cuotas'!$F151=7,'Proyeccion Cuotas'!$F151=12),($B$45+(($F$1-$B$47)/$F$3)),(($F$1-$B$47)/$F$3))),0)","v":""},{"$f":"IFERROR(IF('Proyeccion Cuotas'!$D151=\"\",\"\",(M150*$F$5*'Proyeccion Cuotas'!$K151/365)),\"\")","v":""},{"$f":"+IF('Proyeccion Cuotas'!$D151=\"\",\"\",'Proyeccion Cuotas'!$H151-H150)","v":""},{"$f":"IFERROR('Proyeccion Cuotas'!$I151+'Proyeccion Cuotas'!$J151,\"\")","v":""},{"$f":"+IFERROR((M150-'Proyeccion Cuotas'!$I151),\"\")","v":""}]
[null,null,null,"",{"$f":"IF('Proyeccion Cuotas'!$D152=\"\",\"\",IF(F151=12,E151+1,E151))","v":""},{"$f":"IF('Proyeccion Cuotas'!$D152=\"\",\"\",IF(F151=12,1,F151+1))","v":""},{"$f":"+IF('Proyeccion Cuotas'!$D152=\"\",\"\",VLOOKUP('Proyeccion Cuotas'!$F152,$A$16:$B$27,2,FALSE))","v":""},{"$f":"IF('Proyeccion Cuotas'!$D152=\"\",\"\",CONCATENATE('Proyeccion Cuotas'!$G152,\"/\",'Proyeccion Cuotas'!$F152,\"/\",'Proyeccion Cuotas'!$E152))","v":""},{"$f":"IFERROR(IF('Proyeccion Cuotas'!$D152=\"\",\"\",IF(OR('Proyeccion Cuotas'!$F152=7,'Proyeccion Cuotas'!$F152=12),($B$45+(($F$1-$B$47)/$F$3)),(($F$1-$B$47)/$F$3))),0)","v":""},{"$f":"IFERROR(IF('Proyeccion Cuotas'!$D152=\"\",\"\",(M151*$F$5*'Proyeccion Cuotas'!$K152/365)),\"\")","v":""},{"$f":"+IF('Proyeccion Cuotas'!$D152=\"\",\"\",'Proyeccion Cuotas'!$H152-H151)","v":""},{"$f":"IFERROR('Proyeccion Cuotas'!$I152+'Proyeccion Cuotas'!$J152,\"\")","v":""},{"$f":"+IFERROR((M151-'Proyeccion Cuotas'!$I152),\"\")","v":""}]
[null,null,null,"",{"$f":"IF('Proyeccion Cuotas'!$D153=\"\",\"\",IF(F152=12,E152+1,E152))","v":""},{"$f":"IF('Proyeccion Cuotas'!$D153=\"\",\"\",IF(F152=12,1,F152+1))","v":""},{"$f":"+IF('Proyeccion Cuotas'!$D153=\"\",\"\",VLOOKUP('Proyeccion Cuotas'!$F153,$A$16:$B$27,2,FALSE))","v":""},{"$f":"IF('Proyeccion Cuotas'!$D153=\"\",\"\",CONCATENATE('Proyeccion Cuotas'!$G153,\"/\",'Proyeccion Cuotas'!$F153,\"/\",'Proyeccion Cuotas'!$E153))","v":""},{"$f":"IFERROR(IF('Proyeccion Cuotas'!$D153=\"\",\"\",IF(OR('Proyeccion Cuotas'!$F153=7,'Proyeccion Cuotas'!$F153=12),($B$45+(($F$1-$B$47)/$F$3)),(($F$1-$B$47)/$F$3))),0)","v":""},{"$f":"IFERROR(IF('Proyeccion Cuotas'!$D153=\"\",\"\",(M152*$F$5*'Proyeccion Cuotas'!$K153/365)),\"\")","v":""},{"$f":"+IF('Proyeccion Cuotas'!$D153=\"\",\"\",'Proyeccion Cuotas'!$H153-H152)","v":""},{"$f":"IFERROR('Proyeccion Cuotas'!$I153+'Proyeccion Cuotas'!$J153,\"\")","v":""},{"$f":"+IFERROR((M152-'Proyeccion Cuotas'!$I153),\"\")","v":""}]
[null,null,null,"",{"$f":"IF('Proyeccion Cuotas'!$D154=\"\",\"\",IF(F153=12,E153+1,E153))","v":""},{"$f":"IF('Proyeccion Cuotas'!$D154=\"\",\"\",IF(F153=12,1,F153+1))","v":""},{"$f":"+IF('Proyeccion Cuotas'!$D154=\"\",\"\",VLOOKUP('Proyeccion Cuotas'!$F154,$A$16:$B$27,2,FALSE))","v":""},{"$f":"IF('Proyeccion Cuotas'!$D154=\"\",\"\",CONCATENATE('Proyeccion Cuotas'!$G154,\"/\",'Proyeccion Cuotas'!$F154,\"/\",'Proyeccion Cuotas'!$E154))","v":""},{"$f":"IFERROR(IF('Proyeccion Cuotas'!$D154=\"\",\"\",IF(OR('Proyeccion Cuotas'!$F154=7,'Proyeccion Cuotas'!$F154=12),($B$45+(($F$1-$B$47)/$F$3)),(($F$1-$B$47)/$F$3))),0)","v":""},{"$f":"IFERROR(IF('Proyeccion Cuotas'!$D154=\"\",\"\",(M153*$F$5*'Proyeccion Cuotas'!$K154/365)),\"\")","v":""},{"$f":"+IF('Proyeccion Cuotas'!$D154=\"\",\"\",'Proyeccion Cuotas'!$H154-H153)","v":""},{"$f":"IFERROR('Proyeccion Cuotas'!$I154+'Proyeccion Cuotas'!$J154,\"\")","v":""},{"$f":"+IFERROR((M153-'Proyeccion Cuotas'!$I154),\"\")","v":""}]
[null,null,null,"",{"$f":"IF('Proyeccion Cuotas'!$D155=\"\",\"\",IF(F154=12,E154+1,E154))","v":""},{"$f":"IF('Proyeccion Cuotas'!$D155=\"\",\"\",IF(F154=12,1,F154+1))","v":""},{"$f":"+IF('Proyeccion Cuotas'!$D155=\"\",\"\",VLOOKUP('Proyeccion Cuotas'!$F155,$A$16:$B$27,2,FALSE))","v":""},{"$f":"IF('Proyeccion Cuotas'!$D155=\"\",\"\",CONCATENATE('Proyeccion Cuotas'!$G155,\"/\",'Proyeccion Cuotas'!$F155,\"/\",'Proyeccion Cuotas'!$E155))","v":""},{"$f":"IFERROR(IF('Proyeccion Cuotas'!$D155=\"\",\"\",IF(OR('Proyeccion Cuotas'!$F155=7,'Proyeccion Cuotas'!$F155=12),($B$45+(($F$1-$B$47)/$F$3)),(($F$1-$B$47)/$F$3))),0)","v":""},{"$f":"IFERROR(IF('Proyeccion Cuotas'!$D155=\"\",\"\",(M154*$F$5*'Proyeccion Cuotas'!$K155/365)),\"\")","v":""},{"$f":"+IF('Proyeccion Cuotas'!$D155=\"\",\"\",'Proyeccion Cuotas'!$H155-H154)","v":""},{"$f":"IFERROR('Proyeccion Cuotas'!$I155+'Proyeccion Cuotas'!$J155,\"\")","v":""},{"$f":"+IFERROR((M154-'Proyeccion Cuotas'!$I155),\"\")","v":""}]
[null,null,null,"",{"$f":"IF('Proyeccion Cuotas'!$D156=\"\",\"\",IF(F155=12,E155+1,E155))","v":""},{"$f":"IF('Proyeccion Cuotas'!$D156=\"\",\"\",IF(F155=12,1,F155+1))","v":""},{"$f":"+IF('Proyeccion Cuotas'!$D156=\"\",\"\",VLOOKUP('Proyeccion Cuotas'!$F156,$A$16:$B$27,2,FALSE))","v":""},{"$f":"IF('Proyeccion Cuotas'!$D156=\"\",\"\",CONCATENATE('Proyeccion Cuotas'!$G156,\"/\",'Proyeccion Cuotas'!$F156,\"/\",'Proyeccion Cuotas'!$E156))","v":""},{"$f":"IFERROR(IF('Proyeccion Cuotas'!$D156=\"\",\"\",IF(OR('Proyeccion Cuotas'!$F156=7,'Proyeccion Cuotas'!$F156=12),($B$45+(($F$1-$B$47)/$F$3)),(($F$1-$B$47)/$F$3))),0)","v":""},{"$f":"IFERROR(IF('Proyeccion Cuotas'!$D156=\"\",\"\",(M155*$F$5*'Proyeccion Cuotas'!$K156/365)),\"\")","v":""},{"$f":"+IF('Proyeccion Cuotas'!$D156=\"\",\"\",'Proyeccion Cuotas'!$H156-H155)","v":""},{"$f":"IFERROR('Proyeccion Cuotas'!$I156+'Proyeccion Cuotas'!$J156,\"\")","v":""},{"$f":"+IFERROR((M155-'Proyeccion Cuotas'!$I156),\"\")","v":""}]
[null,null,null,"",{"$f":"IF('Proyeccion Cuotas'!$D157=\"\",\"\",IF(F156=12,E156+1,E156))","v":""},{"$f":"IF('Proyeccion Cuotas'!$D157=\"\",\"\",IF(F156=12,1,F156+1))","v":""},{"$f":"+IF('Proyeccion Cuotas'!$D157=\"\",\"\",VLOOKUP('Proyeccion Cuotas'!$F157,$A$16:$B$27,2,FALSE))","v":""},{"$f":"IF('Proyeccion Cuotas'!$D157=\"\",\"\",CONCATENATE('Proyeccion Cuotas'!$G157,\"/\",'Proyeccion Cuotas'!$F157,\"/\",'Proyeccion Cuotas'!$E157))","v":""},{"$f":"IFERROR(IF('Proyeccion Cuotas'!$D157=\"\",\"\",IF(OR('Proyeccion Cuotas'!$F157=7,'Proyeccion Cuotas'!$F157=12),($B$45+(($F$1-$B$47)/$F$3)),(($F$1-$B$47)/$F$3))),0)","v":""},{"$f":"IFERROR(IF('Proyeccion Cuotas'!$D157=\"\",\"\",(M156*$F$5*'Proyeccion Cuotas'!$K157/365)),\"\")","v":""},{"$f":"+IF('Proyeccion Cuotas'!$D157=\"\",\"\",'Proyeccion Cuotas'!$H157-H156)","v":""},{"$f":"IFERROR('Proyeccion Cuotas'!$I157+'Proyeccion Cuotas'!$J157,\"\")","v":""},{"$f":"+IFERROR((M156-'Proyeccion Cuotas'!$I157),\"\")","v":""}]
[null,null,null,"",{"$f":"IF('Proyeccion Cuotas'!$D158=\"\",\"\",IF(F157=12,E157+1,E157))","v":""},{"$f":"IF('Proyeccion Cuotas'!$D158=\"\",\"\",IF(F157=12,1,F157+1))","v":""},{"$f":"+IF('Proyeccion Cuotas'!$D158=\"\",\"\",VLOOKUP('Proyeccion Cuotas'!$F158,$A$16:$B$27,2,FALSE))","v":""},{"$f":"IF('Proyeccion Cuotas'!$D158=\"\",\"\",CONCATENATE('Proyeccion Cuotas'!$G158,\"/\",'Proyeccion Cuotas'!$F158,\"/\",'Proyeccion Cuotas'!$E158))","v":""},{"$f":"IFERROR(IF('Proyeccion Cuotas'!$D158=\"\",\"\",IF(OR('Proyeccion Cuotas'!$F158=7,'Proyeccion Cuotas'!$F158=12),($B$45+(($F$1-$B$47)/$F$3)),(($F$1-$B$47)/$F$3))),0)","v":""},{"$f":"IFERROR(IF('Proyeccion Cuotas'!$D158=\"\",\"\",(M157*$F$5*'Proyeccion Cuotas'!$K158/365)),\"\")","v":""},{"$f":"+IF('Proyeccion Cuotas'!$D158=\"\",\"\",'Proyeccion Cuotas'!$H158-H157)","v":""},{"$f":"IFERROR('Proyeccion Cuotas'!$I158+'Proyeccion Cuotas'!$J158,\"\")","v":""},{"$f":"+IFERROR((M157-'Proyeccion Cuotas'!$I158),\"\")","v":""}]
[null,null,null,"",{"$f":"IF('Proyeccion Cuotas'!$D159=\"\",\"\",IF(F158=12,E158+1,E158))","v":""},{"$f":"IF('Proyeccion Cuotas'!$D159=\"\",\"\",IF(F158=12,1,F158+1))","v":""},{"$f":"+IF('Proyeccion Cuotas'!$D159=\"\",\"\",VLOOKUP('Proyeccion Cuotas'!$F159,$A$16:$B$27,2,FALSE))","v":""},{"$f":"IF('Proyeccion Cuotas'!$D159=\"\",\"\",CONCATENATE('Proyeccion Cuotas'!$G159,\"/\",'Proyeccion Cuotas'!$F159,\"/\",'Proyeccion Cuotas'!$E159))","v":""},{"$f":"IFERROR(IF('Proyeccion Cuotas'!$D159=\"\",\"\",IF(OR('Proyeccion Cuotas'!$F159=7,'Proyeccion Cuotas'!$F159=12),($B$45+(($F$1-$B$47)/$F$3)),(($F$1-$B$47)/$F$3))),0)","v":""},{"$f":"IFERROR(IF('Proyeccion Cuotas'!$D159=\"\",\"\",(M158*$F$5*'Proyeccion Cuotas'!$K159/365)),\"\")","v":""},{"$f":"+IF('Proyeccion Cuotas'!$D159=\"\",\"\",'Proyeccion Cuotas'!$H159-H158)","v":""},{"$f":"IFERROR('Proyeccion Cuotas'!$I159+'Proyeccion Cuotas'!$J159,\"\")","v":""},{"$f":"+IFERROR((M158-'Proyeccion Cuotas'!$I159),\"\")","v":""}]
[null,null,null,"",{"$f":"IF('Proyeccion Cuotas'!$D160=\"\",\"\",IF(F159=12,E159+1,E159))","v":""},{"$f":"IF('Proyeccion Cuotas'!$D160=\"\",\"\",IF(F159=12,1,F159+1))","v":""},{"$f":"+IF('Proyeccion Cuotas'!$D160=\"\",\"\",VLOOKUP('Proyeccion Cuotas'!$F160,$A$16:$B$27,2,FALSE))","v":""},{"$f":"IF('Proyeccion Cuotas'!$D160=\"\",\"\",CONCATENATE('Proyeccion Cuotas'!$G160,\"/\",'Proyeccion Cuotas'!$F160,\"/\",'Proyeccion Cuotas'!$E160))","v":""},{"$f":"IFERROR(IF('Proyeccion Cuotas'!$D160=\"\",\"\",IF(OR('Proyeccion Cuotas'!$F160=7,'Proyeccion Cuotas'!$F160=12),($B$45+(($F$1-$B$47)/$F$3)),(($F$1-$B$47)/$F$3))),0)","v":""},{"$f":"IFERROR(IF('Proyeccion Cuotas'!$D160=\"\",\"\",(M159*$F$5*'Proyeccion Cuotas'!$K160/365)),\"\")","v":""},{"$f":"+IF('Proyeccion Cuotas'!$D160=\"\",\"\",'Proyeccion Cuotas'!$H160-H159)","v":""},{"$f":"IFERROR('Proyeccion Cuotas'!$I160+'Proyeccion Cuotas'!$J160,\"\")","v":""},{"$f":"+IFERROR((M159-'Proyeccion Cuotas'!$I160),\"\")","v":""}]
[null,null,null,"",{"$f":"IF('Proyeccion Cuotas'!$D161=\"\",\"\",IF(F160=12,E160+1,E160))","v":""},{"$f":"IF('Proyeccion Cuotas'!$D161=\"\",\"\",IF(F160=12,1,F160+1))","v":""},{"$f":"+IF('Proyeccion Cuotas'!$D161=\"\",\"\",VLOOKUP('Proyeccion Cuotas'!$F161,$A$16:$B$27,2,FALSE))","v":""},{"$f":"IF('Proyeccion Cuotas'!$D161=\"\",\"\",CONCATENATE('Proyeccion Cuotas'!$G161,\"/\",'Proyeccion Cuotas'!$F161,\"/\",'Proyeccion Cuotas'!$E161))","v":""},{"$f":"IFERROR(IF('Proyeccion Cuotas'!$D161=\"\",\"\",IF(OR('Proyeccion Cuotas'!$F161=7,'Proyeccion Cuotas'!$F161=12),($B$45+(($F$1-$B$47)/$F$3)),(($F$1-$B$47)/$F$3))),0)","v":""},{"$f":"IFERROR(IF('Proyeccion Cuotas'!$D161=\"\",\"\",(M160*$F$5*'Proyeccion Cuotas'!$K161/365)),\"\")","v":""},{"$f":"+IF('Proyeccion Cuotas'!$D161=\"\",\"\",'Proyeccion Cuotas'!$H161-H160)","v":""},{"$f":"IFERROR('Proyeccion Cuotas'!$I161+'Proyeccion Cuotas'!$J161,\"\")","v":""},{"$f":"+IFERROR((M160-'Proyeccion Cuotas'!$I161),\"\")","v":""}]
[null,null,null,"",{"$f":"IF('Proyeccion Cuotas'!$D162=\"\",\"\",IF(F161=12,E161+1,E161))","v":""},{"$f":"IF('Proyeccion Cuotas'!$D162=\"\",\"\",IF(F161=12,1,F161+1))","v":""},{"$f":"+IF('Proyeccion Cuotas'!$D162=\"\",\"\",VLOOKUP('Proyeccion Cuotas'!$F162,$A$16:$B$27,2,FALSE))","v":""},{"$f":"IF('Proyeccion Cuotas'!$D162=\"\",\"\",CONCATENATE('Proyeccion Cuotas'!$G162,\"/\",'Proyeccion Cuotas'!$F162,\"/\",'Proyeccion Cuotas'!$E162))","v":""},{"$f":"IFERROR(IF('Proyeccion Cuotas'!$D162=\"\",\"\",IF(OR('Proyeccion Cuotas'!$F162=7,'Proyeccion Cuotas'!$F162=12),($B$45+(($F$1-$B$47)/$F$3)),(($F$1-$B$47)/$F$3))),0)","v":""},{"$f":"IFERROR(IF('Proyeccion Cuotas'!$D162=\"\",\"\",(M161*$F$5*'Proyeccion Cuotas'!$K162/365)),\"\")","v":""},{"$f":"+IF('Proyeccion Cuotas'!$D162=\"\",\"\",'Proyeccion Cuotas'!$H162-H161)","v":""},{"$f":"IFERROR('Proyeccion Cuotas'!$I162+'Proyeccion Cuotas'!$J162,\"\")","v":""},{"$f":"+IFERROR((M161-'Proyeccion Cuotas'!$I162),\"\")","v":""}]
[null,null,null,"",{"$f":"IF('Proyeccion Cuotas'!$D163=\"\",\"\",IF(F162=12,E162+1,E162))","v":""},{"$f":"IF('Proyeccion Cuotas'!$D163=\"\",\"\",IF(F162=12,1,F162+1))","v":""},{"$f":"+IF('Proyeccion Cuotas'!$D163=\"\",\"\",VLOOKUP('Proyeccion Cuotas'!$F163,$A$16:$B$27,2,FALSE))","v":""},{"$f":"IF('Proyeccion Cuotas'!$D163=\"\",\"\",CONCATENATE('Proyeccion Cuotas'!$G163,\"/\",'Proyeccion Cuotas'!$F163,\"/\",'Proyeccion Cuotas'!$E163))","v":""},{"$f":"IFERROR(IF('Proyeccion Cuotas'!$D163=\"\",\"\",IF(OR('Proyeccion Cuotas'!$F163=7,'Proyeccion Cuotas'!$F163=12),($B$45+(($F$1-$B$47)/$F$3)),(($F$1-$B$47)/$F$3))),0)","v":""},{"$f":"IFERROR(IF('Proyeccion Cuotas'!$D163=\"\",\"\",(M162*$F$5*'Proyeccion Cuotas'!$K163/365)),\"\")","v":""},{"$f":"+IF('Proyeccion Cuotas'!$D163=\"\",\"\",'Proyeccion Cuotas'!$H163-H162)","v":""},{"$f":"IFERROR('Proyeccion Cuotas'!$I163+'Proyeccion Cuotas'!$J163,\"\")","v":""},{"$f":"+IFERROR((M162-'Proyeccion Cuotas'!$I163),\"\")","v":""}]
[null,null,null,"",{"$f":"IF('Proyeccion Cuotas'!$D164=\"\",\"\",IF(F163=12,E163+1,E163))","v":""},{"$f":"IF('Proyeccion Cuotas'!$D164=\"\",\"\",IF(F163=12,1,F163+1))","v":""},{"$f":"+IF('Proyeccion Cuotas'!$D164=\"\",\"\",VLOOKUP('Proyeccion Cuotas'!$F164,$A$16:$B$27,2,FALSE))","v":""},{"$f":"IF('Proyeccion Cuotas'!$D164=\"\",\"\",CONCATENATE('Proyeccion Cuotas'!$G164,\"/\",'Proyeccion Cuotas'!$F164,\"/\",'Proyeccion Cuotas'!$E164))","v":""},{"$f":"IFERROR(IF('Proyeccion Cuotas'!$D164=\"\",\"\",IF(OR('Proyeccion Cuotas'!$F164=7,'Proyeccion Cuotas'!$F164=12),($B$45+(($F$1-$B$47)/$F$3)),(($F$1-$B$47)/$F$3))),0)","v":""},{"$f":"IFERROR(IF('Proyeccion Cuotas'!$D164=\"\",\"\",(M163*$F$5*'Proyeccion Cuotas'!$K164/365)),\"\")","v":""},{"$f":"+IF('Proyeccion Cuotas'!$D164=\"\",\"\",'Proyeccion Cuotas'!$H164-H163)","v":""},{"$f":"IFERROR('Proyeccion Cuotas'!$I164+'Proyeccion Cuotas'!$J164,\"\")","v":""},{"$f":"+IFERROR((M163-'Proyeccion Cuotas'!$I164),\"\")","v":""}]
[null,null,null,"",{"$f":"IF('Proyeccion Cuotas'!$D165=\"\",\"\",IF(F164=12,E164+1,E164))","v":""},{"$f":"IF('Proyeccion Cuotas'!$D165=\"\",\"\",IF(F164=12,1,F164+1))","v":""},{"$f":"+IF('Proyeccion Cuotas'!$D165=\"\",\"\",VLOOKUP('Proyeccion Cuotas'!$F165,$A$16:$B$27,2,FALSE))","v":""},{"$f":"IF('Proyeccion Cuotas'!$D165=\"\",\"\",CONCATENATE('Proyeccion Cuotas'!$G165,\"/\",'Proyeccion Cuotas'!$F165,\"/\",'Proyeccion Cuotas'!$E165))","v":""},{"$f":"IFERROR(IF('Proyeccion Cuotas'!$D165=\"\",\"\",IF(OR('Proyeccion Cuotas'!$F165=7,'Proyeccion Cuotas'!$F165=12),($B$45+(($F$1-$B$47)/$F$3)),(($F$1-$B$47)/$F$3))),0)","v":""},{"$f":"IFERROR(IF('Proyeccion Cuotas'!$D165=\"\",\"\",(M164*$F$5*'Proyeccion Cuotas'!$K165/365)),\"\")","v":""},{"$f":"+IF('Proyeccion Cuotas'!$D165=\"\",\"\",'Proyeccion Cuotas'!$H165-H164)","v":""},{"$f":"IFERROR('Proyeccion Cuotas'!$I165+'Proyeccion Cuotas'!$J165,\"\")","v":""},{"$f":"+IFERROR((M164-'Proyeccion Cuotas'!$I165),\"\")","v":""}]
[null,null,null,"",{"$f":"IF('Proyeccion Cuotas'!$D166=\"\",\"\",IF(F165=12,E165+1,E165))","v":""},{"$f":"IF('Proyeccion Cuotas'!$D166=\"\",\"\",IF(F165=12,1,F165+1))","v":""},{"$f":"+IF('Proyeccion Cuotas'!$D166=\"\",\"\",VLOOKUP('Proyeccion Cuotas'!$F166,$A$16:$B$27,2,FALSE))","v":""},{"$f":"IF('Proyeccion Cuotas'!$D166=\"\",\"\",CONCATENATE('Proyeccion Cuotas'!$G166,\"/\",'Proyeccion Cuotas'!$F166,\"/\",'Proyeccion Cuotas'!$E166))","v":""},{"$f":"IFERROR(IF('Proyeccion Cuotas'!$D166=\"\",\"\",IF(OR('Proyeccion Cuotas'!$F166=7,'Proyeccion Cuotas'!$F166=12),($B$45+(($F$1-$B$47)/$F$3)),(($F$1-$B$47)/$F$3))),0)","v":""},{"$f":"IFERROR(IF('Proyeccion Cuotas'!$D166=\"\",\"\",(M165*$F$5*'Proyeccion Cuotas'!$K166/365)),\"\")","v":""},{"$f":"+IF('Proyeccion Cuotas'!$D166=\"\",\"\",'Proyeccion Cuotas'!$H166-H165)","v":""},{"$f":"IFERROR('Proyeccion Cuotas'!$I166+'Proyeccion Cuotas'!$J166,\"\")","v":""},{"$f":"+IFERROR((M165-'Proyeccion Cuotas'!$I166),\"\")","v":""}]
[null,null,null,"",{"$f":"IF('Proyeccion Cuotas'!$D167=\"\",\"\",IF(F166=12,E166+1,E166))","v":""},{"$f":"IF('Proyeccion Cuotas'!$D167=\"\",\"\",IF(F166=12,1,F166+1))","v":""},{"$f":"+IF('Proyeccion Cuotas'!$D167=\"\",\"\",VLOOKUP('Proyeccion Cuotas'!$F167,$A$16:$B$27,2,FALSE))","v":""},{"$f":"IF('Proyeccion Cuotas'!$D167=\"\",\"\",CONCATENATE('Proyeccion Cuotas'!$G167,\"/\",'Proyeccion Cuotas'!$F167,\"/\",'Proyeccion Cuotas'!$E167))","v":""},{"$f":"IFERROR(IF('Proyeccion Cuotas'!$D167=\"\",\"\",IF(OR('Proyeccion Cuotas'!$F167=7,'Proyeccion Cuotas'!$F167=12),($B$45+(($F$1-$B$47)/$F$3)),(($F$1-$B$47)/$F$3))),0)","v":""},{"$f":"IFERROR(IF('Proyeccion Cuotas'!$D167=\"\",\"\",(M166*$F$5*'Proyeccion Cuotas'!$K167/365)),\"\")","v":""},{"$f":"+IF('Proyeccion Cuotas'!$D167=\"\",\"\",'Proyeccion Cuotas'!$H167-H166)","v":""},{"$f":"IFERROR('Proyeccion Cuotas'!$I167+'Proyeccion Cuotas'!$J167,\"\")","v":""},{"$f":"+IFERROR((M166-'Proyeccion Cuotas'!$I167),\"\")","v":""}]
[null,null,null,"",{"$f":"IF('Proyeccion Cuotas'!$D168=\"\",\"\",IF(F167=12,E167+1,E167))","v":""},{"$f":"IF('Proyeccion Cuotas'!$D168=\"\",\"\",IF(F167=12,1,F167+1))","v":""},{"$f":"+IF('Proyeccion Cuotas'!$D168=\"\",\"\",VLOOKUP('Proyeccion Cuotas'!$F168,$A$16:$B$27,2,FALSE))","v":""},{"$f":"IF('Proyeccion Cuotas'!$D168=\"\",\"\",CONCATENATE('Proyeccion Cuotas'!$G168,\"/\",'Proyeccion Cuotas'!$F168,\"/\",'Proyeccion Cuotas'!$E168))","v":""},{"$f":"IFERROR(IF('Proyeccion Cuotas'!$D168=\"\",\"\",IF(OR('Proyeccion Cuotas'!$F168=7,'Proyeccion Cuotas'!$F168=12),($B$45+(($F$1-$B$47)/$F$3)),(($F$1-$B$47)/$F$3))),0)","v":""},{"$f":"IFERROR(IF('Proyeccion Cuotas'!$D168=\"\",\"\",(M167*$F$5*'Proyeccion Cuotas'!$K168/365)),\"\")","v":""},{"$f":"+IF('Proyeccion Cuotas'!$D168=\"\",\"\",'Proyeccion Cuotas'!$H168-H167)","v":""},{"$f":"IFERROR('Proyeccion Cuotas'!$I168+'Proyeccion Cuotas'!$J168,\"\")","v":""},{"$f":"+IFERROR((M167-'Proyeccion Cuotas'!$I168),\"\")","v":""}]
[null,null,null,"",{"$f":"IF('Proyeccion Cuotas'!$D169=\"\",\"\",IF(F168=12,E168+1,E168))","v":""},{"$f":"IF('Proyeccion Cuotas'!$D169=\"\",\"\",IF(F168=12,1,F168+1))","v":""},{"$f":"+IF('Proyeccion Cuotas'!$D169=\"\",\"\",VLOOKUP('Proyeccion Cuotas'!$F169,$A$16:$B$27,2,FALSE))","v":""},{"$f":"IF('Proyeccion Cuotas'!$D169=\"\",\"\",CONCATENATE('Proyeccion Cuotas'!$G169,\"/\",'Proyeccion Cuotas'!$F169,\"/\",'Proyeccion Cuotas'!$E169))","v":""},{"$f":"IFERROR(IF('Proyeccion Cuotas'!$D169=\"\",\"\",IF(OR('Proyeccion Cuotas'!$F169=7,'Proyeccion Cuotas'!$F169=12),($B$45+(($F$1-$B$47)/$F$3)),(($F$1-$B$47)/$F$3))),0)","v":""},{"$f":"IFERROR(IF('Proyeccion Cuotas'!$D169=\"\",\"\",(M168*$F$5*'Proyeccion Cuotas'!$K169/365)),\"\")","v":""},{"$f":"+IF('Proyeccion Cuotas'!$D169=\"\",\"\",'Proyeccion Cuotas'!$H169-H168)","v":""},{"$f":"IFERROR('Proyeccion Cuotas'!$I169+'Proyeccion Cuotas'!$J169,\"\")","v":""},{"$f":"+IFERROR((M168-'Proyeccion Cuotas'!$I169),\"\")","v":""}]
[null,null,null,"",{"$f":"IF('Proyeccion Cuotas'!$D170=\"\",\"\",IF(F169=12,E169+1,E169))","v":""},{"$f":"IF('Proyeccion Cuotas'!$D170=\"\",\"\",IF(F169=12,1,F169+1))","v":""},{"$f":"+IF('Proyeccion Cuotas'!$D170=\"\",\"\",VLOOKUP('Proyeccion Cuotas'!$F170,$A$16:$B$27,2,FALSE))","v":""},{"$f":"IF('Proyeccion Cuotas'!$D170=\"\",\"\",CONCATENATE('Proyeccion Cuotas'!$G170,\"/\",'Proyeccion Cuotas'!$F170,\"/\",'Proyeccion Cuotas'!$E170))","v":""},{"$f":"IFERROR(IF('Proyeccion Cuotas'!$D170=\"\",\"\",IF(OR('Proyeccion Cuotas'!$F170=7,'Proyeccion Cuotas'!$F170=12),($B$45+(($F$1-$B$47)/$F$3)),(($F$1-$B$47)/$F$3))),0)","v":""},{"$f":"IFERROR(IF('Proyeccion Cuotas'!$D170=\"\",\"\",(M169*$F$5*'Proyeccion Cuotas'!$K170/365)),\"\")","v":""},{"$f":"+IF('Proyeccion Cuotas'!$D170=\"\",\"\",'Proyeccion Cuotas'!$H170-H169)","v":""},{"$f":"IFERROR('Proyeccion Cuotas'!$I170+'Proyeccion Cuotas'!$J170,\"\")","v":""},{"$f":"+IFERROR((M169-'Proyeccion Cuotas'!$I170),\"\")","v":""}]
[null,null,null,"",{"$f":"IF('Proyeccion Cuotas'!$D171=\"\",\"\",IF(F170=12,E170+1,E170))","v":""},{"$f":"IF('Proyeccion Cuotas'!$D171=\"\",\"\",IF(F170=12,1,F170+1))","v":""},{"$f":"+IF('Proyeccion Cuotas'!$D171=\"\",\"\",VLOOKUP('Proyeccion Cuotas'!$F171,$A$16:$B$27,2,FALSE))","v":""},{"$f":"IF('Proyeccion Cuotas'!$D171=\"\",\"\",CONCATENATE('Proyeccion Cuotas'!$G171,\"/\",'Proyeccion Cuotas'!$F171,\"/\",'Proyeccion Cuotas'!$E171))","v":""},{"$f":"IFERROR(IF('Proyeccion Cuotas'!$D171=\"\",\"\",IF(OR('Proyeccion Cuotas'!$F171=7,'Proyeccion Cuotas'!$F171=12),($B$45+(($F$1-$B$47)/$F$3)),(($F$1-$B$47)/$F$3))),0)","v":""},{"$f":"IFERROR(IF('Proyeccion Cuotas'!$D171=\"\",\"\",(M170*$F$5*'Proyeccion Cuotas'!$K171/365)),\"\")","v":""},{"$f":"+IF('Proyeccion Cuotas'!$D171=\"\",\"\",'Proyeccion Cuotas'!$H171-H170)","v":""},{"$f":"IFERROR('Proyeccion Cuotas'!$I171+'Proyeccion Cuotas'!$J171,\"\")","v":""},{"$f":"+IFERROR((M170-'Proyeccion Cuotas'!$I171),\"\")","v":""}]
[null,null,null,"",{"$f":"IF('Proyeccion Cuotas'!$D172=\"\",\"\",IF(F171=12,E171+1,E171))","v":""},{"$f":"IF('Proyeccion Cuotas'!$D172=\"\",\"\",IF(F171=12,1,F171+1))","v":""},{"$f":"+IF('Proyeccion Cuotas'!$D172=\"\",\"\",VLOOKUP('Proyeccion Cuotas'!$F172,$A$16:$B$27,2,FALSE))","v":""},{"$f":"IF('Proyeccion Cuotas'!$D172=\"\",\"\",CONCATENATE('Proyeccion Cuotas'!$G172,\"/\",'Proyeccion Cuotas'!$F172,\"/\",'Proyeccion Cuotas'!$E172))","v":""},{"$f":"IFERROR(IF('Proyeccion Cuotas'!$D172=\"\",\"\",IF(OR('Proyeccion Cuotas'!$F172=7,'Proyeccion Cuotas'!$F172=12),($B$45+(($F$1-$B$47)/$F$3)),(($F$1-$B$47)/$F$3))),0)","v":""},{"$f":"IFERROR(IF('Proyeccion Cuotas'!$D172=\"\",\"\",(M171*$F$5*'Proyeccion Cuotas'!$K172/365)),\"\")","v":""},{"$f":"+IF('Proyeccion Cuotas'!$D172=\"\",\"\",'Proyeccion Cuotas'!$H172-H171)","v":""},{"$f":"IFERROR('Proyeccion Cuotas'!$I172+'Proyeccion Cuotas'!$J172,\"\")","v":""},{"$f":"+IFERROR((M171-'Proyeccion Cuotas'!$I172),\"\")","v":""}]
[null,null,null,"",{"$f":"IF('Proyeccion Cuotas'!$D173=\"\",\"\",IF(F172=12,E172+1,E172))","v":""},{"$f":"IF('Proyeccion Cuotas'!$D173=\"\",\"\",IF(F172=12,1,F172+1))","v":""},{"$f":"+IF('Proyeccion Cuotas'!$D173=\"\",\"\",VLOOKUP('Proyeccion Cuotas'!$F173,$A$16:$B$27,2,FALSE))","v":""},{"$f":"IF('Proyeccion Cuotas'!$D173=\"\",\"\",CONCATENATE('Proyeccion Cuotas'!$G173,\"/\",'Proyeccion Cuotas'!$F173,\"/\",'Proyeccion Cuotas'!$E173))","v":""},{"$f":"IFERROR(IF('Proyeccion Cuotas'!$D173=\"\",\"\",IF(OR('Proyeccion Cuotas'!$F173=7,'Proyeccion Cuotas'!$F173=12),($B$45+(($F$1-$B$47)/$F$3)),(($F$1-$B$47)/$F$3))),0)","v":""},{"$f":"IFERROR(IF('Proyeccion Cuotas'!$D173=\"\",\"\",(M172*$F$5*'Proyeccion Cuotas'!$K173/365)),\"\")","v":""},{"$f":"+IF('Proyeccion Cuotas'!$D173=\"\",\"\",'Proyeccion Cuotas'!$H173-H172)","v":""},{"$f":"IFERROR('Proyeccion Cuotas'!$I173+'Proyeccion Cuotas'!$J173,\"\")","v":""},{"$f":"+IFERROR((M172-'Proyeccion Cuotas'!$I173),\"\")","v":""}]
[null,null,null,"",{"$f":"IF('Proyeccion Cuotas'!$D174=\"\",\"\",IF(F173=12,E173+1,E173))","v":""},{"$f":"IF('Proyeccion Cuotas'!$D174=\"\",\"\",IF(F173=12,1,F173+1))","v":""},{"$f":"+IF('Proyeccion Cuotas'!$D174=\"\",\"\",VLOOKUP('Proyeccion Cuotas'!$F174,$A$16:$B$27,2,FALSE))","v":""},{"$f":"IF('Proyeccion Cuotas'!$D174=\"\",\"\",CONCATENATE('Proyeccion Cuotas'!$G174,\"/\",'Proyeccion Cuotas'!$F174,\"/\",'Proyeccion Cuotas'!$E174))","v":""},{"$f":"IFERROR(IF('Proyeccion Cuotas'!$D174=\"\",\"\",IF(OR('Proyeccion Cuotas'!$F174=7,'Proyeccion Cuotas'!$F174=12),($B$45+(($F$1-$B$47)/$F$3)),(($F$1-$B$47)/$F$3))),0)","v":""},{"$f":"IFERROR(IF('Proyeccion Cuotas'!$D174=\"\",\"\",(M173*$F$5*'Proyeccion Cuotas'!$K174/365)),\"\")","v":""},{"$f":"+IF('Proyeccion Cuotas'!$D174=\"\",\"\",'Proyeccion Cuotas'!$H174-H173)","v":""},{"$f":"IFERROR('Proyeccion Cuotas'!$I174+'Proyeccion Cuotas'!$J174,\"\")","v":""},{"$f":"+IFERROR((M173-'Proyeccion Cuotas'!$I174),\"\")","v":""}]
[null,null,null,"",{"$f":"IF('Proyeccion Cuotas'!$D175=\"\",\"\",IF(F174=12,E174+1,E174))","v":""},{"$f":"IF('Proyeccion Cuotas'!$D175=\"\",\"\",IF(F174=12,1,F174+1))","v":""},{"$f":"+IF('Proyeccion Cuotas'!$D175=\"\",\"\",VLOOKUP('Proyeccion Cuotas'!$F175,$A$16:$B$27,2,FALSE))","v":""},{"$f":"IF('Proyeccion Cuotas'!$D175=\"\",\"\",CONCATENATE('Proyeccion Cuotas'!$G175,\"/\",'Proyeccion Cuotas'!$F175,\"/\",'Proyeccion Cuotas'!$E175))","v":""},{"$f":"IFERROR(IF('Proyeccion Cuotas'!$D175=\"\",\"\",IF(OR('Proyeccion Cuotas'!$F175=7,'Proyeccion Cuotas'!$F175=12),($B$45+(($F$1-$B$47)/$F$3)),(($F$1-$B$47)/$F$3))),0)","v":""},{"$f":"IFERROR(IF('Proyeccion Cuotas'!$D175=\"\",\"\",(M174*$F$5*'Proyeccion Cuotas'!$K175/365)),\"\")","v":""},{"$f":"+IF('Proyeccion Cuotas'!$D175=\"\",\"\",'Proyeccion Cuotas'!$H175-H174)","v":""},{"$f":"IFERROR('Proyeccion Cuotas'!$I175+'Proyeccion Cuotas'!$J175,\"\")","v":""},{"$f":"+IFERROR((M174-'Proyeccion Cuotas'!$I175),\"\")","v":""}]
[null,null,null,"",{"$f":"IF('Proyeccion Cuotas'!$D176=\"\",\"\",IF(F175=12,E175+1,E175))","v":""},{"$f":"IF('Proyeccion Cuotas'!$D176=\"\",\"\",IF(F175=12,1,F175+1))","v":""},{"$f":"+IF('Proyeccion Cuotas'!$D176=\"\",\"\",VLOOKUP('Proyeccion Cuotas'!$F176,$A$16:$B$27,2,FALSE))","v":""},{"$f":"IF('Proyeccion Cuotas'!$D176=\"\",\"\",CONCATENATE('Proyeccion Cuotas'!$G176,\"/\",'Proyeccion Cuotas'!$F176,\"/\",'Proyeccion Cuotas'!$E176))","v":""},{"$f":"IFERROR(IF('Proyeccion Cuotas'!$D176=\"\",\"\",IF(OR('Proyeccion Cuotas'!$F176=7,'Proyeccion Cuotas'!$F176=12),($B$45+(($F$1-$B$47)/$F$3)),(($F$1-$B$47)/$F$3))),0)","v":""},{"$f":"IFERROR(IF('Proyeccion Cuotas'!$D176=\"\",\"\",(M175*$F$5*'Proyeccion Cuotas'!$K176/365)),\"\")","v":""},{"$f":"+IF('Proyeccion Cuotas'!$D176=\"\",\"\",'Proyeccion Cuotas'!$H176-H175)","v":""},{"$f":"IFERROR('Proyeccion Cuotas'!$I176+'Proyeccion Cuotas'!$J176,\"\")","v":""},{"$f":"+IFERROR((M175-'Proyeccion Cuotas'!$I176),\"\")","v":""}]
[null,null,null,"",{"$f":"IF('Proyeccion Cuotas'!$D177=\"\",\"\",IF(F176=12,E176+1,E176))","v":""},{"$f":"IF('Proyeccion Cuotas'!$D177=\"\",\"\",IF(F176=12,1,F176+1))","v":""},{"$f":"+IF('Proyeccion Cuotas'!$D177=\"\",\"\",VLOOKUP('Proyeccion Cuotas'!$F177,$A$16:$B$27,2,FALSE))","v":""},{"$f":"IF('Proyeccion Cuotas'!$D177=\"\",\"\",CONCATENATE('Proyeccion Cuotas'!$G177,\"/\",'Proyeccion Cuotas'!$F177,\"/\",'Proyeccion Cuotas'!$E177))","v":""},{"$f":"IFERROR(IF('Proyeccion Cuotas'!$D177=\"\",\"\",IF(OR('Proyeccion Cuotas'!$F177=7,'Proyeccion Cuotas'!$F177=12),($B$45+(($F$1-$B$47)/$F$3)),(($F$1-$B$47)/$F$3))),0)","v":""},{"$f":"IFERROR(IF('Proyeccion Cuotas'!$D177=\"\",\"\",(M176*$F$5*'Proyeccion Cuotas'!$K177/365)),\"\")","v":""},{"$f":"+IF('Proyeccion Cuotas'!$D177=\"\",\"\",'Proyeccion Cuotas'!$H177-H176)","v":""},{"$f":"IFERROR('Proyeccion Cuotas'!$I177+'Proyeccion Cuotas'!$J177,\"\")","v":""},{"$f":"+IFERROR((M176-'Proyeccion Cuotas'!$I177),\"\")","v":""}]
[null,null,null,"",{"$f":"IF('Proyeccion Cuotas'!$D178=\"\",\"\",IF(F177=12,E177+1,E177))","v":""},{"$f":"IF('Proyeccion Cuotas'!$D178=\"\",\"\",IF(F177=12,1,F177+1))","v":""},{"$f":"+IF('Proyeccion Cuotas'!$D178=\"\",\"\",VLOOKUP('Proyeccion Cuotas'!$F178,$A$16:$B$27,2,FALSE))","v":""},{"$f":"IF('Proyeccion Cuotas'!$D178=\"\",\"\",CONCATENATE('Proyeccion Cuotas'!$G178,\"/\",'Proyeccion Cuotas'!$F178,\"/\",'Proyeccion Cuotas'!$E178))","v":""},{"$f":"IFERROR(IF('Proyeccion Cuotas'!$D178=\"\",\"\",IF(OR('Proyeccion Cuotas'!$F178=7,'Proyeccion Cuotas'!$F178=12),($B$45+(($F$1-$B$47)/$F$3)),(($F$1-$B$47)/$F$3))),0)","v":""},{"$f":"IFERROR(IF('Proyeccion Cuotas'!$D178=\"\",\"\",(M177*$F$5*'Proyeccion Cuotas'!$K178/365)),\"\")","v":""},{"$f":"+IF('Proyeccion Cuotas'!$D178=\"\",\"\",'Proyeccion Cuotas'!$H178-H177)","v":""},{"$f":"IFERROR('Proyeccion Cuotas'!$I178+'Proyeccion Cuotas'!$J178,\"\")","v":""},{"$f":"+IFERROR((M177-'Proyeccion Cuotas'!$I178),\"\")","v":""}]
[null,null,null,"",{"$f":"IF('Proyeccion Cuotas'!$D179=\"\",\"\",IF(F178=12,E178+1,E178))","v":""},{"$f":"IF('Proyeccion Cuotas'!$D179=\"\",\"\",IF(F178=12,1,F178+1))","v":""},{"$f":"+IF('Proyeccion Cuotas'!$D179=\"\",\"\",VLOOKUP('Proyeccion Cuotas'!$F179,$A$16:$B$27,2,FALSE))","v":""},{"$f":"IF('Proyeccion Cuotas'!$D179=\"\",\"\",CONCATENATE('Proyeccion Cuotas'!$G179,\"/\",'Proyeccion Cuotas'!$F179,\"/\",'Proyeccion Cuotas'!$E179))","v":""},{"$f":"IFERROR(IF('Proyeccion Cuotas'!$D179=\"\",\"\",IF(OR('Proyeccion Cuotas'!$F179=7,'Proyeccion Cuotas'!$F179=12),($B$45+(($F$1-$B$47)/$F$3)),(($F$1-$B$47)/$F$3))),0)","v":""},{"$f":"IFERROR(IF('Proyeccion Cuotas'!$D179=\"\",\"\",(M178*$F$5*'Proyeccion Cuotas'!$K179/365)),\"\")","v":""},{"$f":"+IF('Proyeccion Cuotas'!$D179=\"\",\"\",'Proyeccion Cuotas'!$H179-H178)","v":""},{"$f":"IFERROR('Proyeccion Cuotas'!$I179+'Proyeccion Cuotas'!$J179,\"\")","v":""},{"$f":"+IFERROR((M178-'Proyeccion Cuotas'!$I179),\"\")","v":""}]
[null,null,null,"",{"$f":"IF('Proyeccion Cuotas'!$D180=\"\",\"\",IF(F179=12,E179+1,E179))","v":""},{"$f":"IF('Proyeccion Cuotas'!$D180=\"\",\"\",IF(F179=12,1,F179+1))","v":""},{"$f":"+IF('Proyeccion Cuotas'!$D180=\"\",\"\",VLOOKUP('Proyeccion Cuotas'!$F180,$A$16:$B$27,2,FALSE))","v":""},{"$f":"IF('Proyeccion Cuotas'!$D180=\"\",\"\",CONCATENATE('Proyeccion Cuotas'!$G180,\"/\",'Proyeccion Cuotas'!$F180,\"/\",'Proyeccion Cuotas'!$E180))","v":""},{"$f":"IFERROR(IF('Proyeccion Cuotas'!$D180=\"\",\"\",IF(OR('Proyeccion Cuotas'!$F180=7,'Proyeccion Cuotas'!$F180=12),($B$45+(($F$1-$B$47)/$F$3)),(($F$1-$B$47)/$F$3))),0)","v":""},{"$f":"IFERROR(IF('Proyeccion Cuotas'!$D180=\"\",\"\",(M179*$F$5*'Proyeccion Cuotas'!$K180/365)),\"\")","v":""},{"$f":"+IF('Proyeccion Cuotas'!$D180=\"\",\"\",'Proyeccion Cuotas'!$H180-H179)","v":""},{"$f":"IFERROR('Proyeccion Cuotas'!$I180+'Proyeccion Cuotas'!$J180,\"\")","v":""},{"$f":"+IFERROR((M179-'Proyeccion Cuotas'!$I180),\"\")","v":""}]
[null,null,null,"",{"$f":"IF('Proyeccion Cuotas'!$D181=\"\",\"\",IF(F180=12,E180+1,E180))","v":""},{"$f":"IF('Proyeccion Cuotas'!$D181=\"\",\"\",IF(F180=12,1,F180+1))","v":""},{"$f":"+IF('Proyeccion Cuotas'!$D181=\"\",\"\",VLOOKUP('Proyeccion Cuotas'!$F181,$A$16:$B$27,2,FALSE))","v":""},{"$f":"IF('Proyeccion Cuotas'!$D181=\"\",\"\",CONCATENATE('Proyeccion Cuotas'!$G181,\"/\",'Proyeccion Cuotas'!$F181,\"/\",'Proyeccion Cuotas'!$E181))","v":""},{"$f":"IFERROR(IF('Proyeccion Cuotas'!$D181=\"\",\"\",IF(OR('Proyeccion Cuotas'!$F181=7,'Proyeccion Cuotas'!$F181=12),($B$45+(($F$1-$B$47)/$F$3)),(($F$1-$B$47)/$F$3))),0)","v":""},{"$f":"IFERROR(IF('Proyeccion Cuotas'!$D181=\"\",\"\",(M180*$F$5*'Proyeccion Cuotas'!$K181/365)),\"\")","v":""},{"$f":"+IF('Proyeccion Cuotas'!$D181=\"\",\"\",'Proyeccion Cuotas'!$H181-H180)","v":""},{"$f":"IFERROR('Proyeccion Cuotas'!$I181+'Proyeccion Cuotas'!$J181,\"\")","v":""},{"$f":"+IFERROR((M180-'Proyeccion Cuotas'!$I181),\"\")","v":""}]
[null,null,null,"",{"$f":"IF('Proyeccion Cuotas'!$D182=\"\",\"\",IF(F181=12,E181+1,E181))","v":""},{"$f":"IF('Proyeccion Cuotas'!$D182=\"\",\"\",IF(F181=12,1,F181+1))","v":""},{"$f":"+IF('Proyeccion Cuotas'!$D182=\"\",\"\",VLOOKUP('Proyeccion Cuotas'!$F182,$A$16:$B$27,2,FALSE))","v":""},{"$f":"IF('Proyeccion Cuotas'!$D182=\"\",\"\",CONCATENATE('Proyeccion Cuotas'!$G182,\"/\",'Proyeccion Cuotas'!$F182,\"/\",'Proyeccion Cuotas'!$E182))","v":""},{"$f":"IFERROR(IF('Proyeccion Cuotas'!$D182=\"\",\"\",IF(OR('Proyeccion Cuotas'!$F182=7,'Proyeccion Cuotas'!$F182=12),($B$45+(($F$1-$B$47)/$F$3)),(($F$1-$B$47)/$F$3))),0)","v":""},{"$f":"IFERROR(IF('Proyeccion Cuotas'!$D182=\"\",\"\",(M181*$F$5*'Proyeccion Cuotas'!$K182/365)),\"\")","v":""},{"$f":"+IF('Proyeccion Cuotas'!$D182=\"\",\"\",'Proyeccion Cuotas'!$H182-H181)","v":""},{"$f":"IFERROR('Proyeccion Cuotas'!$I182+'Proyeccion Cuotas'!$J182,\"\")","v":""},{"$f":"+IFERROR((M181-'Proyeccion Cuotas'!$I182),\"\")","v":""}]
[null,null,null,"",{"$f":"IF('Proyeccion Cuotas'!$D183=\"\",\"\",IF(F182=12,E182+1,E182))","v":""},{"$f":"IF('Proyeccion Cuotas'!$D183=\"\",\"\",IF(F182=12,1,F182+1))","v":""},{"$f":"+IF('Proyeccion Cuotas'!$D183=\"\",\"\",VLOOKUP('Proyeccion Cuotas'!$F183,$A$16:$B$27,2,FALSE))","v":""},{"$f":"IF('Proyeccion Cuotas'!$D183=\"\",\"\",CONCATENATE('Proyeccion Cuotas'!$G183,\"/\",'Proyeccion Cuotas'!$F183,\"/\",'Proyeccion Cuotas'!$E183))","v":""},{"$f":"IFERROR(IF('Proyeccion Cuotas'!$D183=\"\",\"\",IF(OR('Proyeccion Cuotas'!$F183=7,'Proyeccion Cuotas'!$F183=12),($B$45+(($F$1-$B$47)/$F$3)),(($F$1-$B$47)/$F$3))),0)","v":""},{"$f":"IFERROR(IF('Proyeccion Cuotas'!$D183=\"\",\"\",(M182*$F$5*'Proyeccion Cuotas'!$K183/365)),\"\")","v":""},{"$f":"+IF('Proyeccion Cuotas'!$D183=\"\",\"\",'Proyeccion Cuotas'!$H183-H182)","v":""},{"$f":"IFERROR('Proyeccion Cuotas'!$I183+'Proyeccion Cuotas'!$J183,\"\")","v":""},{"$f":"+IFERROR((M182-'Proyeccion Cuotas'!$I183),\"\")","v":""}]
[null,null,null,"",{"$f":"IF('Proyeccion Cuotas'!$D184=\"\",\"\",IF(F183=12,E183+1,E183))","v":""},{"$f":"IF('Proyeccion Cuotas'!$D184=\"\",\"\",IF(F183=12,1,F183+1))","v":""},{"$f":"+IF('Proyeccion Cuotas'!$D184=\"\",\"\",VLOOKUP('Proyeccion Cuotas'!$F184,$A$16:$B$27,2,FALSE))","v":""},{"$f":"IF('Proyeccion Cuotas'!$D184=\"\",\"\",CONCATENATE('Proyeccion Cuotas'!$G184,\"/\",'Proyeccion Cuotas'!$F184,\"/\",'Proyeccion Cuotas'!$E184))","v":""},{"$f":"IFERROR(IF('Proyeccion Cuotas'!$D184=\"\",\"\",IF(OR('Proyeccion Cuotas'!$F184=7,'Proyeccion Cuotas'!$F184=12),($B$45+(($F$1-$B$47)/$F$3)),(($F$1-$B$47)/$F$3))),0)","v":""},{"$f":"IFERROR(IF('Proyeccion Cuotas'!$D184=\"\",\"\",(M183*$F$5*'Proyeccion Cuotas'!$K184/365)),\"\")","v":""},{"$f":"+IF('Proyeccion Cuotas'!$D184=\"\",\"\",'Proyeccion Cuotas'!$H184-H183)","v":""},{"$f":"IFERROR('Proyeccion Cuotas'!$I184+'Proyeccion Cuotas'!$J184,\"\")","v":""},{"$f":"+IFERROR((M183-'Proyeccion Cuotas'!$I184),\"\")","v":""}]
[null,null,null,"",{"$f":"IF('Proyeccion Cuotas'!$D185=\"\",\"\",IF(F184=12,E184+1,E184))","v":""},{"$f":"IF('Proyeccion Cuotas'!$D185=\"\",\"\",IF(F184=12,1,F184+1))","v":""},{"$f":"+IF('Proyeccion Cuotas'!$D185=\"\",\"\",VLOOKUP('Proyeccion Cuotas'!$F185,$A$16:$B$27,2,FALSE))","v":""},{"$f":"IF('Proyeccion Cuotas'!$D185=\"\",\"\",CONCATENATE('Proyeccion Cuotas'!$G185,\"/\",'Proyeccion Cuotas'!$F185,\"/\",'Proyeccion Cuotas'!$E185))","v":""},{"$f":"IFERROR(IF('Proyeccion Cuotas'!$D185=\"\",\"\",IF(OR('Proyeccion Cuotas'!$F185=7,'Proyeccion Cuotas'!$F185=12),($B$45+(($F$1-$B$47)/$F$3)),(($F$1-$B$47)/$F$3))),0)","v":""},{"$f":"IFERROR(IF('Proyeccion Cuotas'!$D185=\"\",\"\",(M184*$F$5*'Proyeccion Cuotas'!$K185/365)),\"\")","v":""},{"$f":"+IF('Proyeccion Cuotas'!$D185=\"\",\"\",'Proyeccion Cuotas'!$H185-H184)","v":""},{"$f":"IFERROR('Proyeccion Cuotas'!$I185+'Proyeccion Cuotas'!$J185,\"\")","v":""},{"$f":"+IFERROR((M184-'Proyeccion Cuotas'!$I185),\"\")","v":""}]
[null,null,null,"",{"$f":"IF('Proyeccion Cuotas'!$D186=\"\",\"\",IF(F185=12,E185+1,E185))","v":""},{"$f":"IF('Proyeccion Cuotas'!$D186=\"\",\"\",IF(F185=12,1,F185+1))","v":""},{"$f":"+IF('Proyeccion Cuotas'!$D186=\"\",\"\",VLOOKUP('Proyeccion Cuotas'!$F186,$A$16:$B$27,2,FALSE))","v":""},{"$f":"IF('Proyeccion Cuotas'!$D186=\"\",\"\",CONCATENATE('Proyeccion Cuotas'!$G186,\"/\",'Proyeccion Cuotas'!$F186,\"/\",'Proyeccion Cuotas'!$E186))","v":""},{"$f":"IFERROR(IF('Proyeccion Cuotas'!$D186=\"\",\"\",IF(OR('Proyeccion Cuotas'!$F186=7,'Proyeccion Cuotas'!$F186=12),($B$45+(($F$1-$B$47)/$F$3)),(($F$1-$B$47)/$F$3))),0)","v":""},{"$f":"IFERROR(IF('Proyeccion Cuotas'!$D186=\"\",\"\",(M185*$F$5*'Proyeccion Cuotas'!$K186/365)),\"\")","v":""},{"$f":"+IF('Proyeccion Cuotas'!$D186=\"\",\"\",'Proyeccion Cuotas'!$H186-H185)","v":""},{"$f":"IFERROR('Proyeccion Cuotas'!$I186+'Proyeccion Cuotas'!$J186,\"\")","v":""},{"$f":"+IFERROR((M185-'Proyeccion Cuotas'!$I186),\"\")","v":""}]
[null,null,null,"",{"$f":"IF('Proyeccion Cuotas'!$D187=\"\",\"\",IF(F186=12,E186+1,E186))","v":""},{"$f":"IF('Proyeccion Cuotas'!$D187=\"\",\"\",IF(F186=12,1,F186+1))","v":""},{"$f":"+IF('Proyeccion Cuotas'!$D187=\"\",\"\",VLOOKUP('Proyeccion Cuotas'!$F187,$A$16:$B$27,2,FALSE))","v":""},{"$f":"IF('Proyeccion Cuotas'!$D187=\"\",\"\",CONCATENATE('Proyeccion Cuotas'!$G187,\"/\",'Proyeccion Cuotas'!$F187,\"/\",'Proyeccion Cuotas'!$E187))","v":""},{"$f":"IFERROR(IF('Proyeccion Cuotas'!$D187=\"\",\"\",IF(OR('Proyeccion Cuotas'!$F187=7,'Proyeccion Cuotas'!$F187=12),($B$45+(($F$1-$B$47)/$F$3)),(($F$1-$B$47)/$F$3))),0)","v":""},{"$f":"IFERROR(IF('Proyeccion Cuotas'!$D187=\"\",\"\",(M186*$F$5*'Proyeccion Cuotas'!$K187/365)),\"\")","v":""},{"$f":"+IF('Proyeccion Cuotas'!$D187=\"\",\"\",'Proyeccion Cuotas'!$H187-H186)","v":""},{"$f":"IFERROR('Proyeccion Cuotas'!$I187+'Proyeccion Cuotas'!$J187,\"\")","v":""},{"$f":"+IFERROR((M186-'Proyeccion Cuotas'!$I187),\"\")","v":""}]
[null,null,null,"",{"$f":"IF('Proyeccion Cuotas'!$D188=\"\",\"\",IF(F187=12,E187+1,E187))","v":""},{"$f":"IF('Proyeccion Cuotas'!$D188=\"\",\"\",IF(F187=12,1,F187+1))","v":""},{"$f":"+IF('Proyeccion Cuotas'!$D188=\"\",\"\",VLOOKUP('Proyeccion Cuotas'!$F188,$A$16:$B$27,2,FALSE))","v":""},{"$f":"IF('Proyeccion Cuotas'!$D188=\"\",\"\",CONCATENATE('Proyeccion Cuotas'!$G188,\"/\",'Proyeccion Cuotas'!$F188,\"/\",'Proyeccion Cuotas'!$E188))","v":""},{"$f":"IFERROR(IF('Proyeccion Cuotas'!$D188=\"\",\"\",IF(OR('Proyeccion Cuotas'!$F188=7,'Proyeccion Cuotas'!$F188=12),($B$45+(($F$1-$B$47)/$F$3)),(($F$1-$B$47)/$F$3))),0)","v":""},{"$f":"IFERROR(IF('Proyeccion Cuotas'!$D188=\"\",\"\",(M187*$F$5*'Proyeccion Cuotas'!$K188/365)),\"\")","v":""},{"$f":"+IF('Proyeccion Cuotas'!$D188=\"\",\"\",'Proyeccion Cuotas'!$H188-H187)","v":""},{"$f":"IFERROR('Proyeccion Cuotas'!$I188+'Proyeccion Cuotas'!$J188,\"\")","v":""},{"$f":"+IFERROR((M187-'Proyeccion Cuotas'!$I188),\"\")","v":""}]
[null,null,null,"",{"$f":"IF('Proyeccion Cuotas'!$D189=\"\",\"\",IF(F188=12,E188+1,E188))","v":""},{"$f":"IF('Proyeccion Cuotas'!$D189=\"\",\"\",IF(F188=12,1,F188+1))","v":""},{"$f":"+IF('Proyeccion Cuotas'!$D189=\"\",\"\",VLOOKUP('Proyeccion Cuotas'!$F189,$A$16:$B$27,2,FALSE))","v":""},{"$f":"IF('Proyeccion Cuotas'!$D189=\"\",\"\",CONCATENATE('Proyeccion Cuotas'!$G189,\"/\",'Proyeccion Cuotas'!$F189,\"/\",'Proyeccion Cuotas'!$E189))","v":""},{"$f":"IFERROR(IF('Proyeccion Cuotas'!$D189=\"\",\"\",IF(OR('Proyeccion Cuotas'!$F189=7,'Proyeccion Cuotas'!$F189=12),($B$45+(($F$1-$B$47)/$F$3)),(($F$1-$B$47)/$F$3))),0)","v":""},{"$f":"IFERROR(IF('Proyeccion Cuotas'!$D189=\"\",\"\",(M188*$F$5*'Proyeccion Cuotas'!$K189/365)),\"\")","v":""},{"$f":"+IF('Proyeccion Cuotas'!$D189=\"\",\"\",'Proyeccion Cuotas'!$H189-H188)","v":""},{"$f":"IFERROR('Proyeccion Cuotas'!$I189+'Proyeccion Cuotas'!$J189,\"\")","v":""},{"$f":"+IFERROR((M188-'Proyeccion Cuotas'!$I189),\"\")","v":""}]
[null,null,null,"",{"$f":"IF('Proyeccion Cuotas'!$D190=\"\",\"\",IF(F189=12,E189+1,E189))","v":""},{"$f":"IF('Proyeccion Cuotas'!$D190=\"\",\"\",IF(F189=12,1,F189+1))","v":""},{"$f":"+IF('Proyeccion Cuotas'!$D190=\"\",\"\",VLOOKUP('Proyeccion Cuotas'!$F190,$A$16:$B$27,2,FALSE))","v":""},{"$f":"IF('Proyeccion Cuotas'!$D190=\"\",\"\",CONCATENATE('Proyeccion Cuotas'!$G190,\"/\",'Proyeccion Cuotas'!$F190,\"/\",'Proyeccion Cuotas'!$E190))","v":""},{"$f":"IFERROR(IF('Proyeccion Cuotas'!$D190=\"\",\"\",IF(OR('Proyeccion Cuotas'!$F190=7,'Proyeccion Cuotas'!$F190=12),($B$45+(($F$1-$B$47)/$F$3)),(($F$1-$B$47)/$F$3))),0)","v":""},{"$f":"IFERROR(IF('Proyeccion Cuotas'!$D190=\"\",\"\",(M189*$F$5*'Proyeccion Cuotas'!$K190/365)),\"\")","v":""},{"$f":"+IF('Proyeccion Cuotas'!$D190=\"\",\"\",'Proyeccion Cuotas'!$H190-H189)","v":""},{"$f":"IFERROR('Proyeccion Cuotas'!$I190+'Proyeccion Cuotas'!$J190,\"\")","v":""},{"$f":"+IFERROR((M189-'Proyeccion Cuotas'!$I190),\"\")","v":""}]
[null,null,null,"",{"$f":"IF('Proyeccion Cuotas'!$D191=\"\",\"\",IF(F190=12,E190+1,E190))","v":""},{"$f":"IF('Proyeccion Cuotas'!$D191=\"\",\"\",IF(F190=12,1,F190+1))","v":""},{"$f":"+IF('Proyeccion Cuotas'!$D191=\"\",\"\",VLOOKUP('Proyeccion Cuotas'!$F191,$A$16:$B$27,2,FALSE))","v":""},{"$f":"IF('Proyeccion Cuotas'!$D191=\"\",\"\",CONCATENATE('Proyeccion Cuotas'!$G191,\"/\",'Proyeccion Cuotas'!$F191,\"/\",'Proyeccion Cuotas'!$E191))","v":""},{"$f":"IFERROR(IF('Proyeccion Cuotas'!$D191=\"\",\"\",IF(OR('Proyeccion Cuotas'!$F191=7,'Proyeccion Cuotas'!$F191=12),($B$45+(($F$1-$B$47)/$F$3)),(($F$1-$B$47)/$F$3))),0)","v":""},{"$f":"IFERROR(IF('Proyeccion Cuotas'!$D191=\"\",\"\",(M190*$F$5*'Proyeccion Cuotas'!$K191/365)),\"\")","v":""},{"$f":"+IF('Proyeccion Cuotas'!$D191=\"\",\"\",'Proyeccion Cuotas'!$H191-H190)","v":""},{"$f":"IFERROR('Proyeccion Cuotas'!$I191+'Proyeccion Cuotas'!$J191,\"\")","v":""},{"$f":"+IFERROR((M190-'Proyeccion Cuotas'!$I191),\"\")","v":""}]
[null,null,null,"",{"$f":"IF('Proyeccion Cuotas'!$D192=\"\",\"\",IF(F191=12,E191+1,E191))","v":""},{"$f":"IF('Proyeccion Cuotas'!$D192=\"\",\"\",IF(F191=12,1,F191+1))","v":""},{"$f":"+IF('Proyeccion Cuotas'!$D192=\"\",\"\",VLOOKUP('Proyeccion Cuotas'!$F192,$A$16:$B$27,2,FALSE))","v":""},{"$f":"IF('Proyeccion Cuotas'!$D192=\"\",\"\",CONCATENATE('Proyeccion Cuotas'!$G192,\"/\",'Proyeccion Cuotas'!$F192,\"/\",'Proyeccion Cuotas'!$E192))","v":""},{"$f":"IFERROR(IF('Proyeccion Cuotas'!$D192=\"\",\"\",IF(OR('Proyeccion Cuotas'!$F192=7,'Proyeccion Cuotas'!$F192=12),($B$45+(($F$1-$B$47)/$F$3)),(($F$1-$B$47)/$F$3))),0)","v":""},{"$f":"IFERROR(IF('Proyeccion Cuotas'!$D192=\"\",\"\",(M191*$F$5*'Proyeccion Cuotas'!$K192/365)),\"\")","v":""},{"$f":"+IF('Proyeccion Cuotas'!$D192=\"\",\"\",'Proyeccion Cuotas'!$H192-H191)","v":""},{"$f":"IFERROR('Proyeccion Cuotas'!$I192+'Proyeccion Cuotas'!$J192,\"\")","v":""},{"$f":"+IFERROR((M191-'Proyeccion Cuotas'!$I192),\"\")","v":""}]
[null,null,null,"",{"$f":"IF('Proyeccion Cuotas'!$D193=\"\",\"\",IF(F192=12,E192+1,E192))","v":""},{"$f":"IF('Proyeccion Cuotas'!$D193=\"\",\"\",IF(F192=12,1,F192+1))","v":""},{"$f":"+IF('Proyeccion Cuotas'!$D193=\"\",\"\",VLOOKUP('Proyeccion Cuotas'!$F193,$A$16:$B$27,2,FALSE))","v":""},{"$f":"IF('Proyeccion Cuotas'!$D193=\"\",\"\",CONCATENATE('Proyeccion Cuotas'!$G193,\"/\",'Proyeccion Cuotas'!$F193,\"/\",'Proyeccion Cuotas'!$E193))","v":""},{"$f":"IFERROR(IF('Proyeccion Cuotas'!$D193=\"\",\"\",IF(OR('Proyeccion Cuotas'!$F193=7,'Proyeccion Cuotas'!$F193=12),($B$45+(($F$1-$B$47)/$F$3)),(($F$1-$B$47)/$F$3))),0)","v":""},{"$f":"IFERROR(IF('Proyeccion Cuotas'!$D193=\"\",\"\",(M192*$F$5*'Proyeccion Cuotas'!$K193/365)),\"\")","v":""},{"$f":"+IF('Proyeccion Cuotas'!$D193=\"\",\"\",'Proyeccion Cuotas'!$H193-H192)","v":""},{"$f":"IFERROR('Proyeccion Cuotas'!$I193+'Proyeccion Cuotas'!$J193,\"\")","v":""},{"$f":"+IFERROR((M192-'Proyeccion Cuotas'!$I193),\"\")","v":""}]
[null,null,null,"",{"$f":"IF('Proyeccion Cuotas'!$D194=\"\",\"\",IF(F193=12,E193+1,E193))","v":""},{"$f":"IF('Proyeccion Cuotas'!$D194=\"\",\"\",IF(F193=12,1,F193+1))","v":""},{"$f":"+IF('Proyeccion Cuotas'!$D194=\"\",\"\",VLOOKUP('Proyeccion Cuotas'!$F194,$A$16:$B$27,2,FALSE))","v":""},{"$f":"IF('Proyeccion Cuotas'!$D194=\"\",\"\",CONCATENATE('Proyeccion Cuotas'!$G194,\"/\",'Proyeccion Cuotas'!$F194,\"/\",'Proyeccion Cuotas'!$E194))","v":""},{"$f":"IFERROR(IF('Proyeccion Cuotas'!$D194=\"\",\"\",IF(OR('Proyeccion Cuotas'!$F194=7,'Proyeccion Cuotas'!$F194=12),($B$45+(($F$1-$B$47)/$F$3)),(($F$1-$B$47)/$F$3))),0)","v":""},{"$f":"IFERROR(IF('Proyeccion Cuotas'!$D194=\"\",\"\",(M193*$F$5*'Proyeccion Cuotas'!$K194/365)),\"\")","v":""},{"$f":"+IF('Proyeccion Cuotas'!$D194=\"\",\"\",'Proyeccion Cuotas'!$H194-H193)","v":""},{"$f":"IFERROR('Proyeccion Cuotas'!$I194+'Proyeccion Cuotas'!$J194,\"\")","v":""},{"$f":"+IFERROR((M193-'Proyeccion Cuotas'!$I194),\"\")","v":""}]
[null,null,null,"",{"$f":"IF('Proyeccion Cuotas'!$D195=\"\",\"\",IF(F194=12,E194+1,E194))","v":""},{"$f":"IF('Proyeccion Cuotas'!$D195=\"\",\"\",IF(F194=12,1,F194+1))","v":""},{"$f":"+IF('Proyeccion Cuotas'!$D195=\"\",\"\",VLOOKUP('Proyeccion Cuotas'!$F195,$A$16:$B$27,2,FALSE))","v":""},{"$f":"IF('Proyeccion Cuotas'!$D195=\"\",\"\",CONCATENATE('Proyeccion Cuotas'!$G195,\"/\",'Proyeccion Cuotas'!$F195,\"/\",'Proyeccion Cuotas'!$E195))","v":""},{"$f":"IFERROR(IF('Proyeccion Cuotas'!$D195=\"\",\"\",IF(OR('Proyeccion Cuotas'!$F195=7,'Proyeccion Cuotas'!$F195=12),($B$45+(($F$1-$B$47)/$F$3)),(($F$1-$B$47)/$F$3))),0)","v":""},{"$f":"IFERROR(IF('Proyeccion Cuotas'!$D195=\"\",\"\",(M194*$F$5*'Proyeccion Cuotas'!$K195/365)),\"\")","v":""},{"$f":"+IF('Proyeccion Cuotas'!$D195=\"\",\"\",'Proyeccion Cuotas'!$H195-H194)","v":""},{"$f":"IFERROR('Proyeccion Cuotas'!$I195+'Proyeccion Cuotas'!$J195,\"\")","v":""},{"$f":"+IFERROR((M194-'Proyeccion Cuotas'!$I195),\"\")","v":""}]
[null,null,null,"",{"$f":"IF('Proyeccion Cuotas'!$D196=\"\",\"\",IF(F195=12,E195+1,E195))","v":""},{"$f":"IF('Proyeccion Cuotas'!$D196=\"\",\"\",IF(F195=12,1,F195+1))","v":""},{"$f":"+IF('Proyeccion Cuotas'!$D196=\"\",\"\",VLOOKUP('Proyeccion Cuotas'!$F196,$A$16:$B$27,2,FALSE))","v":""},{"$f":"IF('Proyeccion Cuotas'!$D196=\"\",\"\",CONCATENATE('Proyeccion Cuotas'!$G196,\"/\",'Proyeccion Cuotas'!$F196,\"/\",'Proyeccion Cuotas'!$E196))","v":""},{"$f":"IFERROR(IF('Proyeccion Cuotas'!$D196=\"\",\"\",IF(OR('Proyeccion Cuotas'!$F196=7,'Proyeccion Cuotas'!$F196=12),($B$45+(($F$1-$B$47)/$F$3)),(($F$1-$B$47)/$F$3))),0)","v":""},{"$f":"IFERROR(IF('Proyeccion Cuotas'!$D196=\"\",\"\",(M195*$F$5*'Proyeccion Cuotas'!$K196/365)),\"\")","v":""},{"$f":"+IF('Proyeccion Cuotas'!$D196=\"\",\"\",'Proyeccion Cuotas'!$H196-H195)","v":""},{"$f":"IFERROR('Proyeccion Cuotas'!$I196+'Proyeccion Cuotas'!$J196,\"\")","v":""},{"$f":"+IFERROR((M195-'Proyeccion Cuotas'!$I196),\"\")","v":""}]
[null,null,null,"",{"$f":"IF('Proyeccion Cuotas'!$D197=\"\",\"\",IF(F196=12,E196+1,E196))","v":""},{"$f":"IF('Proyeccion Cuotas'!$D197=\"\",\"\",IF(F196=12,1,F196+1))","v":""},{"$f":"+IF('Proyeccion Cuotas'!$D197=\"\",\"\",VLOOKUP('Proyeccion Cuotas'!$F197,$A$16:$B$27,2,FALSE))","v":""},{"$f":"IF('Proyeccion Cuotas'!$D197=\"\",\"\",CONCATENATE('Proyeccion Cuotas'!$G197,\"/\",'Proyeccion Cuotas'!$F197,\"/\",'Proyeccion Cuotas'!$E197))","v":""},{"$f":"IFERROR(IF('Proyeccion Cuotas'!$D197=\"\",\"\",IF(OR('Proyeccion Cuotas'!$F197=7,'Proyeccion Cuotas'!$F197=12),($B$45+(($F$1-$B$47)/$F$3)),(($F$1-$B$47)/$F$3))),0)","v":""},{"$f":"IFERROR(IF('Proyeccion Cuotas'!$D197=\"\",\"\",(M196*$F$5*'Proyeccion Cuotas'!$K197/365)),\"\")","v":""},{"$f":"+IF('Proyeccion Cuotas'!$D197=\"\",\"\",'Proyeccion Cuotas'!$H197-H196)","v":""},{"$f":"IFERROR('Proyeccion Cuotas'!$I197+'Proyeccion Cuotas'!$J197,\"\")","v":""},{"$f":"+IFERROR((M196-'Proyeccion Cuotas'!$I197),\"\")","v":""}]
[null,null,null,"",{"$f":"IF('Proyeccion Cuotas'!$D198=\"\",\"\",IF(F197=12,E197+1,E197))","v":""},{"$f":"IF('Proyeccion Cuotas'!$D198=\"\",\"\",IF(F197=12,1,F197+1))","v":""},{"$f":"+IF('Proyeccion Cuotas'!$D198=\"\",\"\",VLOOKUP('Proyeccion Cuotas'!$F198,$A$16:$B$27,2,FALSE))","v":""},{"$f":"IF('Proyeccion Cuotas'!$D198=\"\",\"\",CONCATENATE('Proyeccion Cuotas'!$G198,\"/\",'Proyeccion Cuotas'!$F198,\"/\",'Proyeccion Cuotas'!$E198))","v":""},{"$f":"IFERROR(IF('Proyeccion Cuotas'!$D198=\"\",\"\",IF(OR('Proyeccion Cuotas'!$F198=7,'Proyeccion Cuotas'!$F198=12),($B$45+(($F$1-$B$47)/$F$3)),(($F$1-$B$47)/$F$3))),0)","v":""},{"$f":"IFERROR(IF('Proyeccion Cuotas'!$D198=\"\",\"\",(M197*$F$5*'Proyeccion Cuotas'!$K198/365)),\"\")","v":""},{"$f":"+IF('Proyeccion Cuotas'!$D198=\"\",\"\",'Proyeccion Cuotas'!$H198-H197)","v":""},{"$f":"IFERROR('Proyeccion Cuotas'!$I198+'Proyeccion Cuotas'!$J198,\"\")","v":""},{"$f":"+IFERROR((M197-'Proyeccion Cuotas'!$I198),\"\")","v":""}]
[null,null,null,"",{"$f":"IF('Proyeccion Cuotas'!$D199=\"\",\"\",IF(F198=12,E198+1,E198))","v":""},{"$f":"IF('Proyeccion Cuotas'!$D199=\"\",\"\",IF(F198=12,1,F198+1))","v":""},{"$f":"+IF('Proyeccion Cuotas'!$D199=\"\",\"\",VLOOKUP('Proyeccion Cuotas'!$F199,$A$16:$B$27,2,FALSE))","v":""},{"$f":"IF('Proyeccion Cuotas'!$D199=\"\",\"\",CONCATENATE('Proyeccion Cuotas'!$G199,\"/\",'Proyeccion Cuotas'!$F199,\"/\",'Proyeccion Cuotas'!$E199))","v":""},{"$f":"IFERROR(IF('Proyeccion Cuotas'!$D199=\"\",\"\",IF(OR('Proyeccion Cuotas'!$F199=7,'Proyeccion Cuotas'!$F199=12),($B$45+(($F$1-$B$47)/$F$3)),(($F$1-$B$47)/$F$3))),0)","v":""},{"$f":"IFERROR(IF('Proyeccion Cuotas'!$D199=\"\",\"\",(M198*$F$5*'Proyeccion Cuotas'!$K199/365)),\"\")","v":""},{"$f":"+IF('Proyeccion Cuotas'!$D199=\"\",\"\",'Proyeccion Cuotas'!$H199-H198)","v":""},{"$f":"IFERROR('Proyeccion Cuotas'!$I199+'Proyeccion Cuotas'!$J199,\"\")","v":""},{"$f":"+IFERROR((M198-'Proyeccion Cuotas'!$I199),\"\")","v":""}]
[null,null,null,"",{"$f":"IF('Proyeccion Cuotas'!$D200=\"\",\"\",IF(F199=12,E199+1,E199))","v":""},{"$f":"IF('Proyeccion Cuotas'!$D200=\"\",\"\",IF(F199=12,1,F199+1))","v":""},{"$f":"+IF('Proyeccion Cuotas'!$D200=\"\",\"\",VLOOKUP('Proyeccion Cuotas'!$F200,$A$16:$B$27,2,FALSE))","v":""},{"$f":"IF('Proyeccion Cuotas'!$D200=\"\",\"\",CONCATENATE('Proyeccion Cuotas'!$G200,\"/\",'Proyeccion Cuotas'!$F200,\"/\",'Proyeccion Cuotas'!$E200))","v":""},{"$f":"IFERROR(IF('Proyeccion Cuotas'!$D200=\"\",\"\",IF(OR('Proyeccion Cuotas'!$F200=7,'Proyeccion Cuotas'!$F200=12),($B$45+(($F$1-$B$47)/$F$3)),(($F$1-$B$47)/$F$3))),0)","v":""},{"$f":"IFERROR(IF('Proyeccion Cuotas'!$D200=\"\",\"\",(M199*$F$5*'Proyeccion Cuotas'!$K200/365)),\"\")","v":""},{"$f":"+IF('Proyeccion Cuotas'!$D200=\"\",\"\",'Proyeccion Cuotas'!$H200-H199)","v":""},{"$f":"IFERROR('Proyeccion Cuotas'!$I200+'Proyeccion Cuotas'!$J200,\"\")","v":""},{"$f":"+IFERROR((M199-'Proyeccion Cuotas'!$I200),\"\")","v":""}]
[null,null,null,"",{"$f":"IF('Proyeccion Cuotas'!$D201=\"\",\"\",IF(F200=12,E200+1,E200))","v":""},{"$f":"IF('Proyeccion Cuotas'!$D201=\"\",\"\",IF(F200=12,1,F200+1))","v":""},{"$f":"+IF('Proyeccion Cuotas'!$D201=\"\",\"\",VLOOKUP('Proyeccion Cuotas'!$F201,$A$16:$B$27,2,FALSE))","v":""},{"$f":"IF('Proyeccion Cuotas'!$D201=\"\",\"\",CONCATENATE('Proyeccion Cuotas'!$G201,\"/\",'Proyeccion Cuotas'!$F201,\"/\",'Proyeccion Cuotas'!$E201))","v":""},{"$f":"IFERROR(IF('Proyeccion Cuotas'!$D201=\"\",\"\",IF(OR('Proyeccion Cuotas'!$F201=7,'Proyeccion Cuotas'!$F201=12),($B$45+(($F$1-$B$47)/$F$3)),(($F$1-$B$47)/$F$3))),0)","v":""},{"$f":"IFERROR(IF('Proyeccion Cuotas'!$D201=\"\",\"\",(M200*$F$5*'Proyeccion Cuotas'!$K201/365)),\"\")","v":""},{"$f":"+IF('Proyeccion Cuotas'!$D201=\"\",\"\",'Proyeccion Cuotas'!$H201-H200)","v":""},{"$f":"IFERROR('Proyeccion Cuotas'!$I201+'Proyeccion Cuotas'!$J201,\"\")","v":""},{"$f":"+IFERROR((M200-'Proyeccion Cuotas'!$I201),\"\")","v":""}]
[null,null,null,"",{"$f":"IF('Proyeccion Cuotas'!$D202=\"\",\"\",IF(F201=12,E201+1,E201))","v":""},{"$f":"IF('Proyeccion Cuotas'!$D202=\"\",\"\",IF(F201=12,1,F201+1))","v":""},{"$f":"+IF('Proyeccion Cuotas'!$D202=\"\",\"\",VLOOKUP('Proyeccion Cuotas'!$F202,$A$16:$B$27,2,FALSE))","v":""},{"$f":"IF('Proyeccion Cuotas'!$D202=\"\",\"\",CONCATENATE('Proyeccion Cuotas'!$G202,\"/\",'Proyeccion Cuotas'!$F202,\"/\",'Proyeccion Cuotas'!$E202))","v":""},{"$f":"IFERROR(IF('Proyeccion Cuotas'!$D202=\"\",\"\",IF(OR('Proyeccion Cuotas'!$F202=7,'Proyeccion Cuotas'!$F202=12),($B$45+(($F$1-$B$47)/$F$3)),(($F$1-$B$47)/$F$3))),0)","v":""},{"$f":"IFERROR(IF('Proyeccion Cuotas'!$D202=\"\",\"\",(M201*$F$5*'Proyeccion Cuotas'!$K202/365)),\"\")","v":""},{"$f":"+IF('Proyeccion Cuotas'!$D202=\"\",\"\",'Proyeccion Cuotas'!$H202-H201)","v":""},{"$f":"IFERROR('Proyeccion Cuotas'!$I202+'Proyeccion Cuotas'!$J202,\"\")","v":""},{"$f":"+IFERROR((M201-'Proyeccion Cuotas'!$I202),\"\")","v":""}]
[null,null,null,"",{"$f":"IF('Proyeccion Cuotas'!$D203=\"\",\"\",IF(F202=12,E202+1,E202))","v":""},{"$f":"IF('Proyeccion Cuotas'!$D203=\"\",\"\",IF(F202=12,1,F202+1))","v":""},{"$f":"+IF('Proyeccion Cuotas'!$D203=\"\",\"\",VLOOKUP('Proyeccion Cuotas'!$F203,$A$16:$B$27,2,FALSE))","v":""},{"$f":"IF('Proyeccion Cuotas'!$D203=\"\",\"\",CONCATENATE('Proyeccion Cuotas'!$G203,\"/\",'Proyeccion Cuotas'!$F203,\"/\",'Proyeccion Cuotas'!$E203))","v":""},{"$f":"IFERROR(IF('Proyeccion Cuotas'!$D203=\"\",\"\",IF(OR('Proyeccion Cuotas'!$F203=7,'Proyeccion Cuotas'!$F203=12),($B$45+(($F$1-$B$47)/$F$3)),(($F$1-$B$47)/$F$3))),0)","v":""},{"$f":"IFERROR(IF('Proyeccion Cuotas'!$D203=\"\",\"\",(M202*$F$5*'Proyeccion Cuotas'!$K203/365)),\"\")","v":""},{"$f":"+IF('Proyeccion Cuotas'!$D203=\"\",\"\",'Proyeccion Cuotas'!$H203-H202)","v":""},{"$f":"IFERROR('Proyeccion Cuotas'!$I203+'Proyeccion Cuotas'!$J203,\"\")","v":""},{"$f":"+IFERROR((M202-'Proyeccion Cuotas'!$I203),\"\")","v":""}]
[null,null,null,"",{"$f":"IF('Proyeccion Cuotas'!$D204=\"\",\"\",IF(F203=12,E203+1,E203))","v":""},{"$f":"IF('Proyeccion Cuotas'!$D204=\"\",\"\",IF(F203=12,1,F203+1))","v":""},{"$f":"+IF('Proyeccion Cuotas'!$D204=\"\",\"\",VLOOKUP('Proyeccion Cuotas'!$F204,$A$16:$B$27,2,FALSE))","v":""},{"$f":"IF('Proyeccion Cuotas'!$D204=\"\",\"\",CONCATENATE('Proyeccion Cuotas'!$G204,\"/\",'Proyeccion Cuotas'!$F204,\"/\",'Proyeccion Cuotas'!$E204))","v":""},{"$f":"IFERROR(IF('Proyeccion Cuotas'!$D204=\"\",\"\",IF(OR('Proyeccion Cuotas'!$F204=7,'Proyeccion Cuotas'!$F204=12),($B$45+(($F$1-$B$47)/$F$3)),(($F$1-$B$47)/$F$3))),0)","v":""},{"$f":"IFERROR(IF('Proyeccion Cuotas'!$D204=\"\",\"\",(M203*$F$5*'Proyeccion Cuotas'!$K204/365)),\"\")","v":""},{"$f":"+IF('Proyeccion Cuotas'!$D204=\"\",\"\",'Proyeccion Cuotas'!$H204-H203)","v":""},{"$f":"IFERROR('Proyeccion Cuotas'!$I204+'Proyeccion Cuotas'!$J204,\"\")","v":""},{"$f":"+IFERROR((M203-'Proyeccion Cuotas'!$I204),\"\")","v":""}]
[null,null,null,"",{"$f":"IF('Proyeccion Cuotas'!$D205=\"\",\"\",IF(F204=12,E204+1,E204))","v":""},{"$f":"IF('Proyeccion Cuotas'!$D205=\"\",\"\",IF(F204=12,1,F204+1))","v":""},{"$f":"+IF('Proyeccion Cuotas'!$D205=\"\",\"\",VLOOKUP('Proyeccion Cuotas'!$F205,$A$16:$B$27,2,FALSE))","v":""},{"$f":"IF('Proyeccion Cuotas'!$D205=\"\",\"\",CONCATENATE('Proyeccion Cuotas'!$G205,\"/\",'Proyeccion Cuotas'!$F205,\"/\",'Proyeccion Cuotas'!$E205))","v":""},{"$f":"IFERROR(IF('Proyeccion Cuotas'!$D205=\"\",\"\",IF(OR('Proyeccion Cuotas'!$F205=7,'Proyeccion Cuotas'!$F205=12),($B$45+(($F$1-$B$47)/$F$3)),(($F$1-$B$47)/$F$3))),0)","v":""},{"$f":"IFERROR(IF('Proyeccion Cuotas'!$D205=\"\",\"\",(M204*$F$5*'Proyeccion Cuotas'!$K205/365)),\"\")","v":""},{"$f":"+IF('Proyeccion Cuotas'!$D205=\"\",\"\",'Proyeccion Cuotas'!$H205-H204)","v":""},{"$f":"IFERROR('Proyeccion Cuotas'!$I205+'Proyeccion Cuotas'!$J205,\"\")","v":""},{"$f":"+IFERROR((M204-'Proyeccion Cuotas'!$I205),\"\")","v":""}]
[null,null,null,"",{"$f":"IF('Proyeccion Cuotas'!$D206=\"\",\"\",IF(F205=12,E205+1,E205))","v":""},{"$f":"IF('Proyeccion Cuotas'!$D206=\"\",\"\",IF(F205=12,1,F205+1))","v":""},{"$f":"+IF('Proyeccion Cuotas'!$D206=\"\",\"\",VLOOKUP('Proyeccion Cuotas'!$F206,$A$16:$B$27,2,FALSE))","v":""},{"$f":"IF('Proyeccion Cuotas'!$D206=\"\",\"\",CONCATENATE('Proyeccion Cuotas'!$G206,\"/\",'Proyeccion Cuotas'!$F206,\"/\",'Proyeccion Cuotas'!$E206))","v":""},{"$f":"IFERROR(IF('Proyeccion Cuotas'!$D206=\"\",\"\",IF(OR('Proyeccion Cuotas'!$F206=7,'Proyeccion Cuotas'!$F206=12),($B$45+(($F$1-$B$47)/$F$3)),(($F$1-$B$47)/$F$3))),0)","v":""},{"$f":"IFERROR(IF('Proyeccion Cuotas'!$D206=\"\",\"\",(M205*$F$5*'Proyeccion Cuotas'!$K206/365)),\"\")","v":""},{"$f":"+IF('Proyeccion Cuotas'!$D206=\"\",\"\",'Proyeccion Cuotas'!$H206-H205)","v":""},{"$f":"IFERROR('Proyeccion Cuotas'!$I206+'Proyeccion Cuotas'!$J206,\"\")","v":""},{"$f":"+IFERROR((M205-'Proyeccion Cuotas'!$I206),\"\")","v":""}]
[null,null,null,"",{"$f":"IF('Proyeccion Cuotas'!$D207=\"\",\"\",IF(F206=12,E206+1,E206))","v":""},{"$f":"IF('Proyeccion Cuotas'!$D207=\"\",\"\",IF(F206=12,1,F206+1))","v":""},{"$f":"+IF('Proyeccion Cuotas'!$D207=\"\",\"\",VLOOKUP('Proyeccion Cuotas'!$F207,$A$16:$B$27,2,FALSE))","v":""},{"$f":"IF('Proyeccion Cuotas'!$D207=\"\",\"\",CONCATENATE('Proyeccion Cuotas'!$G207,\"/\",'Proyeccion Cuotas'!$F207,\"/\",'Proyeccion Cuotas'!$E207))","v":""},{"$f":"IFERROR(IF('Proyeccion Cuotas'!$D207=\"\",\"\",IF(OR('Proyeccion Cuotas'!$F207=7,'Proyeccion Cuotas'!$F207=12),($B$45+(($F$1-$B$47)/$F$3)),(($F$1-$B$47)/$F$3))),0)","v":""},{"$f":"IFERROR(IF('Proyeccion Cuotas'!$D207=\"\",\"\",(M206*$F$5*'Proyeccion Cuotas'!$K207/365)),\"\")","v":""},{"$f":"+IF('Proyeccion Cuotas'!$D207=\"\",\"\",'Proyeccion Cuotas'!$H207-H206)","v":""},{"$f":"IFERROR('Proyeccion Cuotas'!$I207+'Proyeccion Cuotas'!$J207,\"\")","v":""},{"$f":"+IFERROR((M206-'Proyeccion Cuotas'!$I207),\"\")","v":""}]
[null,null,null,"",{"$f":"IF('Proyeccion Cuotas'!$D208=\"\",\"\",IF(F207=12,E207+1,E207))","v":""},{"$f":"IF('Proyeccion Cuotas'!$D208=\"\",\"\",IF(F207=12,1,F207+1))","v":""},{"$f":"+IF('Proyeccion Cuotas'!$D208=\"\",\"\",VLOOKUP('Proyeccion Cuotas'!$F208,$A$16:$B$27,2,FALSE))","v":""},{"$f":"IF('Proyeccion Cuotas'!$D208=\"\",\"\",CONCATENATE('Proyeccion Cuotas'!$G208,\"/\",'Proyeccion Cuotas'!$F208,\"/\",'Proyeccion Cuotas'!$E208))","v":""},{"$f":"IFERROR(IF('Proyeccion Cuotas'!$D208=\"\",\"\",IF(OR('Proyeccion Cuotas'!$F208=7,'Proyeccion Cuotas'!$F208=12),($B$45+(($F$1-$B$47)/$F$3)),(($F$1-$B$47)/$F$3))),0)","v":""},{"$f":"IFERROR(IF('Proyeccion Cuotas'!$D208=\"\",\"\",(M207*$F$5*'Proyeccion Cuotas'!$K208/365)),\"\")","v":""},{"$f":"+IF('Proyeccion Cuotas'!$D208=\"\",\"\",'Proyeccion Cuotas'!$H208-H207)","v":""},{"$f":"IFERROR('Proyeccion Cuotas'!$I208+'Proyeccion Cuotas'!$J208,\"\")","v":""},{"$f":"+IFERROR((M207-'Proyeccion Cuotas'!$I208),\"\")","v":""}]
[null,null,null,"",{"$f":"IF('Proyeccion Cuotas'!$D209=\"\",\"\",IF(F208=12,E208+1,E208))","v":""},{"$f":"IF('Proyeccion Cuotas'!$D209=\"\",\"\",IF(F208=12,1,F208+1))","v":""},{"$f":"+IF('Proyeccion Cuotas'!$D209=\"\",\"\",VLOOKUP('Proyeccion Cuotas'!$F209,$A$16:$B$27,2,FALSE))","v":""},{"$f":"IF('Proyeccion Cuotas'!$D209=\"\",\"\",CONCATENATE('Proyeccion Cuotas'!$G209,\"/\",'Proyeccion Cuotas'!$F209,\"/\",'Proyeccion Cuotas'!$E209))","v":""},{"$f":"IFERROR(IF('Proyeccion Cuotas'!$D209=\"\",\"\",IF(OR('Proyeccion Cuotas'!$F209=7,'Proyeccion Cuotas'!$F209=12),($B$45+(($F$1-$B$47)/$F$3)),(($F$1-$B$47)/$F$3))),0)","v":""},{"$f":"IFERROR(IF('Proyeccion Cuotas'!$D209=\"\",\"\",(M208*$F$5*'Proyeccion Cuotas'!$K209/365)),\"\")","v":""},{"$f":"+IF('Proyeccion Cuotas'!$D209=\"\",\"\",'Proyeccion Cuotas'!$H209-H208)","v":""},{"$f":"IFERROR('Proyeccion Cuotas'!$I209+'Proyeccion Cuotas'!$J209,\"\")","v":""},{"$f":"+IFERROR((M208-'Proyeccion Cuotas'!$I209),\"\")","v":""}]
[null,null,null,{"$f":"IFERROR(IF(M209<0.001,\"\",(D209+1)),\"\")","v":""},{"$f":"IF('Proyeccion Cuotas'!$D210=\"\",\"\",IF(F209=12,E209+1,E209))","v":""},{"$f":"IF('Proyeccion Cuotas'!$D210=\"\",\"\",IF(F209=12,1,F209+1))","v":""},{"$f":"+IF('Proyeccion Cuotas'!$D210=\"\",\"\",VLOOKUP('Proyeccion Cuotas'!$F210,$A$16:$B$27,2,FALSE))","v":""},{"$f":"IF('Proyeccion Cuotas'!$D210=\"\",\"\",CONCATENATE('Proyeccion Cuotas'!$G210,\"/\",'Proyeccion Cuotas'!$F210,\"/\",'Proyeccion Cuotas'!$E210))","v":""},{"$f":"IFERROR(IF('Proyeccion Cuotas'!$D210=\"\",\"\",IF(OR('Proyeccion Cuotas'!$F210=7,'Proyeccion Cuotas'!$F210=12),($B$45+(($F$1-$B$47)/$F$3)),(($F$1-$B$47)/$F$3))),0)","v":""},{"$f":"IFERROR(IF('Proyeccion Cuotas'!$D210=\"\",\"\",(M209*$F$5*'Proyeccion Cuotas'!$K210/365)),\"\")","v":""},{"$f":"+IF('Proyeccion Cuotas'!$D210=\"\",\"\",'Proyeccion Cuotas'!$H210-H209)","v":""},{"$f":"IFERROR('Proyeccion Cuotas'!$I210+'Proyeccion Cuotas'!$J210,\"\")","v":""},{"$f":"+IFERROR((M209-'Proyeccion Cuotas'!$I210),\"\")","v":""}]
[null,null,null,"",{"$f":"IF('Proyeccion Cuotas'!$D211=\"\",\"\",IF(F210=12,E210+1,E210))","v":""},{"$f":"IF('Proyeccion Cuotas'!$D211=\"\",\"\",IF(F210=12,1,F210+1))","v":""},{"$f":"+IF('Proyeccion Cuotas'!$D211=\"\",\"\",VLOOKUP('Proyeccion Cuotas'!$F211,$A$16:$B$27,2,FALSE))","v":""},{"$f":"IF('Proyeccion Cuotas'!$D211=\"\",\"\",CONCATENATE('Proyeccion Cuotas'!$G211,\"/\",'Proyeccion Cuotas'!$F211,\"/\",'Proyeccion Cuotas'!$E211))","v":""},{"$f":"IFERROR(IF('Proyeccion Cuotas'!$D211=\"\",\"\",IF(OR('Proyeccion Cuotas'!$F211=7,'Proyeccion Cuotas'!$F211=12),($B$45+(($F$1-$B$47)/$F$3)),(($F$1-$B$47)/$F$3))),0)","v":""},{"$f":"IFERROR(IF('Proyeccion Cuotas'!$D211=\"\",\"\",(M210*$F$5*'Proyeccion Cuotas'!$K211/365)),\"\")","v":""},{"$f":"+IF('Proyeccion Cuotas'!$D211=\"\",\"\",'Proyeccion Cuotas'!$H211-H210)","v":""},{"$f":"IFERROR('Proyeccion Cuotas'!$I211+'Proyeccion Cuotas'!$J211,\"\")","v":""},{"$f":"+IFERROR((M210-'Proyeccion Cuotas'!$I211),\"\")","v":""}]
[null,null,null,"",{"$f":"IF('Proyeccion Cuotas'!$D212=\"\",\"\",IF(F211=12,E211+1,E211))","v":""},{"$f":"IF('Proyeccion Cuotas'!$D212=\"\",\"\",IF(F211=12,1,F211+1))","v":""},{"$f":"+IF('Proyeccion Cuotas'!$D212=\"\",\"\",VLOOKUP('Proyeccion Cuotas'!$F212,$A$16:$B$27,2,FALSE))","v":""},{"$f":"IF('Proyeccion Cuotas'!$D212=\"\",\"\",CONCATENATE('Proyeccion Cuotas'!$G212,\"/\",'Proyeccion Cuotas'!$F212,\"/\",'Proyeccion Cuotas'!$E212))","v":""},{"$f":"IFERROR(IF('Proyeccion Cuotas'!$D212=\"\",\"\",IF(OR('Proyeccion Cuotas'!$F212=7,'Proyeccion Cuotas'!$F212=12),($B$45+(($F$1-$B$47)/$F$3)),(($F$1-$B$47)/$F$3))),0)","v":""},{"$f":"IFERROR(IF('Proyeccion Cuotas'!$D212=\"\",\"\",(M211*$F$5*'Proyeccion Cuotas'!$K212/365)),\"\")","v":""},{"$f":"+IF('Proyeccion Cuotas'!$D212=\"\",\"\",'Proyeccion Cuotas'!$H212-H211)","v":""},{"$f":"IFERROR('Proyeccion Cuotas'!$I212+'Proyeccion Cuotas'!$J212,\"\")","v":""},{"$f":"+IFERROR((M211-'Proyeccion Cuotas'!$I212),\"\")","v":""}]
[null,null,null,"",{"$f":"IF('Proyeccion Cuotas'!$D213=\"\",\"\",IF(F212=12,E212+1,E212))","v":""},{"$f":"IF('Proyeccion Cuotas'!$D213=\"\",\"\",IF(F212=12,1,F212+1))","v":""},{"$f":"+IF('Proyeccion Cuotas'!$D213=\"\",\"\",VLOOKUP('Proyeccion Cuotas'!$F213,$A$16:$B$27,2,FALSE))","v":""},{"$f":"IF('Proyeccion Cuotas'!$D213=\"\",\"\",CONCATENATE('Proyeccion Cuotas'!$G213,\"/\",'Proyeccion Cuotas'!$F213,\"/\",'Proyeccion Cuotas'!$E213))","v":""},{"$f":"IFERROR(IF('Proyeccion Cuotas'!$D213=\"\",\"\",IF(OR('Proyeccion Cuotas'!$F213=7,'Proyeccion Cuotas'!$F213=12),($B$45+(($F$1-$B$47)/$F$3)),(($F$1-$B$47)/$F$3))),0)","v":""},{"$f":"IFERROR(IF('Proyeccion Cuotas'!$D213=\"\",\"\",(M212*$F$5*'Proyeccion Cuotas'!$K213/365)),\"\")","v":""},{"$f":"+IF('Proyeccion Cuotas'!$D213=\"\",\"\",'Proyeccion Cuotas'!$H213-H212)","v":""},{"$f":"IFERROR('Proyeccion Cuotas'!$I213+'Proyeccion Cuotas'!$J213,\"\")","v":""},{"$f":"+IFERROR((M212-'Proyeccion Cuotas'!$I213),\"\")","v":""}]
[null,null,null,"",{"$f":"IF('Proyeccion Cuotas'!$D214=\"\",\"\",IF(F213=12,E213+1,E213))","v":""},{"$f":"IF('Proyeccion Cuotas'!$D214=\"\",\"\",IF(F213=12,1,F213+1))","v":""},{"$f":"+IF('Proyeccion Cuotas'!$D214=\"\",\"\",VLOOKUP('Proyeccion Cuotas'!$F214,$A$16:$B$27,2,FALSE))","v":""},{"$f":"IF('Proyeccion Cuotas'!$D214=\"\",\"\",CONCATENATE('Proyeccion Cuotas'!$G214,\"/\",'Proyeccion Cuotas'!$F214,\"/\",'Proyeccion Cuotas'!$E214))","v":""},{"$f":"IFERROR(IF('Proyeccion Cuotas'!$D214=\"\",\"\",IF(OR('Proyeccion Cuotas'!$F214=7,'Proyeccion Cuotas'!$F214=12),($B$45+(($F$1-$B$47)/$F$3)),(($F$1-$B$47)/$F$3))),0)","v":""},{"$f":"IFERROR(IF('Proyeccion Cuotas'!$D214=\"\",\"\",(M213*$F$5*'Proyeccion Cuotas'!$K214/365)),\"\")","v":""},{"$f":"+IF('Proyeccion Cuotas'!$D214=\"\",\"\",'Proyeccion Cuotas'!$H214-H213)","v":""},{"$f":"IFERROR('Proyeccion Cuotas'!$I214+'Proyeccion Cuotas'!$J214,\"\")","v":""},{"$f":"+IFERROR((M213-'Proyeccion Cuotas'!$I214),\"\")","v":""}]
[null,null,null,"",{"$f":"IF('Proyeccion Cuotas'!$D215=\"\",\"\",IF(F214=12,E214+1,E214))","v":""},{"$f":"IF('Proyeccion Cuotas'!$D215=\"\",\"\",IF(F214=12,1,F214+1))","v":""},{"$f":"+IF('Proyeccion Cuotas'!$D215=\"\",\"\",VLOOKUP('Proyeccion Cuotas'!$F215,$A$16:$B$27,2,FALSE))","v":""},{"$f":"IF('Proyeccion Cuotas'!$D215=\"\",\"\",CONCATENATE('Proyeccion Cuotas'!$G215,\"/\",'Proyeccion Cuotas'!$F215,\"/\",'Proyeccion Cuotas'!$E215))","v":""},{"$f":"IFERROR(IF('Proyeccion Cuotas'!$D215=\"\",\"\",IF(OR('Proyeccion Cuotas'!$F215=7,'Proyeccion Cuotas'!$F215=12),($B$45+(($F$1-$B$47)/$F$3)),(($F$1-$B$47)/$F$3))),0)","v":""},{"$f":"IFERROR(IF('Proyeccion Cuotas'!$D215=\"\",\"\",(M214*$F$5*'Proyeccion Cuotas'!$K215/365)),\"\")","v":""},{"$f":"+IF('Proyeccion Cuotas'!$D215=\"\",\"\",'Proyeccion Cuotas'!$H215-H214)","v":""},{"$f":"IFERROR('Proyeccion Cuotas'!$I215+'Proyeccion Cuotas'!$J215,\"\")","v":""},{"$f":"+IFERROR((M214-'Proyeccion Cuotas'!$I215),\"\")","v":""}]
[null,null,null,"",{"$f":"IF('Proyeccion Cuotas'!$D216=\"\",\"\",IF(F215=12,E215+1,E215))","v":""},{"$f":"IF('Proyeccion Cuotas'!$D216=\"\",\"\",IF(F215=12,1,F215+1))","v":""},{"$f":"+IF('Proyeccion Cuotas'!$D216=\"\",\"\",VLOOKUP('Proyeccion Cuotas'!$F216,$A$16:$B$27,2,FALSE))","v":""},{"$f":"IF('Proyeccion Cuotas'!$D216=\"\",\"\",CONCATENATE('Proyeccion Cuotas'!$G216,\"/\",'Proyeccion Cuotas'!$F216,\"/\",'Proyeccion Cuotas'!$E216))","v":""},{"$f":"IFERROR(IF('Proyeccion Cuotas'!$D216=\"\",\"\",IF(OR('Proyeccion Cuotas'!$F216=7,'Proyeccion Cuotas'!$F216=12),($B$45+(($F$1-$B$47)/$F$3)),(($F$1-$B$47)/$F$3))),0)","v":""},{"$f":"IFERROR(IF('Proyeccion Cuotas'!$D216=\"\",\"\",(M215*$F$5*'Proyeccion Cuotas'!$K216/365)),\"\")","v":""},{"$f":"+IF('Proyeccion Cuotas'!$D216=\"\",\"\",'Proyeccion Cuotas'!$H216-H215)","v":""},{"$f":"IFERROR('Proyeccion Cuotas'!$I216+'Proyeccion Cuotas'!$J216,\"\")","v":""},{"$f":"+IFERROR((M215-'Proyeccion Cuotas'!$I216),\"\")","v":""}]
[null,null,null,"",{"$f":"IF('Proyeccion Cuotas'!$D217=\"\",\"\",IF(F216=12,E216+1,E216))","v":""},{"$f":"IF('Proyeccion Cuotas'!$D217=\"\",\"\",IF(F216=12,1,F216+1))","v":""},{"$f":"+IF('Proyeccion Cuotas'!$D217=\"\",\"\",VLOOKUP('Proyeccion Cuotas'!$F217,$A$16:$B$27,2,FALSE))","v":""},{"$f":"IF('Proyeccion Cuotas'!$D217=\"\",\"\",CONCATENATE('Proyeccion Cuotas'!$G217,\"/\",'Proyeccion Cuotas'!$F217,\"/\",'Proyeccion Cuotas'!$E217))","v":""},{"$f":"IFERROR(IF('Proyeccion Cuotas'!$D217=\"\",\"\",IF(OR('Proyeccion Cuotas'!$F217=7,'Proyeccion Cuotas'!$F217=12),($B$45+(($F$1-$B$47)/$F$3)),(($F$1-$B$47)/$F$3))),0)","v":""},{"$f":"IFERROR(IF('Proyeccion Cuotas'!$D217=\"\",\"\",(M216*$F$5*'Proyeccion Cuotas'!$K217/365)),\"\")","v":""},{"$f":"+IF('Proyeccion Cuotas'!$D217=\"\",\"\",'Proyeccion Cuotas'!$H217-H216)","v":""},{"$f":"IFERROR('Proyeccion Cuotas'!$I217+'Proyeccion Cuotas'!$J217,\"\")","v":""},{"$f":"+IFERROR((M216-'Proyeccion Cuotas'!$I217),\"\")","v":""}]
[null,null,null,"",{"$f":"IF('Proyeccion Cuotas'!$D218=\"\",\"\",IF(F217=12,E217+1,E217))","v":""},{"$f":"IF('Proyeccion Cuotas'!$D218=\"\",\"\",IF(F217=12,1,F217+1))","v":""},{"$f":"+IF('Proyeccion Cuotas'!$D218=\"\",\"\",VLOOKUP('Proyeccion Cuotas'!$F218,$A$16:$B$27,2,FALSE))","v":""},{"$f":"IF('Proyeccion Cuotas'!$D218=\"\",\"\",CONCATENATE('Proyeccion Cuotas'!$G218,\"/\",'Proyeccion Cuotas'!$F218,\"/\",'Proyeccion Cuotas'!$E218))","v":""},{"$f":"IFERROR(IF('Proyeccion Cuotas'!$D218=\"\",\"\",IF(OR('Proyeccion Cuotas'!$F218=7,'Proyeccion Cuotas'!$F218=12),($B$45+(($F$1-$B$47)/$F$3)),(($F$1-$B$47)/$F$3))),0)","v":""},{"$f":"IFERROR(IF('Proyeccion Cuotas'!$D218=\"\",\"\",(M217*$F$5*'Proyeccion Cuotas'!$K218/365)),\"\")","v":""},{"$f":"+IF('Proyeccion Cuotas'!$D218=\"\",\"\",'Proyeccion Cuotas'!$H218-H217)","v":""},{"$f":"IFERROR('Proyeccion Cuotas'!$I218+'Proyeccion Cuotas'!$J218,\"\")","v":""},{"$f":"+IFERROR((M217-'Proyeccion Cuotas'!$I218),\"\")","v":""}]
[null,null,null,"",{"$f":"IF('Proyeccion Cuotas'!$D219=\"\",\"\",IF(F218=12,E218+1,E218))","v":""},{"$f":"IF('Proyeccion Cuotas'!$D219=\"\",\"\",IF(F218=12,1,F218+1))","v":""},{"$f":"+IF('Proyeccion Cuotas'!$D219=\"\",\"\",VLOOKUP('Proyeccion Cuotas'!$F219,$A$16:$B$27,2,FALSE))","v":""},{"$f":"IF('Proyeccion Cuotas'!$D219=\"\",\"\",CONCATENATE('Proyeccion Cuotas'!$G219,\"/\",'Proyeccion Cuotas'!$F219,\"/\",'Proyeccion Cuotas'!$E219))","v":""},{"$f":"IFERROR(IF('Proyeccion Cuotas'!$D219=\"\",\"\",IF(OR('Proyeccion Cuotas'!$F219=7,'Proyeccion Cuotas'!$F219=12),($B$45+(($F$1-$B$47)/$F$3)),(($F$1-$B$47)/$F$3))),0)","v":""},{"$f":"IFERROR(IF('Proyeccion Cuotas'!$D219=\"\",\"\",(M218*$F$5*'Proyeccion Cuotas'!$K219/365)),\"\")","v":""},{"$f":"+IF('Proyeccion Cuotas'!$D219=\"\",\"\",'Proyeccion Cuotas'!$H219-H218)","v":""},{"$f":"IFERROR('Proyeccion Cuotas'!$I219+'Proyeccion Cuotas'!$J219,\"\")","v":""},{"$f":"+IFERROR((M218-'Proyeccion Cuotas'!$I219),\"\")","v":""}]
[null,null,null,"",{"$f":"IF('Proyeccion Cuotas'!$D220=\"\",\"\",IF(F219=12,E219+1,E219))","v":""},{"$f":"IF('Proyeccion Cuotas'!$D220=\"\",\"\",IF(F219=12,1,F219+1))","v":""},{"$f":"+IF('Proyeccion Cuotas'!$D220=\"\",\"\",VLOOKUP('Proyeccion Cuotas'!$F220,$A$16:$B$27,2,FALSE))","v":""},{"$f":"IF('Proyeccion Cuotas'!$D220=\"\",\"\",CONCATENATE('Proyeccion Cuotas'!$G220,\"/\",'Proyeccion Cuotas'!$F220,\"/\",'Proyeccion Cuotas'!$E220))","v":""},{"$f":"IFERROR(IF('Proyeccion Cuotas'!$D220=\"\",\"\",IF(OR('Proyeccion Cuotas'!$F220=7,'Proyeccion Cuotas'!$F220=12),($B$45+(($F$1-$B$47)/$F$3)),(($F$1-$B$47)/$F$3))),0)","v":""},{"$f":"IFERROR(IF('Proyeccion Cuotas'!$D220=\"\",\"\",(M219*$F$5*'Proyeccion Cuotas'!$K220/365)),\"\")","v":""},{"$f":"+IF('Proyeccion Cuotas'!$D220=\"\",\"\",'Proyeccion Cuotas'!$H220-H219)","v":""},{"$f":"IFERROR('Proyeccion Cuotas'!$I220+'Proyeccion Cuotas'!$J220,\"\")","v":""},{"$f":"+IFERROR((M219-'Proyeccion Cuotas'!$I220),\"\")","v":""}]
[null,null,null,"",{"$f":"IF('Proyeccion Cuotas'!$D221=\"\",\"\",IF(F220=12,E220+1,E220))","v":""},{"$f":"IF('Proyeccion Cuotas'!$D221=\"\",\"\",IF(F220=12,1,F220+1))","v":""},{"$f":"+IF('Proyeccion Cuotas'!$D221=\"\",\"\",VLOOKUP('Proyeccion Cuotas'!$F221,$A$16:$B$27,2,FALSE))","v":""},{"$f":"IF('Proyeccion Cuotas'!$D221=\"\",\"\",CONCATENATE('Proyeccion Cuotas'!$G221,\"/\",'Proyeccion Cuotas'!$F221,\"/\",'Proyeccion Cuotas'!$E221))","v":""},{"$f":"IFERROR(IF('Proyeccion Cuotas'!$D221=\"\",\"\",IF(OR('Proyeccion Cuotas'!$F221=7,'Proyeccion Cuotas'!$F221=12),($B$45+(($F$1-$B$47)/$F$3)),(($F$1-$B$47)/$F$3))),0)","v":""},{"$f":"IFERROR(IF('Proyeccion Cuotas'!$D221=\"\",\"\",(M220*$F$5*'Proyeccion Cuotas'!$K221/365)),\"\")","v":""},{"$f":"+IF('Proyeccion Cuotas'!$D221=\"\",\"\",'Proyeccion Cuotas'!$H221-H220)","v":""},{"$f":"IFERROR('Proyeccion Cuotas'!$I221+'Proyeccion Cuotas'!$J221,\"\")","v":""},{"$f":"+IFERROR((M220-'Proyeccion Cuotas'!$I221),\"\")","v":""}]
[null,null,null,"",{"$f":"IF('Proyeccion Cuotas'!$D222=\"\",\"\",IF(F221=12,E221+1,E221))","v":""},{"$f":"IF('Proyeccion Cuotas'!$D222=\"\",\"\",IF(F221=12,1,F221+1))","v":""},{"$f":"+IF('Proyeccion Cuotas'!$D222=\"\",\"\",VLOOKUP('Proyeccion Cuotas'!$F222,$A$16:$B$27,2,FALSE))","v":""},{"$f":"IF('Proyeccion Cuotas'!$D222=\"\",\"\",CONCATENATE('Proyeccion Cuotas'!$G222,\"/\",'Proyeccion Cuotas'!$F222,\"/\",'Proyeccion Cuotas'!$E222))","v":""},{"$f":"IFERROR(IF('Proyeccion Cuotas'!$D222=\"\",\"\",IF(OR('Proyeccion Cuotas'!$F222=7,'Proyeccion Cuotas'!$F222=12),($B$45+(($F$1-$B$47)/$F$3)),(($F$1-$B$47)/$F$3))),0)","v":""},{"$f":"IFERROR(IF('Proyeccion Cuotas'!$D222=\"\",\"\",(M221*$F$5*'Proyeccion Cuotas'!$K222/365)),\"\")","v":""},{"$f":"+IF('Proyeccion Cuotas'!$D222=\"\",\"\",'Proyeccion Cuotas'!$H222-H221)","v":""},{"$f":"IFERROR('Proyeccion Cuotas'!$I222+'Proyeccion Cuotas'!$J222,\"\")","v":""},{"$f":"+IFERROR((M221-'Proyeccion Cuotas'!$I222),\"\")","v":""}]
[null,null,null,"",{"$f":"IF('Proyeccion Cuotas'!$D223=\"\",\"\",IF(F222=12,E222+1,E222))","v":""},{"$f":"IF('Proyeccion Cuotas'!$D223=\"\",\"\",IF(F222=12,1,F222+1))","v":""},{"$f":"+IF('Proyeccion Cuotas'!$D223=\"\",\"\",VLOOKUP('Proyeccion Cuotas'!$F223,$A$16:$B$27,2,FALSE))","v":""},{"$f":"IF('Proyeccion Cuotas'!$D223=\"\",\"\",CONCATENATE('Proyeccion Cuotas'!$G223,\"/\",'Proyeccion Cuotas'!$F223,\"/\",'Proyeccion Cuotas'!$E223))","v":""},{"$f":"IFERROR(IF('Proyeccion Cuotas'!$D223=\"\",\"\",IF(OR('Proyeccion Cuotas'!$F223=7,'Proyeccion Cuotas'!$F223=12),($B$45+(($F$1-$B$47)/$F$3)),(($F$1-$B$47)/$F$3))),0)","v":""},{"$f":"IFERROR(IF('Proyeccion Cuotas'!$D223=\"\",\"\",(M222*$F$5*'Proyeccion Cuotas'!$K223/365)),\"\")","v":""},{"$f":"+IF('Proyeccion Cuotas'!$D223=\"\",\"\",'Proyeccion Cuotas'!$H223-H222)","v":""},{"$f":"IFERROR('Proyeccion Cuotas'!$I223+'Proyeccion Cuotas'!$J223,\"\")","v":""},{"$f":"+IFERROR((M222-'Proyeccion Cuotas'!$I223),\"\")","v":""}]
[null,null,null,"",{"$f":"IF('Proyeccion Cuotas'!$D224=\"\",\"\",IF(F223=12,E223+1,E223))","v":""},{"$f":"IF('Proyeccion Cuotas'!$D224=\"\",\"\",IF(F223=12,1,F223+1))","v":""},{"$f":"+IF('Proyeccion Cuotas'!$D224=\"\",\"\",VLOOKUP('Proyeccion Cuotas'!$F224,$A$16:$B$27,2,FALSE))","v":""},{"$f":"IF('Proyeccion Cuotas'!$D224=\"\",\"\",CONCATENATE('Proyeccion Cuotas'!$G224,\"/\",'Proyeccion Cuotas'!$F224,\"/\",'Proyeccion Cuotas'!$E224))","v":""},{"$f":"IFERROR(IF('Proyeccion Cuotas'!$D224=\"\",\"\",IF(OR('Proyeccion Cuotas'!$F224=7,'Proyeccion Cuotas'!$F224=12),($B$45+(($F$1-$B$47)/$F$3)),(($F$1-$B$47)/$F$3))),0)","v":""},{"$f":"IFERROR(IF('Proyeccion Cuotas'!$D224=\"\",\"\",(M223*$F$5*'Proyeccion Cuotas'!$K224/365)),\"\")","v":""},{"$f":"+IF('Proyeccion Cuotas'!$D224=\"\",\"\",'Proyeccion Cuotas'!$H224-H223)","v":""},{"$f":"IFERROR('Proyeccion Cuotas'!$I224+'Proyeccion Cuotas'!$J224,\"\")","v":""},{"$f":"+IFERROR((M223-'Proyeccion Cuotas'!$I224),\"\")","v":""}]
[null,null,null,"",{"$f":"IF('Proyeccion Cuotas'!$D225=\"\",\"\",IF(F224=12,E224+1,E224))","v":""},{"$f":"IF('Proyeccion Cuotas'!$D225=\"\",\"\",IF(F224=12,1,F224+1))","v":""},{"$f":"+IF('Proyeccion Cuotas'!$D225=\"\",\"\",VLOOKUP('Proyeccion Cuotas'!$F225,$A$16:$B$27,2,FALSE))","v":""},{"$f":"IF('Proyeccion Cuotas'!$D225=\"\",\"\",CONCATENATE('Proyeccion Cuotas'!$G225,\"/\",'Proyeccion Cuotas'!$F225,\"/\",'Proyeccion Cuotas'!$E225))","v":""},{"$f":"IFERROR(IF('Proyeccion Cuotas'!$D225=\"\",\"\",IF(OR('Proyeccion Cuotas'!$F225=7,'Proyeccion Cuotas'!$F225=12),($B$45+(($F$1-$B$47)/$F$3)),(($F$1-$B$47)/$F$3))),0)","v":""},{"$f":"IFERROR(IF('Proyeccion Cuotas'!$D225=\"\",\"\",(M224*$F$5*'Proyeccion Cuotas'!$K225/365)),\"\")","v":""},{"$f":"+IF('Proyeccion Cuotas'!$D225=\"\",\"\",'Proyeccion Cuotas'!$H225-H224)","v":""},{"$f":"IFERROR('Proyeccion Cuotas'!$I225+'Proyeccion Cuotas'!$J225,\"\")","v":""},{"$f":"+IFERROR((M224-'Proyeccion Cuotas'!$I225),\"\")","v":""}]
[null,null,null,"",{"$f":"IF('Proyeccion Cuotas'!$D226=\"\",\"\",IF(F225=12,E225+1,E225))","v":""},{"$f":"IF('Proyeccion Cuotas'!$D226=\"\",\"\",IF(F225=12,1,F225+1))","v":""},{"$f":"+IF('Proyeccion Cuotas'!$D226=\"\",\"\",VLOOKUP('Proyeccion Cuotas'!$F226,$A$16:$B$27,2,FALSE))","v":""},{"$f":"IF('Proyeccion Cuotas'!$D226=\"\",\"\",CONCATENATE('Proyeccion Cuotas'!$G226,\"/\",'Proyeccion Cuotas'!$F226,\"/\",'Proyeccion Cuotas'!$E226))","v":""},{"$f":"IFERROR(IF('Proyeccion Cuotas'!$D226=\"\",\"\",IF(OR('Proyeccion Cuotas'!$F226=7,'Proyeccion Cuotas'!$F226=12),($B$45+(($F$1-$B$47)/$F$3)),(($F$1-$B$47)/$F$3))),0)","v":""},{"$f":"IFERROR(IF('Proyeccion Cuotas'!$D226=\"\",\"\",(M225*$F$5*'Proyeccion Cuotas'!$K226/365)),\"\")","v":""},{"$f":"+IF('Proyeccion Cuotas'!$D226=\"\",\"\",'Proyeccion Cuotas'!$H226-H225)","v":""},{"$f":"IFERROR('Proyeccion Cuotas'!$I226+'Proyeccion Cuotas'!$J226,\"\")","v":""},{"$f":"+IFERROR((M225-'Proyeccion Cuotas'!$I226),\"\")","v":""}]
[null,null,null,"",{"$f":"IF('Proyeccion Cuotas'!$D227=\"\",\"\",IF(F226=12,E226+1,E226))","v":""},{"$f":"IF('Proyeccion Cuotas'!$D227=\"\",\"\",IF(F226=12,1,F226+1))","v":""},{"$f":"+IF('Proyeccion Cuotas'!$D227=\"\",\"\",VLOOKUP('Proyeccion Cuotas'!$F227,$A$16:$B$27,2,FALSE))","v":""},{"$f":"IF('Proyeccion Cuotas'!$D227=\"\",\"\",CONCATENATE('Proyeccion Cuotas'!$G227,\"/\",'Proyeccion Cuotas'!$F227,\"/\",'Proyeccion Cuotas'!$E227))","v":""},{"$f":"IFERROR(IF('Proyeccion Cuotas'!$D227=\"\",\"\",IF(OR('Proyeccion Cuotas'!$F227=7,'Proyeccion Cuotas'!$F227=12),($B$45+(($F$1-$B$47)/$F$3)),(($F$1-$B$47)/$F$3))),0)","v":""},{"$f":"IFERROR(IF('Proyeccion Cuotas'!$D227=\"\",\"\",(M226*$F$5*'Proyeccion Cuotas'!$K227/365)),\"\")","v":""},{"$f":"+IF('Proyeccion Cuotas'!$D227=\"\",\"\",'Proyeccion Cuotas'!$H227-H226)","v":""},{"$f":"IFERROR('Proyeccion Cuotas'!$I227+'Proyeccion Cuotas'!$J227,\"\")","v":""},{"$f":"+IFERROR((M226-'Proyeccion Cuotas'!$I227),\"\")","v":""}]
[null,null,null,"",{"$f":"IF('Proyeccion Cuotas'!$D228=\"\",\"\",IF(F227=12,E227+1,E227))","v":""},{"$f":"IF('Proyeccion Cuotas'!$D228=\"\",\"\",IF(F227=12,1,F227+1))","v":""},{"$f":"+IF('Proyeccion Cuotas'!$D228=\"\",\"\",VLOOKUP('Proyeccion Cuotas'!$F228,$A$16:$B$27,2,FALSE))","v":""},{"$f":"IF('Proyeccion Cuotas'!$D228=\"\",\"\",CONCATENATE('Proyeccion Cuotas'!$G228,\"/\",'Proyeccion Cuotas'!$F228,\"/\",'Proyeccion Cuotas'!$E228))","v":""},{"$f":"IFERROR(IF('Proyeccion Cuotas'!$D228=\"\",\"\",IF(OR('Proyeccion Cuotas'!$F228=7,'Proyeccion Cuotas'!$F228=12),($B$45+(($F$1-$B$47)/$F$3)),(($F$1-$B$47)/$F$3))),0)","v":""},{"$f":"IFERROR(IF('Proyeccion Cuotas'!$D228=\"\",\"\",(M227*$F$5*'Proyeccion Cuotas'!$K228/365)),\"\")","v":""},{"$f":"+IF('Proyeccion Cuotas'!$D228=\"\",\"\",'Proyeccion Cuotas'!$H228-H227)","v":""},{"$f":"IFERROR('Proyeccion Cuotas'!$I228+'Proyeccion Cuotas'!$J228,\"\")","v":""},{"$f":"+IFERROR((M227-'Proyeccion Cuotas'!$I228),\"\")","v":""}]
[null,null,null,"",{"$f":"IF('Proyeccion Cuotas'!$D229=\"\",\"\",IF(F228=12,E228+1,E228))","v":""},{"$f":"IF('Proyeccion Cuotas'!$D229=\"\",\"\",IF(F228=12,1,F228+1))","v":""},{"$f":"+IF('Proyeccion Cuotas'!$D229=\"\",\"\",VLOOKUP('Proyeccion Cuotas'!$F229,$A$16:$B$27,2,FALSE))","v":""},{"$f":"IF('Proyeccion Cuotas'!$D229=\"\",\"\",CONCATENATE('Proyeccion Cuotas'!$G229,\"/\",'Proyeccion Cuotas'!$F229,\"/\",'Proyeccion Cuotas'!$E229))","v":""},{"$f":"IFERROR(IF('Proyeccion Cuotas'!$D229=\"\",\"\",IF(OR('Proyeccion Cuotas'!$F229=7,'Proyeccion Cuotas'!$F229=12),($B$45+(($F$1-$B$47)/$F$3)),(($F$1-$B$47)/$F$3))),0)","v":""},{"$f":"IFERROR(IF('Proyeccion Cuotas'!$D229=\"\",\"\",(M228*$F$5*'Proyeccion Cuotas'!$K229/365)),\"\")","v":""},{"$f":"+IF('Proyeccion Cuotas'!$D229=\"\",\"\",'Proyeccion Cuotas'!$H229-H228)","v":""},{"$f":"IFERROR('Proyeccion Cuotas'!$I229+'Proyeccion Cuotas'!$J229,\"\")","v":""},{"$f":"+IFERROR((M228-'Proyeccion Cuotas'!$I229),\"\")","v":""}]
[null,null,null,"",{"$f":"IF('Proyeccion Cuotas'!$D230=\"\",\"\",IF(F229=12,E229+1,E229))","v":""},{"$f":"IF('Proyeccion Cuotas'!$D230=\"\",\"\",IF(F229=12,1,F229+1))","v":""},{"$f":"+IF('Proyeccion Cuotas'!$D230=\"\",\"\",VLOOKUP('Proyeccion Cuotas'!$F230,$A$16:$B$27,2,FALSE))","v":""},{"$f":"IF('Proyeccion Cuotas'!$D230=\"\",\"\",CONCATENATE('Proyeccion Cuotas'!$G230,\"/\",'Proyeccion Cuotas'!$F230,\"/\",'Proyeccion Cuotas'!$E230))","v":""},{"$f":"IFERROR(IF('Proyeccion Cuotas'!$D230=\"\",\"\",IF(OR('Proyeccion Cuotas'!$F230=7,'Proyeccion Cuotas'!$F230=12),($B$45+(($F$1-$B$47)/$F$3)),(($F$1-$B$47)/$F$3))),0)","v":""},{"$f":"IFERROR(IF('Proyeccion Cuotas'!$D230=\"\",\"\",(M229*$F$5*'Proyeccion Cuotas'!$K230/365)),\"\")","v":""},{"$f":"+IF('Proyeccion Cuotas'!$D230=\"\",\"\",'Proyeccion Cuotas'!$H230-H229)","v":""},{"$f":"IFERROR('Proyeccion Cuotas'!$I230+'Proyeccion Cuotas'!$J230,\"\")","v":""},{"$f":"+IFERROR((M229-'Proyeccion Cuotas'!$I230),\"\")","v":""}]
[null,null,null,"",{"$f":"IF('Proyeccion Cuotas'!$D231=\"\",\"\",IF(F230=12,E230+1,E230))","v":""},{"$f":"IF('Proyeccion Cuotas'!$D231=\"\",\"\",IF(F230=12,1,F230+1))","v":""},{"$f":"+IF('Proyeccion Cuotas'!$D231=\"\",\"\",VLOOKUP('Proyeccion Cuotas'!$F231,$A$16:$B$27,2,FALSE))","v":""},{"$f":"IF('Proyeccion Cuotas'!$D231=\"\",\"\",CONCATENATE('Proyeccion Cuotas'!$G231,\"/\",'Proyeccion Cuotas'!$F231,\"/\",'Proyeccion Cuotas'!$E231))","v":""},{"$f":"IFERROR(IF('Proyeccion Cuotas'!$D231=\"\",\"\",IF(OR('Proyeccion Cuotas'!$F231=7,'Proyeccion Cuotas'!$F231=12),($B$45+(($F$1-$B$47)/$F$3)),(($F$1-$B$47)/$F$3))),0)","v":""},{"$f":"IFERROR(IF('Proyeccion Cuotas'!$D231=\"\",\"\",(M230*$F$5*'Proyeccion Cuotas'!$K231/365)),\"\")","v":""},{"$f":"+IF('Proyeccion Cuotas'!$D231=\"\",\"\",'Proyeccion Cuotas'!$H231-H230)","v":""},{"$f":"IFERROR('Proyeccion Cuotas'!$I231+'Proyeccion Cuotas'!$J231,\"\")","v":""},{"$f":"+IFERROR((M230-'Proyeccion Cuotas'!$I231),\"\")","v":""}]
[null,null,null,"",{"$f":"IF('Proyeccion Cuotas'!$D232=\"\",\"\",IF(F231=12,E231+1,E231))","v":""},{"$f":"IF('Proyeccion Cuotas'!$D232=\"\",\"\",IF(F231=12,1,F231+1))","v":""},{"$f":"+IF('Proyeccion Cuotas'!$D232=\"\",\"\",VLOOKUP('Proyeccion Cuotas'!$F232,$A$16:$B$27,2,FALSE))","v":""},{"$f":"IF('Proyeccion Cuotas'!$D232=\"\",\"\",CONCATENATE('Proyeccion Cuotas'!$G232,\"/\",'Proyeccion Cuotas'!$F232,\"/\",'Proyeccion Cuotas'!$E232))","v":""},{"$f":"IFERROR(IF('Proyeccion Cuotas'!$D232=\"\",\"\",IF(OR('Proyeccion Cuotas'!$F232=7,'Proyeccion Cuotas'!$F232=12),($B$45+(($F$1-$B$47)/$F$3)),(($F$1-$B$47)/$F$3))),0)","v":""},{"$f":"IFERROR(IF('Proyeccion Cuotas'!$D232=\"\",\"\",(M231*$F$5*'Proyeccion Cuotas'!$K232/365)),\"\")","v":""},{"$f":"+IF('Proyeccion Cuotas'!$D232=\"\",\"\",'Proyeccion Cuotas'!$H232-H231)","v":""},{"$f":"IFERROR('Proyeccion Cuotas'!$I232+'Proyeccion Cuotas'!$J232,\"\")","v":""},{"$f":"+IFERROR((M231-'Proyeccion Cuotas'!$I232),\"\")","v":""}]
[null,null,null,"",{"$f":"IF('Proyeccion Cuotas'!$D233=\"\",\"\",IF(F232=12,E232+1,E232))","v":""},{"$f":"IF('Proyeccion Cuotas'!$D233=\"\",\"\",IF(F232=12,1,F232+1))","v":""},{"$f":"+IF('Proyeccion Cuotas'!$D233=\"\",\"\",VLOOKUP('Proyeccion Cuotas'!$F233,$A$16:$B$27,2,FALSE))","v":""},{"$f":"IF('Proyeccion Cuotas'!$D233=\"\",\"\",CONCATENATE('Proyeccion Cuotas'!$G233,\"/\",'Proyeccion Cuotas'!$F233,\"/\",'Proyeccion Cuotas'!$E233))","v":""},{"$f":"IFERROR(IF('Proyeccion Cuotas'!$D233=\"\",\"\",IF(OR('Proyeccion Cuotas'!$F233=7,'Proyeccion Cuotas'!$F233=12),($B$45+(($F$1-$B$47)/$F$3)),(($F$1-$B$47)/$F$3))),0)","v":""},{"$f":"IFERROR(IF('Proyeccion Cuotas'!$D233=\"\",\"\",(M232*$F$5*'Proyeccion Cuotas'!$K233/365)),\"\")","v":""},{"$f":"+IF('Proyeccion Cuotas'!$D233=\"\",\"\",'Proyeccion Cuotas'!$H233-H232)","v":""},{"$f":"IFERROR('Proyeccion Cuotas'!$I233+'Proyeccion Cuotas'!$J233,\"\")","v":""},{"$f":"+IFERROR((M232-'Proyeccion Cuotas'!$I233),\"\")","v":""}]
[null,null,null,"",{"$f":"IF('Proyeccion Cuotas'!$D234=\"\",\"\",IF(F233=12,E233+1,E233))","v":""},{"$f":"IF('Proyeccion Cuotas'!$D234=\"\",\"\",IF(F233=12,1,F233+1))","v":""},{"$f":"+IF('Proyeccion Cuotas'!$D234=\"\",\"\",VLOOKUP('Proyeccion Cuotas'!$F234,$A$16:$B$27,2,FALSE))","v":""},{"$f":"IF('Proyeccion Cuotas'!$D234=\"\",\"\",CONCATENATE('Proyeccion Cuotas'!$G234,\"/\",'Proyeccion Cuotas'!$F234,\"/\",'Proyeccion Cuotas'!$E234))","v":""},{"$f":"IFERROR(IF('Proyeccion Cuotas'!$D234=\"\",\"\",IF(OR('Proyeccion Cuotas'!$F234=7,'Proyeccion Cuotas'!$F234=12),($B$45+(($F$1-$B$47)/$F$3)),(($F$1-$B$47)/$F$3))),0)","v":""},{"$f":"IFERROR(IF('Proyeccion Cuotas'!$D234=\"\",\"\",(M233*$F$5*'Proyeccion Cuotas'!$K234/365)),\"\")","v":""},{"$f":"+IF('Proyeccion Cuotas'!$D234=\"\",\"\",'Proyeccion Cuotas'!$H234-H233)","v":""},{"$f":"IFERROR('Proyeccion Cuotas'!$I234+'Proyeccion Cuotas'!$J234,\"\")","v":""},{"$f":"+IFERROR((M233-'Proyeccion Cuotas'!$I234),\"\")","v":""}]
[null,null,null,"",{"$f":"IF('Proyeccion Cuotas'!$D235=\"\",\"\",IF(F234=12,E234+1,E234))","v":""},{"$f":"IF('Proyeccion Cuotas'!$D235=\"\",\"\",IF(F234=12,1,F234+1))","v":""},{"$f":"+IF('Proyeccion Cuotas'!$D235=\"\",\"\",VLOOKUP('Proyeccion Cuotas'!$F235,$A$16:$B$27,2,FALSE))","v":""},{"$f":"IF('Proyeccion Cuotas'!$D235=\"\",\"\",CONCATENATE('Proyeccion Cuotas'!$G235,\"/\",'Proyeccion Cuotas'!$F235,\"/\",'Proyeccion Cuotas'!$E235))","v":""},{"$f":"IFERROR(IF('Proyeccion Cuotas'!$D235=\"\",\"\",IF(OR('Proyeccion Cuotas'!$F235=7,'Proyeccion Cuotas'!$F235=12),($B$45+(($F$1-$B$47)/$F$3)),(($F$1-$B$47)/$F$3))),0)","v":""},{"$f":"IFERROR(IF('Proyeccion Cuotas'!$D235=\"\",\"\",(M234*$F$5*'Proyeccion Cuotas'!$K235/365)),\"\")","v":""},{"$f":"+IF('Proyeccion Cuotas'!$D235=\"\",\"\",'Proyeccion Cuotas'!$H235-H234)","v":""},{"$f":"IFERROR('Proyeccion Cuotas'!$I235+'Proyeccion Cuotas'!$J235,\"\")","v":""},{"$f":"+IFERROR((M234-'Proyeccion Cuotas'!$I235),\"\")","v":""}]
[null,null,null,"",{"$f":"IF('Proyeccion Cuotas'!$D236=\"\",\"\",IF(F235=12,E235+1,E235))","v":""},{"$f":"IF('Proyeccion Cuotas'!$D236=\"\",\"\",IF(F235=12,1,F235+1))","v":""},{"$f":"+IF('Proyeccion Cuotas'!$D236=\"\",\"\",VLOOKUP('Proyeccion Cuotas'!$F236,$A$16:$B$27,2,FALSE))","v":""},{"$f":"IF('Proyeccion Cuotas'!$D236=\"\",\"\",CONCATENATE('Proyeccion Cuotas'!$G236,\"/\",'Proyeccion Cuotas'!$F236,\"/\",'Proyeccion Cuotas'!$E236))","v":""},{"$f":"IFERROR(IF('Proyeccion Cuotas'!$D236=\"\",\"\",IF(OR('Proyeccion Cuotas'!$F236=7,'Proyeccion Cuotas'!$F236=12),($B$45+(($F$1-$B$47)/$F$3)),(($F$1-$B$47)/$F$3))),0)","v":""},{"$f":"IFERROR(IF('Proyeccion Cuotas'!$D236=\"\",\"\",(M235*$F$5*'Proyeccion Cuotas'!$K236/365)),\"\")","v":""},{"$f":"+IF('Proyeccion Cuotas'!$D236=\"\",\"\",'Proyeccion Cuotas'!$H236-H235)","v":""},{"$f":"IFERROR('Proyeccion Cuotas'!$I236+'Proyeccion Cuotas'!$J236,\"\")","v":""},{"$f":"+IFERROR((M235-'Proyeccion Cuotas'!$I236),\"\")","v":""}]
[null,null,null,"",{"$f":"IF('Proyeccion Cuotas'!$D237=\"\",\"\",IF(F236=12,E236+1,E236))","v":""},{"$f":"IF('Proyeccion Cuotas'!$D237=\"\",\"\",IF(F236=12,1,F236+1))","v":""},{"$f":"+IF('Proyeccion Cuotas'!$D237=\"\",\"\",VLOOKUP('Proyeccion Cuotas'!$F237,$A$16:$B$27,2,FALSE))","v":""},{"$f":"IF('Proyeccion Cuotas'!$D237=\"\",\"\",CONCATENATE('Proyeccion Cuotas'!$G237,\"/\",'Proyeccion Cuotas'!$F237,\"/\",'Proyeccion Cuotas'!$E237))","v":""},{"$f":"IFERROR(IF('Proyeccion Cuotas'!$D237=\"\",\"\",IF(OR('Proyeccion Cuotas'!$F237=7,'Proyeccion Cuotas'!$F237=12),($B$45+(($F$1-$B$47)/$F$3)),(($F$1-$B$47)/$F$3))),0)","v":""},{"$f":"IFERROR(IF('Proyeccion Cuotas'!$D237=\"\",\"\",(M236*$F$5*'Proyeccion Cuotas'!$K237/365)),\"\")","v":""},{"$f":"+IF('Proyeccion Cuotas'!$D237=\"\",\"\",'Proyeccion Cuotas'!$H237-H236)","v":""},{"$f":"IFERROR('Proyeccion Cuotas'!$I237+'Proyeccion Cuotas'!$J237,\"\")","v":""},{"$f":"+IFERROR((M236-'Proyeccion Cuotas'!$I237),\"\")","v":""}]
[null,null,null,"",{"$f":"IF('Proyeccion Cuotas'!$D238=\"\",\"\",IF(F237=12,E237+1,E237))","v":""},{"$f":"IF('Proyeccion Cuotas'!$D238=\"\",\"\",IF(F237=12,1,F237+1))","v":""},{"$f":"+IF('Proyeccion Cuotas'!$D238=\"\",\"\",VLOOKUP('Proyeccion Cuotas'!$F238,$A$16:$B$27,2,FALSE))","v":""},{"$f":"IF('Proyeccion Cuotas'!$D238=\"\",\"\",CONCATENATE('Proyeccion Cuotas'!$G238,\"/\",'Proyeccion Cuotas'!$F238,\"/\",'Proyeccion Cuotas'!$E238))","v":""},{"$f":"IFERROR(IF('Proyeccion Cuotas'!$D238=\"\",\"\",IF(OR('Proyeccion Cuotas'!$F238=7,'Proyeccion Cuotas'!$F238=12),($B$45+(($F$1-$B$47)/$F$3)),(($F$1-$B$47)/$F$3))),0)","v":""},{"$f":"IFERROR(IF('Proyeccion Cuotas'!$D238=\"\",\"\",(M237*$F$5*'Proyeccion Cuotas'!$K238/365)),\"\")","v":""},{"$f":"+IF('Proyeccion Cuotas'!$D238=\"\",\"\",'Proyeccion Cuotas'!$H238-H237)","v":""},{"$f":"IFERROR('Proyeccion Cuotas'!$I238+'Proyeccion Cuotas'!$J238,\"\")","v":""},{"$f":"+IFERROR((M237-'Proyeccion Cuotas'!$I238),\"\")","v":""}]
[null,null,null,"",{"$f":"IF('Proyeccion Cuotas'!$D239=\"\",\"\",IF(F238=12,E238+1,E238))","v":""},{"$f":"IF('Proyeccion Cuotas'!$D239=\"\",\"\",IF(F238=12,1,F238+1))","v":""},{"$f":"+IF('Proyeccion Cuotas'!$D239=\"\",\"\",VLOOKUP('Proyeccion Cuotas'!$F239,$A$16:$B$27,2,FALSE))","v":""},{"$f":"IF('Proyeccion Cuotas'!$D239=\"\",\"\",CONCATENATE('Proyeccion Cuotas'!$G239,\"/\",'Proyeccion Cuotas'!$F239,\"/\",'Proyeccion Cuotas'!$E239))","v":""},{"$f":"IFERROR(IF('Proyeccion Cuotas'!$D239=\"\",\"\",IF(OR('Proyeccion Cuotas'!$F239=7,'Proyeccion Cuotas'!$F239=12),($B$45+(($F$1-$B$47)/$F$3)),(($F$1-$B$47)/$F$3))),0)","v":""},{"$f":"IFERROR(IF('Proyeccion Cuotas'!$D239=\"\",\"\",(M238*$F$5*'Proyeccion Cuotas'!$K239/365)),\"\")","v":""},{"$f":"+IF('Proyeccion Cuotas'!$D239=\"\",\"\",'Proyeccion Cuotas'!$H239-H238)","v":""},{"$f":"IFERROR('Proyeccion Cuotas'!$I239+'Proyeccion Cuotas'!$J239,\"\")","v":""},{"$f":"+IFERROR((M238-'Proyeccion Cuotas'!$I239),\"\")","v":""}]
[null,null,null,"",{"$f":"IF('Proyeccion Cuotas'!$D240=\"\",\"\",IF(F239=12,E239+1,E239))","v":""},{"$f":"IF('Proyeccion Cuotas'!$D240=\"\",\"\",IF(F239=12,1,F239+1))","v":""},{"$f":"+IF('Proyeccion Cuotas'!$D240=\"\",\"\",VLOOKUP('Proyeccion Cuotas'!$F240,$A$16:$B$27,2,FALSE))","v":""},{"$f":"IF('Proyeccion Cuotas'!$D240=\"\",\"\",CONCATENATE('Proyeccion Cuotas'!$G240,\"/\",'Proyeccion Cuotas'!$F240,\"/\",'Proyeccion Cuotas'!$E240))","v":""},{"$f":"IFERROR(IF('Proyeccion Cuotas'!$D240=\"\",\"\",IF(OR('Proyeccion Cuotas'!$F240=7,'Proyeccion Cuotas'!$F240=12),($B$45+(($F$1-$B$47)/$F$3)),(($F$1-$B$47)/$F$3))),0)","v":""},{"$f":"IFERROR(IF('Proyeccion Cuotas'!$D240=\"\",\"\",(M239*$F$5*'Proyeccion Cuotas'!$K240/365)),\"\")","v":""},{"$f":"+IF('Proyeccion Cuotas'!$D240=\"\",\"\",'Proyeccion Cuotas'!$H240-H239)","v":""},{"$f":"IFERROR('Proyeccion Cuotas'!$I240+'Proyeccion Cuotas'!$J240,\"\")","v":""},{"$f":"+IFERROR((M239-'Proyeccion Cuotas'!$I240),\"\")","v":""}]
[null,null,null,"",{"$f":"IF('Proyeccion Cuotas'!$D241=\"\",\"\",IF(F240=12,E240+1,E240))","v":""},{"$f":"IF('Proyeccion Cuotas'!$D241=\"\",\"\",IF(F240=12,1,F240+1))","v":""},{"$f":"+IF('Proyeccion Cuotas'!$D241=\"\",\"\",VLOOKUP('Proyeccion Cuotas'!$F241,$A$16:$B$27,2,FALSE))","v":""},{"$f":"IF('Proyeccion Cuotas'!$D241=\"\",\"\",CONCATENATE('Proyeccion Cuotas'!$G241,\"/\",'Proyeccion Cuotas'!$F241,\"/\",'Proyeccion Cuotas'!$E241))","v":""},{"$f":"IFERROR(IF('Proyeccion Cuotas'!$D241=\"\",\"\",IF(OR('Proyeccion Cuotas'!$F241=7,'Proyeccion Cuotas'!$F241=12),($B$45+(($F$1-$B$47)/$F$3)),(($F$1-$B$47)/$F$3))),0)","v":""},{"$f":"IFERROR(IF('Proyeccion Cuotas'!$D241=\"\",\"\",(M240*$F$5*'Proyeccion Cuotas'!$K241/365)),\"\")","v":""},{"$f":"+IF('Proyeccion Cuotas'!$D241=\"\",\"\",'Proyeccion Cuotas'!$H241-H240)","v":""},{"$f":"IFERROR('Proyeccion Cuotas'!$I241+'Proyeccion Cuotas'!$J241,\"\")","v":""},{"$f":"+IFERROR((M240-'Proyeccion Cuotas'!$I241),\"\")","v":""}]
[null,null,null,"",{"$f":"IF('Proyeccion Cuotas'!$D242=\"\",\"\",IF(F241=12,E241+1,E241))","v":""},{"$f":"IF('Proyeccion Cuotas'!$D242=\"\",\"\",IF(F241=12,1,F241+1))","v":""},{"$f":"+IF('Proyeccion Cuotas'!$D242=\"\",\"\",VLOOKUP('Proyeccion Cuotas'!$F242,$A$16:$B$27,2,FALSE))","v":""},{"$f":"IF('Proyeccion Cuotas'!$D242=\"\",\"\",CONCATENATE('Proyeccion Cuotas'!$G242,\"/\",'Proyeccion Cuotas'!$F242,\"/\",'Proyeccion Cuotas'!$E242))","v":""},{"$f":"IFERROR(IF('Proyeccion Cuotas'!$D242=\"\",\"\",IF(OR('Proyeccion Cuotas'!$F242=7,'Proyeccion Cuotas'!$F242=12),($B$45+(($F$1-$B$47)/$F$3)),(($F$1-$B$47)/$F$3))),0)","v":""},{"$f":"IFERROR(IF('Proyeccion Cuotas'!$D242=\"\",\"\",(M241*$F$5*'Proyeccion Cuotas'!$K242/365)),\"\")","v":""},{"$f":"+IF('Proyeccion Cuotas'!$D242=\"\",\"\",'Proyeccion Cuotas'!$H242-H241)","v":""},{"$f":"IFERROR('Proyeccion Cuotas'!$I242+'Proyeccion Cuotas'!$J242,\"\")","v":""},{"$f":"+IFERROR((M241-'Proyeccion Cuotas'!$I242),\"\")","v":""}]
[null,null,null,"",{"$f":"IF('Proyeccion Cuotas'!$D243=\"\",\"\",IF(F242=12,E242+1,E242))","v":""},{"$f":"IF('Proyeccion Cuotas'!$D243=\"\",\"\",IF(F242=12,1,F242+1))","v":""},{"$f":"+IF('Proyeccion Cuotas'!$D243=\"\",\"\",VLOOKUP('Proyeccion Cuotas'!$F243,$A$16:$B$27,2,FALSE))","v":""},{"$f":"IF('Proyeccion Cuotas'!$D243=\"\",\"\",CONCATENATE('Proyeccion Cuotas'!$G243,\"/\",'Proyeccion Cuotas'!$F243,\"/\",'Proyeccion Cuotas'!$E243))","v":""},{"$f":"IFERROR(IF('Proyeccion Cuotas'!$D243=\"\",\"\",IF(OR('Proyeccion Cuotas'!$F243=7,'Proyeccion Cuotas'!$F243=12),($B$45+(($F$1-$B$47)/$F$3)),(($F$1-$B$47)/$F$3))),0)","v":""},{"$f":"IFERROR(IF('Proyeccion Cuotas'!$D243=\"\",\"\",(M242*$F$5*'Proyeccion Cuotas'!$K243/365)),\"\")","v":""},{"$f":"+IF('Proyeccion Cuotas'!$D243=\"\",\"\",'Proyeccion Cuotas'!$H243-H242)","v":""},{"$f":"IFERROR('Proyeccion Cuotas'!$I243+'Proyeccion Cuotas'!$J243,\"\")","v":""},{"$f":"+IFERROR((M242-'Proyeccion Cuotas'!$I243),\"\")","v":""}]
[null,null,null,"",{"$f":"IF('Proyeccion Cuotas'!$D244=\"\",\"\",IF(F243=12,E243+1,E243))","v":""},{"$f":"IF('Proyeccion Cuotas'!$D244=\"\",\"\",IF(F243=12,1,F243+1))","v":""},{"$f":"+IF('Proyeccion Cuotas'!$D244=\"\",\"\",VLOOKUP('Proyeccion Cuotas'!$F244,$A$16:$B$27,2,FALSE))","v":""},{"$f":"IF('Proyeccion Cuotas'!$D244=\"\",\"\",CONCATENATE('Proyeccion Cuotas'!$G244,\"/\",'Proyeccion Cuotas'!$F244,\"/\",'Proyeccion Cuotas'!$E244))","v":""},{"$f":"IFERROR(IF('Proyeccion Cuotas'!$D244=\"\",\"\",IF(OR('Proyeccion Cuotas'!$F244=7,'Proyeccion Cuotas'!$F244=12),($B$45+(($F$1-$B$47)/$F$3)),(($F$1-$B$47)/$F$3))),0)","v":""},{"$f":"IFERROR(IF('Proyeccion Cuotas'!$D244=\"\",\"\",(M243*$F$5*'Proyeccion Cuotas'!$K244/365)),\"\")","v":""},{"$f":"+IF('Proyeccion Cuotas'!$D244=\"\",\"\",'Proyeccion Cuotas'!$H244-H243)","v":""},{"$f":"IFERROR('Proyeccion Cuotas'!$I244+'Proyeccion Cuotas'!$J244,\"\")","v":""},{"$f":"+IFERROR((M243-'Proyeccion Cuotas'!$I244),\"\")","v":""}]
[null,null,null,"",{"$f":"IF('Proyeccion Cuotas'!$D245=\"\",\"\",IF(F244=12,E244+1,E244))","v":""},{"$f":"IF('Proyeccion Cuotas'!$D245=\"\",\"\",IF(F244=12,1,F244+1))","v":""},{"$f":"+IF('Proyeccion Cuotas'!$D245=\"\",\"\",VLOOKUP('Proyeccion Cuotas'!$F245,$A$16:$B$27,2,FALSE))","v":""},{"$f":"IF('Proyeccion Cuotas'!$D245=\"\",\"\",CONCATENATE('Proyeccion Cuotas'!$G245,\"/\",'Proyeccion Cuotas'!$F245,\"/\",'Proyeccion Cuotas'!$E245))","v":""},{"$f":"IFERROR(IF('Proyeccion Cuotas'!$D245=\"\",\"\",IF(OR('Proyeccion Cuotas'!$F245=7,'Proyeccion Cuotas'!$F245=12),($B$45+(($F$1-$B$47)/$F$3)),(($F$1-$B$47)/$F$3))),0)","v":""},{"$f":"IFERROR(IF('Proyeccion Cuotas'!$D245=\"\",\"\",(M244*$F$5*'Proyeccion Cuotas'!$K245/365)),\"\")","v":""},{"$f":"+IF('Proyeccion Cuotas'!$D245=\"\",\"\",'Proyeccion Cuotas'!$H245-H244)","v":""},{"$f":"IFERROR('Proyeccion Cuotas'!$I245+'Proyeccion Cuotas'!$J245,\"\")","v":""},{"$f":"+IFERROR((M244-'Proyeccion Cuotas'!$I245),\"\")","v":""}]
[null,null,null,"",{"$f":"IF('Proyeccion Cuotas'!$D246=\"\",\"\",IF(F245=12,E245+1,E245))","v":""},{"$f":"IF('Proyeccion Cuotas'!$D246=\"\",\"\",IF(F245=12,1,F245+1))","v":""},{"$f":"+IF('Proyeccion Cuotas'!$D246=\"\",\"\",VLOOKUP('Proyeccion Cuotas'!$F246,$A$16:$B$27,2,FALSE))","v":""},{"$f":"IF('Proyeccion Cuotas'!$D246=\"\",\"\",CONCATENATE('Proyeccion Cuotas'!$G246,\"/\",'Proyeccion Cuotas'!$F246,\"/\",'Proyeccion Cuotas'!$E246))","v":""},{"$f":"IFERROR(IF('Proyeccion Cuotas'!$D246=\"\",\"\",IF(OR('Proyeccion Cuotas'!$F246=7,'Proyeccion Cuotas'!$F246=12),($B$45+(($F$1-$B$47)/$F$3)),(($F$1-$B$47)/$F$3))),0)","v":""},{"$f":"IFERROR(IF('Proyeccion Cuotas'!$D246=\"\",\"\",(M245*$F$5*'Proyeccion Cuotas'!$K246/365)),\"\")","v":""},{"$f":"+IF('Proyeccion Cuotas'!$D246=\"\",\"\",'Proyeccion Cuotas'!$H246-H245)","v":""},{"$f":"IFERROR('Proyeccion Cuotas'!$I246+'Proyeccion Cuotas'!$J246,\"\")","v":""},{"$f":"+IFERROR((M245-'Proyeccion Cuotas'!$I246),\"\")","v":""}]
[null,null,null,"",{"$f":"IF('Proyeccion Cuotas'!$D247=\"\",\"\",IF(F246=12,E246+1,E246))","v":""},{"$f":"IF('Proyeccion Cuotas'!$D247=\"\",\"\",IF(F246=12,1,F246+1))","v":""},{"$f":"+IF('Proyeccion Cuotas'!$D247=\"\",\"\",VLOOKUP('Proyeccion Cuotas'!$F247,$A$16:$B$27,2,FALSE))","v":""},{"$f":"IF('Proyeccion Cuotas'!$D247=\"\",\"\",CONCATENATE('Proyeccion Cuotas'!$G247,\"/\",'Proyeccion Cuotas'!$F247,\"/\",'Proyeccion Cuotas'!$E247))","v":""},{"$f":"IFERROR(IF('Proyeccion Cuotas'!$D247=\"\",\"\",IF(OR('Proyeccion Cuotas'!$F247=7,'Proyeccion Cuotas'!$F247=12),($B$45+(($F$1-$B$47)/$F$3)),(($F$1-$B$47)/$F$3))),0)","v":""},{"$f":"IFERROR(IF('Proyeccion Cuotas'!$D247=\"\",\"\",(M246*$F$5*'Proyeccion Cuotas'!$K247/365)),\"\")","v":""},{"$f":"+IF('Proyeccion Cuotas'!$D247=\"\",\"\",'Proyeccion Cuotas'!$H247-H246)","v":""},{"$f":"IFERROR('Proyeccion Cuotas'!$I247+'Proyeccion Cuotas'!$J247,\"\")","v":""},{"$f":"+IFERROR((M246-'Proyeccion Cuotas'!$I247),\"\")","v":""}]
[null,null,null,"",{"$f":"IF('Proyeccion Cuotas'!$D248=\"\",\"\",IF(F247=12,E247+1,E247))","v":""},{"$f":"IF('Proyeccion Cuotas'!$D248=\"\",\"\",IF(F247=12,1,F247+1))","v":""},{"$f":"+IF('Proyeccion Cuotas'!$D248=\"\",\"\",VLOOKUP('Proyeccion Cuotas'!$F248,$A$16:$B$27,2,FALSE))","v":""},{"$f":"IF('Proyeccion Cuotas'!$D248=\"\",\"\",CONCATENATE('Proyeccion Cuotas'!$G248,\"/\",'Proyeccion Cuotas'!$F248,\"/\",'Proyeccion Cuotas'!$E248))","v":""},{"$f":"IFERROR(IF('Proyeccion Cuotas'!$D248=\"\",\"\",IF(OR('Proyeccion Cuotas'!$F248=7,'Proyeccion Cuotas'!$F248=12),($B$45+(($F$1-$B$47)/$F$3)),(($F$1-$B$47)/$F$3))),0)","v":""},{"$f":"IFERROR(IF('Proyeccion Cuotas'!$D248=\"\",\"\",(M247*$F$5*'Proyeccion Cuotas'!$K248/365)),\"\")","v":""},{"$f":"+IF('Proyeccion Cuotas'!$D248=\"\",\"\",'Proyeccion Cuotas'!$H248-H247)","v":""},{"$f":"IFERROR('Proyeccion Cuotas'!$I248+'Proyeccion Cuotas'!$J248,\"\")","v":""},{"$f":"+IFERROR((M247-'Proyeccion Cuotas'!$I248),\"\")","v":""}]
[null,null,null,"",{"$f":"IF('Proyeccion Cuotas'!$D249=\"\",\"\",IF(F248=12,E248+1,E248))","v":""},{"$f":"IF('Proyeccion Cuotas'!$D249=\"\",\"\",IF(F248=12,1,F248+1))","v":""},{"$f":"+IF('Proyeccion Cuotas'!$D249=\"\",\"\",VLOOKUP('Proyeccion Cuotas'!$F249,$A$16:$B$27,2,FALSE))","v":""},{"$f":"IF('Proyeccion Cuotas'!$D249=\"\",\"\",CONCATENATE('Proyeccion Cuotas'!$G249,\"/\",'Proyeccion Cuotas'!$F249,\"/\",'Proyeccion Cuotas'!$E249))","v":""},{"$f":"IFERROR(IF('Proyeccion Cuotas'!$D249=\"\",\"\",IF(OR('Proyeccion Cuotas'!$F249=7,'Proyeccion Cuotas'!$F249=12),($B$45+(($F$1-$B$47)/$F$3)),(($F$1-$B$47)/$F$3))),0)","v":""},{"$f":"IFERROR(IF('Proyeccion Cuotas'!$D249=\"\",\"\",(M248*$F$5*'Proyeccion Cuotas'!$K249/365)),\"\")","v":""},{"$f":"+IF('Proyeccion Cuotas'!$D249=\"\",\"\",'Proyeccion Cuotas'!$H249-H248)","v":""},{"$f":"IFERROR('Proyeccion Cuotas'!$I249+'Proyeccion Cuotas'!$J249,\"\")","v":""},{"$f":"+IFERROR((M248-'Proyeccion Cuotas'!$I249),\"\")","v":""}]
[null,null,null,"",{"$f":"IF('Proyeccion Cuotas'!$D250=\"\",\"\",IF(F249=12,E249+1,E249))","v":""},{"$f":"IF('Proyeccion Cuotas'!$D250=\"\",\"\",IF(F249=12,1,F249+1))","v":""},{"$f":"+IF('Proyeccion Cuotas'!$D250=\"\",\"\",VLOOKUP('Proyeccion Cuotas'!$F250,$A$16:$B$27,2,FALSE))","v":""},{"$f":"IF('Proyeccion Cuotas'!$D250=\"\",\"\",CONCATENATE('Proyeccion Cuotas'!$G250,\"/\",'Proyeccion Cuotas'!$F250,\"/\",'Proyeccion Cuotas'!$E250))","v":""},{"$f":"IFERROR(IF('Proyeccion Cuotas'!$D250=\"\",\"\",IF(OR('Proyeccion Cuotas'!$F250=7,'Proyeccion Cuotas'!$F250=12),($B$45+(($F$1-$B$47)/$F$3)),(($F$1-$B$47)/$F$3))),0)","v":""},{"$f":"IFERROR(IF('Proyeccion Cuotas'!$D250=\"\",\"\",(M249*$F$5*'Proyeccion Cuotas'!$K250/365)),\"\")","v":""},{"$f":"+IF('Proyeccion Cuotas'!$D250=\"\",\"\",'Proyeccion Cuotas'!$H250-H249)","v":""},{"$f":"IFERROR('Proyeccion Cuotas'!$I250+'Proyeccion Cuotas'!$J250,\"\")","v":""},{"$f":"+IFERROR((M249-'Proyeccion Cuotas'!$I250),\"\")","v":""}]
[null,null,null,"",{"$f":"IF('Proyeccion Cuotas'!$D251=\"\",\"\",IF(F250=12,E250+1,E250))","v":""},{"$f":"IF('Proyeccion Cuotas'!$D251=\"\",\"\",IF(F250=12,1,F250+1))","v":""},{"$f":"+IF('Proyeccion Cuotas'!$D251=\"\",\"\",VLOOKUP('Proyeccion Cuotas'!$F251,$A$16:$B$27,2,FALSE))","v":""},{"$f":"IF('Proyeccion Cuotas'!$D251=\"\",\"\",CONCATENATE('Proyeccion Cuotas'!$G251,\"/\",'Proyeccion Cuotas'!$F251,\"/\",'Proyeccion Cuotas'!$E251))","v":""},{"$f":"IFERROR(IF('Proyeccion Cuotas'!$D251=\"\",\"\",IF(OR('Proyeccion Cuotas'!$F251=7,'Proyeccion Cuotas'!$F251=12),($B$45+(($F$1-$B$47)/$F$3)),(($F$1-$B$47)/$F$3))),0)","v":""},{"$f":"IFERROR(IF('Proyeccion Cuotas'!$D251=\"\",\"\",(M250*$F$5*'Proyeccion Cuotas'!$K251/365)),\"\")","v":""},{"$f":"+IF('Proyeccion Cuotas'!$D251=\"\",\"\",'Proyeccion Cuotas'!$H251-H250)","v":""},{"$f":"IFERROR('Proyeccion Cuotas'!$I251+'Proyeccion Cuotas'!$J251,\"\")","v":""},{"$f":"+IFERROR((M250-'Proyeccion Cuotas'!$I251),\"\")","v":""}]
[null,null,null,"",{"$f":"IF('Proyeccion Cuotas'!$D252=\"\",\"\",IF(F251=12,E251+1,E251))","v":""},{"$f":"IF('Proyeccion Cuotas'!$D252=\"\",\"\",IF(F251=12,1,F251+1))","v":""},{"$f":"+IF('Proyeccion Cuotas'!$D252=\"\",\"\",VLOOKUP('Proyeccion Cuotas'!$F252,$A$16:$B$27,2,FALSE))","v":""},{"$f":"IF('Proyeccion Cuotas'!$D252=\"\",\"\",CONCATENATE('Proyeccion Cuotas'!$G252,\"/\",'Proyeccion Cuotas'!$F252,\"/\",'Proyeccion Cuotas'!$E252))","v":""},{"$f":"IFERROR(IF('Proyeccion Cuotas'!$D252=\"\",\"\",IF(OR('Proyeccion Cuotas'!$F252=7,'Proyeccion Cuotas'!$F252=12),($B$45+(($F$1-$B$47)/$F$3)),(($F$1-$B$47)/$F$3))),0)","v":""},{"$f":"IFERROR(IF('Proyeccion Cuotas'!$D252=\"\",\"\",(M251*$F$5*'Proyeccion Cuotas'!$K252/365)),\"\")","v":""},{"$f":"+IF('Proyeccion Cuotas'!$D252=\"\",\"\",'Proyeccion Cuotas'!$H252-H251)","v":""},{"$f":"IFERROR('Proyeccion Cuotas'!$I252+'Proyeccion Cuotas'!$J252,\"\")","v":""},{"$f":"+IFERROR((M251-'Proyeccion Cuotas'!$I252),\"\")","v":""}]
[null,null,null,"",{"$f":"IF('Proyeccion Cuotas'!$D253=\"\",\"\",IF(F252=12,E252+1,E252))","v":""},{"$f":"IF('Proyeccion Cuotas'!$D253=\"\",\"\",IF(F252=12,1,F252+1))","v":""},{"$f":"+IF('Proyeccion Cuotas'!$D253=\"\",\"\",VLOOKUP('Proyeccion Cuotas'!$F253,$A$16:$B$27,2,FALSE))","v":""},{"$f":"IF('Proyeccion Cuotas'!$D253=\"\",\"\",CONCATENATE('Proyeccion Cuotas'!$G253,\"/\",'Proyeccion Cuotas'!$F253,\"/\",'Proyeccion Cuotas'!$E253))","v":""},{"$f":"IFERROR(IF('Proyeccion Cuotas'!$D253=\"\",\"\",IF(OR('Proyeccion Cuotas'!$F253=7,'Proyeccion Cuotas'!$F253=12),($B$45+(($F$1-$B$47)/$F$3)),(($F$1-$B$47)/$F$3))),0)","v":""},{"$f":"IFERROR(IF('Proyeccion Cuotas'!$D253=\"\",\"\",(M252*$F$5*'Proyeccion Cuotas'!$K253/365)),\"\")","v":""},{"$f":"+IF('Proyeccion Cuotas'!$D253=\"\",\"\",'Proyeccion Cuotas'!$H253-H252)","v":""},{"$f":"IFERROR('Proyeccion Cuotas'!$I253+'Proyeccion Cuotas'!$J253,\"\")","v":""},{"$f":"+IFERROR((M252-'Proyeccion Cuotas'!$I253),\"\")","v":""}]
[null,null,null,"",{"$f":"IF('Proyeccion Cuotas'!$D254=\"\",\"\",IF(F253=12,E253+1,E253))","v":""},{"$f":"IF('Proyeccion Cuotas'!$D254=\"\",\"\",IF(F253=12,1,F253+1))","v":""},{"$f":"+IF('Proyeccion Cuotas'!$D254=\"\",\"\",VLOOKUP('Proyeccion Cuotas'!$F254,$A$16:$B$27,2,FALSE))","v":""},{"$f":"IF('Proyeccion Cuotas'!$D254=\"\",\"\",CONCATENATE('Proyeccion Cuotas'!$G254,\"/\",'Proyeccion Cuotas'!$F254,\"/\",'Proyeccion Cuotas'!$E254))","v":""},{"$f":"IFERROR(IF('Proyeccion Cuotas'!$D254=\"\",\"\",IF(OR('Proyeccion Cuotas'!$F254=7,'Proyeccion Cuotas'!$F254=12),($B$45+(($F$1-$B$47)/$F$3)),(($F$1-$B$47)/$F$3))),0)","v":""},{"$f":"IFERROR(IF('Proyeccion Cuotas'!$D254=\"\",\"\",(M253*$F$5*'Proyeccion Cuotas'!$K254/365)),\"\")","v":""},{"$f":"+IF('Proyeccion Cuotas'!$D254=\"\",\"\",'Proyeccion Cuotas'!$H254-H253)","v":""},{"$f":"IFERROR('Proyeccion Cuotas'!$I254+'Proyeccion Cuotas'!$J254,\"\")","v":""},{"$f":"+IFERROR((M253-'Proyeccion Cuotas'!$I254),\"\")","v":""}]
[null,null,null,"",{"$f":"IF('Proyeccion Cuotas'!$D255=\"\",\"\",IF(F254=12,E254+1,E254))","v":""},{"$f":"IF('Proyeccion Cuotas'!$D255=\"\",\"\",IF(F254=12,1,F254+1))","v":""},{"$f":"+IF('Proyeccion Cuotas'!$D255=\"\",\"\",VLOOKUP('Proyeccion Cuotas'!$F255,$A$16:$B$27,2,FALSE))","v":""},{"$f":"IF('Proyeccion Cuotas'!$D255=\"\",\"\",CONCATENATE('Proyeccion Cuotas'!$G255,\"/\",'Proyeccion Cuotas'!$F255,\"/\",'Proyeccion Cuotas'!$E255))","v":""},{"$f":"IFERROR(IF('Proyeccion Cuotas'!$D255=\"\",\"\",IF(OR('Proyeccion Cuotas'!$F255=7,'Proyeccion Cuotas'!$F255=12),($B$45+(($F$1-$B$47)/$F$3)),(($F$1-$B$47)/$F$3))),0)","v":""},{"$f":"IFERROR(IF('Proyeccion Cuotas'!$D255=\"\",\"\",(M254*$F$5*'Proyeccion Cuotas'!$K255/365)),\"\")","v":""},{"$f":"+IF('Proyeccion Cuotas'!$D255=\"\",\"\",'Proyeccion Cuotas'!$H255-H254)","v":""},{"$f":"IFERROR('Proyeccion Cuotas'!$I255+'Proyeccion Cuotas'!$J255,\"\")","v":""},{"$f":"+IFERROR((M254-'Proyeccion Cuotas'!$I255),\"\")","v":""}]
[null,null,null,"",{"$f":"IF('Proyeccion Cuotas'!$D256=\"\",\"\",IF(F255=12,E255+1,E255))","v":""},{"$f":"IF('Proyeccion Cuotas'!$D256=\"\",\"\",IF(F255=12,1,F255+1))","v":""},{"$f":"+IF('Proyeccion Cuotas'!$D256=\"\",\"\",VLOOKUP('Proyeccion Cuotas'!$F256,$A$16:$B$27,2,FALSE))","v":""},{"$f":"IF('Proyeccion Cuotas'!$D256=\"\",\"\",CONCATENATE('Proyeccion Cuotas'!$G256,\"/\",'Proyeccion Cuotas'!$F256,\"/\",'Proyeccion Cuotas'!$E256))","v":""},{"$f":"IFERROR(IF('Proyeccion Cuotas'!$D256=\"\",\"\",IF(OR('Proyeccion Cuotas'!$F256=7,'Proyeccion Cuotas'!$F256=12),($B$45+(($F$1-$B$47)/$F$3)),(($F$1-$B$47)/$F$3))),0)","v":""},{"$f":"IFERROR(IF('Proyeccion Cuotas'!$D256=\"\",\"\",(M255*$F$5*'Proyeccion Cuotas'!$K256/365)),\"\")","v":""},{"$f":"+IF('Proyeccion Cuotas'!$D256=\"\",\"\",'Proyeccion Cuotas'!$H256-H255)","v":""},{"$f":"IFERROR('Proyeccion Cuotas'!$I256+'Proyeccion Cuotas'!$J256,\"\")","v":""},{"$f":"+IFERROR((M255-'Proyeccion Cuotas'!$I256),\"\")","v":""}]
[null,null,null,"",{"$f":"IF('Proyeccion Cuotas'!$D257=\"\",\"\",IF(F256=12,E256+1,E256))","v":""},{"$f":"IF('Proyeccion Cuotas'!$D257=\"\",\"\",IF(F256=12,1,F256+1))","v":""},{"$f":"+IF('Proyeccion Cuotas'!$D257=\"\",\"\",VLOOKUP('Proyeccion Cuotas'!$F257,$A$16:$B$27,2,FALSE))","v":""},{"$f":"IF('Proyeccion Cuotas'!$D257=\"\",\"\",CONCATENATE('Proyeccion Cuotas'!$G257,\"/\",'Proyeccion Cuotas'!$F257,\"/\",'Proyeccion Cuotas'!$E257))","v":""},{"$f":"IFERROR(IF('Proyeccion Cuotas'!$D257=\"\",\"\",IF(OR('Proyeccion Cuotas'!$F257=7,'Proyeccion Cuotas'!$F257=12),($B$45+(($F$1-$B$47)/$F$3)),(($F$1-$B$47)/$F$3))),0)","v":""},{"$f":"IFERROR(IF('Proyeccion Cuotas'!$D257=\"\",\"\",(M256*$F$5*'Proyeccion Cuotas'!$K257/365)),\"\")","v":""},{"$f":"+IF('Proyeccion Cuotas'!$D257=\"\",\"\",'Proyeccion Cuotas'!$H257-H256)","v":""},{"$f":"IFERROR('Proyeccion Cuotas'!$I257+'Proyeccion Cuotas'!$J257,\"\")","v":""},{"$f":"+IFERROR((M256-'Proyeccion Cuotas'!$I257),\"\")","v":""}]
[null,null,null,"",{"$f":"IF('Proyeccion Cuotas'!$D258=\"\",\"\",IF(F257=12,E257+1,E257))","v":""},{"$f":"IF('Proyeccion Cuotas'!$D258=\"\",\"\",IF(F257=12,1,F257+1))","v":""},{"$f":"+IF('Proyeccion Cuotas'!$D258=\"\",\"\",VLOOKUP('Proyeccion Cuotas'!$F258,$A$16:$B$27,2,FALSE))","v":""},{"$f":"IF('Proyeccion Cuotas'!$D258=\"\",\"\",CONCATENATE('Proyeccion Cuotas'!$G258,\"/\",'Proyeccion Cuotas'!$F258,\"/\",'Proyeccion Cuotas'!$E258))","v":""},{"$f":"IFERROR(IF('Proyeccion Cuotas'!$D258=\"\",\"\",IF(OR('Proyeccion Cuotas'!$F258=7,'Proyeccion Cuotas'!$F258=12),($B$45+(($F$1-$B$47)/$F$3)),(($F$1-$B$47)/$F$3))),0)","v":""},{"$f":"IFERROR(IF('Proyeccion Cuotas'!$D258=\"\",\"\",(M257*$F$5*'Proyeccion Cuotas'!$K258/365)),\"\")","v":""},{"$f":"+IF('Proyeccion Cuotas'!$D258=\"\",\"\",'Proyeccion Cuotas'!$H258-H257)","v":""},{"$f":"IFERROR('Proyeccion Cuotas'!$I258+'Proyeccion Cuotas'!$J258,\"\")","v":""},{"$f":"+IFERROR((M257-'Proyeccion Cuotas'!$I258),\"\")","v":""}]
[null,null,null,"",{"$f":"IF('Proyeccion Cuotas'!$D259=\"\",\"\",IF(F258=12,E258+1,E258))","v":""},{"$f":"IF('Proyeccion Cuotas'!$D259=\"\",\"\",IF(F258=12,1,F258+1))","v":""},{"$f":"+IF('Proyeccion Cuotas'!$D259=\"\",\"\",VLOOKUP('Proyeccion Cuotas'!$F259,$A$16:$B$27,2,FALSE))","v":""},{"$f":"IF('Proyeccion Cuotas'!$D259=\"\",\"\",CONCATENATE('Proyeccion Cuotas'!$G259,\"/\",'Proyeccion Cuotas'!$F259,\"/\",'Proyeccion Cuotas'!$E259))","v":""},{"$f":"IFERROR(IF('Proyeccion Cuotas'!$D259=\"\",\"\",IF(OR('Proyeccion Cuotas'!$F259=7,'Proyeccion Cuotas'!$F259=12),($B$45+(($F$1-$B$47)/$F$3)),(($F$1-$B$47)/$F$3))),0)","v":""},{"$f":"IFERROR(IF('Proyeccion Cuotas'!$D259=\"\",\"\",(M258*$F$5*'Proyeccion Cuotas'!$K259/365)),\"\")","v":""},{"$f":"+IF('Proyeccion Cuotas'!$D259=\"\",\"\",'Proyeccion Cuotas'!$H259-H258)","v":""},{"$f":"IFERROR('Proyeccion Cuotas'!$I259+'Proyeccion Cuotas'!$J259,\"\")","v":""},{"$f":"+IFERROR((M258-'Proyeccion Cuotas'!$I259),\"\")","v":""}]
[null,null,null,"",{"$f":"IF('Proyeccion Cuotas'!$D260=\"\",\"\",IF(F259=12,E259+1,E259))","v":""},{"$f":"IF('Proyeccion Cuotas'!$D260=\"\",\"\",IF(F259=12,1,F259+1))","v":""},{"$f":"+IF('Proyeccion Cuotas'!$D260=\"\",\"\",VLOOKUP('Proyeccion Cuotas'!$F260,$A$16:$B$27,2,FALSE))","v":""},{"$f":"IF('Proyeccion Cuotas'!$D260=\"\",\"\",CONCATENATE('Proyeccion Cuotas'!$G260,\"/\",'Proyeccion Cuotas'!$F260,\"/\",'Proyeccion Cuotas'!$E260))","v":""},{"$f":"IFERROR(IF('Proyeccion Cuotas'!$D260=\"\",\"\",IF(OR('Proyeccion Cuotas'!$F260=7,'Proyeccion Cuotas'!$F260=12),($B$45+(($F$1-$B$47)/$F$3)),(($F$1-$B$47)/$F$3))),0)","v":""},{"$f":"IFERROR(IF('Proyeccion Cuotas'!$D260=\"\",\"\",(M259*$F$5*'Proyeccion Cuotas'!$K260/365)),\"\")","v":""},{"$f":"+IF('Proyeccion Cuotas'!$D260=\"\",\"\",'Proyeccion Cuotas'!$H260-H259)","v":""},{"$f":"IFERROR('Proyeccion Cuotas'!$I260+'Proyeccion Cuotas'!$J260,\"\")","v":""},{"$f":"+IFERROR((M259-'Proyeccion Cuotas'!$I260),\"\")","v":""}]
[null,null,null,"",{"$f":"IF('Proyeccion Cuotas'!$D261=\"\",\"\",IF(F260=12,E260+1,E260))","v":""},{"$f":"IF('Proyeccion Cuotas'!$D261=\"\",\"\",IF(F260=12,1,F260+1))","v":""},{"$f":"+IF('Proyeccion Cuotas'!$D261=\"\",\"\",VLOOKUP('Proyeccion Cuotas'!$F261,$A$16:$B$27,2,FALSE))","v":""},{"$f":"IF('Proyeccion Cuotas'!$D261=\"\",\"\",CONCATENATE('Proyeccion Cuotas'!$G261,\"/\",'Proyeccion Cuotas'!$F261,\"/\",'Proyeccion Cuotas'!$E261))","v":""},{"$f":"IFERROR(IF('Proyeccion Cuotas'!$D261=\"\",\"\",IF(OR('Proyeccion Cuotas'!$F261=7,'Proyeccion Cuotas'!$F261=12),($B$45+(($F$1-$B$47)/$F$3)),(($F$1-$B$47)/$F$3))),0)","v":""},{"$f":"IFERROR(IF('Proyeccion Cuotas'!$D261=\"\",\"\",(M260*$F$5*'Proyeccion Cuotas'!$K261/365)),\"\")","v":""},{"$f":"+IF('Proyeccion Cuotas'!$D261=\"\",\"\",'Proyeccion Cuotas'!$H261-H260)","v":""},{"$f":"IFERROR('Proyeccion Cuotas'!$I261+'Proyeccion Cuotas'!$J261,\"\")","v":""},{"$f":"+IFERROR((M260-'Proyeccion Cuotas'!$I261),\"\")","v":""}]
[null,null,null,"",{"$f":"IF('Proyeccion Cuotas'!$D262=\"\",\"\",IF(F261=12,E261+1,E261))","v":""},{"$f":"IF('Proyeccion Cuotas'!$D262=\"\",\"\",IF(F261=12,1,F261+1))","v":""},{"$f":"+IF('Proyeccion Cuotas'!$D262=\"\",\"\",VLOOKUP('Proyeccion Cuotas'!$F262,$A$16:$B$27,2,FALSE))","v":""},{"$f":"IF('Proyeccion Cuotas'!$D262=\"\",\"\",CONCATENATE('Proyeccion Cuotas'!$G262,\"/\",'Proyeccion Cuotas'!$F262,\"/\",'Proyeccion Cuotas'!$E262))","v":""},{"$f":"IFERROR(IF('Proyeccion Cuotas'!$D262=\"\",\"\",IF(OR('Proyeccion Cuotas'!$F262=7,'Proyeccion Cuotas'!$F262=12),($B$45+(($F$1-$B$47)/$F$3)),(($F$1-$B$47)/$F$3))),0)","v":""},{"$f":"IFERROR(IF('Proyeccion Cuotas'!$D262=\"\",\"\",(M261*$F$5*'Proyeccion Cuotas'!$K262/365)),\"\")","v":""},{"$f":"+IF('Proyeccion Cuotas'!$D262=\"\",\"\",'Proyeccion Cuotas'!$H262-H261)","v":""},{"$f":"IFERROR('Proyeccion Cuotas'!$I262+'Proyeccion Cuotas'!$J262,\"\")","v":""},{"$f":"+IFERROR((M261-'Proyeccion Cuotas'!$I262),\"\")","v":""}]
[null,null,null,"",{"$f":"IF('Proyeccion Cuotas'!$D263=\"\",\"\",IF(F262=12,E262+1,E262))","v":""},{"$f":"IF('Proyeccion Cuotas'!$D263=\"\",\"\",IF(F262=12,1,F262+1))","v":""},{"$f":"+IF('Proyeccion Cuotas'!$D263=\"\",\"\",VLOOKUP('Proyeccion Cuotas'!$F263,$A$16:$B$27,2,FALSE))","v":""},{"$f":"IF('Proyeccion Cuotas'!$D263=\"\",\"\",CONCATENATE('Proyeccion Cuotas'!$G263,\"/\",'Proyeccion Cuotas'!$F263,\"/\",'Proyeccion Cuotas'!$E263))","v":""},{"$f":"IFERROR(IF('Proyeccion Cuotas'!$D263=\"\",\"\",IF(OR('Proyeccion Cuotas'!$F263=7,'Proyeccion Cuotas'!$F263=12),($B$45+(($F$1-$B$47)/$F$3)),(($F$1-$B$47)/$F$3))),0)","v":""},{"$f":"IFERROR(IF('Proyeccion Cuotas'!$D263=\"\",\"\",(M262*$F$5*'Proyeccion Cuotas'!$K263/365)),\"\")","v":""},{"$f":"+IF('Proyeccion Cuotas'!$D263=\"\",\"\",'Proyeccion Cuotas'!$H263-H262)","v":""},{"$f":"IFERROR('Proyeccion Cuotas'!$I263+'Proyeccion Cuotas'!$J263,\"\")","v":""},{"$f":"+IFERROR((M262-'Proyeccion Cuotas'!$I263),\"\")","v":""}]
[null,null,null,"",{"$f":"IF('Proyeccion Cuotas'!$D264=\"\",\"\",IF(F263=12,E263+1,E263))","v":""},{"$f":"IF('Proyeccion Cuotas'!$D264=\"\",\"\",IF(F263=12,1,F263+1))","v":""},{"$f":"+IF('Proyeccion Cuotas'!$D264=\"\",\"\",VLOOKUP('Proyeccion Cuotas'!$F264,$A$16:$B$27,2,FALSE))","v":""},{"$f":"IF('Proyeccion Cuotas'!$D264=\"\",\"\",CONCATENATE('Proyeccion Cuotas'!$G264,\"/\",'Proyeccion Cuotas'!$F264,\"/\",'Proyeccion Cuotas'!$E264))","v":""},{"$f":"IFERROR(IF('Proyeccion Cuotas'!$D264=\"\",\"\",IF(OR('Proyeccion Cuotas'!$F264=7,'Proyeccion Cuotas'!$F264=12),($B$45+(($F$1-$B$47)/$F$3)),(($F$1-$B$47)/$F$3))),0)","v":""},{"$f":"IFERROR(IF('Proyeccion Cuotas'!$D264=\"\",\"\",(M263*$F$5*'Proyeccion Cuotas'!$K264/365)),\"\")","v":""},{"$f":"+IF('Proyeccion Cuotas'!$D264=\"\",\"\",'Proyeccion Cuotas'!$H264-H263)","v":""},{"$f":"IFERROR('Proyeccion Cuotas'!$I264+'Proyeccion Cuotas'!$J264,\"\")","v":""},{"$f":"+IFERROR((M263-'Proyeccion Cuotas'!$I264),\"\")","v":""}]
[null,null,null,"",{"$f":"IF('Proyeccion Cuotas'!$D265=\"\",\"\",IF(F264=12,E264+1,E264))","v":""},{"$f":"IF('Proyeccion Cuotas'!$D265=\"\",\"\",IF(F264=12,1,F264+1))","v":""},{"$f":"+IF('Proyeccion Cuotas'!$D265=\"\",\"\",VLOOKUP('Proyeccion Cuotas'!$F265,$A$16:$B$27,2,FALSE))","v":""},{"$f":"IF('Proyeccion Cuotas'!$D265=\"\",\"\",CONCATENATE('Proyeccion Cuotas'!$G265,\"/\",'Proyeccion Cuotas'!$F265,\"/\",'Proyeccion Cuotas'!$E265))","v":""},{"$f":"IFERROR(IF('Proyeccion Cuotas'!$D265=\"\",\"\",IF(OR('Proyeccion Cuotas'!$F265=7,'Proyeccion Cuotas'!$F265=12),($B$45+(($F$1-$B$47)/$F$3)),(($F$1-$B$47)/$F$3))),0)","v":""},{"$f":"IFERROR(IF('Proyeccion Cuotas'!$D265=\"\",\"\",(M264*$F$5*'Proyeccion Cuotas'!$K265/365)),\"\")","v":""},{"$f":"+IF('Proyeccion Cuotas'!$D265=\"\",\"\",'Proyeccion Cuotas'!$H265-H264)","v":""},{"$f":"IFERROR('Proyeccion Cuotas'!$I265+'Proyeccion Cuotas'!$J265,\"\")","v":""},{"$f":"+IFERROR((M264-'Proyeccion Cuotas'!$I265),\"\")","v":""}]
[null,null,null,"",{"$f":"IF('Proyeccion Cuotas'!$D266=\"\",\"\",IF(F265=12,E265+1,E265))","v":""},{"$f":"IF('Proyeccion Cuotas'!$D266=\"\",\"\",IF(F265=12,1,F265+1))","v":""},{"$f":"+IF('Proyeccion Cuotas'!$D266=\"\",\"\",VLOOKUP('Proyeccion Cuotas'!$F266,$A$16:$B$27,2,FALSE))","v":""},{"$f":"IF('Proyeccion Cuotas'!$D266=\"\",\"\",CONCATENATE('Proyeccion Cuotas'!$G266,\"/\",'Proyeccion Cuotas'!$F266,\"/\",'Proyeccion Cuotas'!$E266))","v":""},{"$f":"IFERROR(IF('Proyeccion Cuotas'!$D266=\"\",\"\",IF(OR('Proyeccion Cuotas'!$F266=7,'Proyeccion Cuotas'!$F266=12),($B$45+(($F$1-$B$47)/$F$3)),(($F$1-$B$47)/$F$3))),0)","v":""},{"$f":"IFERROR(IF('Proyeccion Cuotas'!$D266=\"\",\"\",(M265*$F$5*'Proyeccion Cuotas'!$K266/365)),\"\")","v":""},{"$f":"+IF('Proyeccion Cuotas'!$D266=\"\",\"\",'Proyeccion Cuotas'!$H266-H265)","v":""},{"$f":"IFERROR('Proyeccion Cuotas'!$I266+'Proyeccion Cuotas'!$J266,\"\")","v":""},{"$f":"+IFERROR((M265-'Proyeccion Cuotas'!$I266),\"\")","v":""}]
[null,null,null,"",{"$f":"IF('Proyeccion Cuotas'!$D267=\"\",\"\",IF(F266=12,E266+1,E266))","v":""},{"$f":"IF('Proyeccion Cuotas'!$D267=\"\",\"\",IF(F266=12,1,F266+1))","v":""},{"$f":"+IF('Proyeccion Cuotas'!$D267=\"\",\"\",VLOOKUP('Proyeccion Cuotas'!$F267,$A$16:$B$27,2,FALSE))","v":""},{"$f":"IF('Proyeccion Cuotas'!$D267=\"\",\"\",CONCATENATE('Proyeccion Cuotas'!$G267,\"/\",'Proyeccion Cuotas'!$F267,\"/\",'Proyeccion Cuotas'!$E267))","v":""},{"$f":"IFERROR(IF('Proyeccion Cuotas'!$D267=\"\",\"\",IF(OR('Proyeccion Cuotas'!$F267=7,'Proyeccion Cuotas'!$F267=12),($B$45+(($F$1-$B$47)/$F$3)),(($F$1-$B$47)/$F$3))),0)","v":""},{"$f":"IFERROR(IF('Proyeccion Cuotas'!$D267=\"\",\"\",(M266*$F$5*'Proyeccion Cuotas'!$K267/365)),\"\")","v":""},{"$f":"+IF('Proyeccion Cuotas'!$D267=\"\",\"\",'Proyeccion Cuotas'!$H267-H266)","v":""},{"$f":"IFERROR('Proyeccion Cuotas'!$I267+'Proyeccion Cuotas'!$J267,\"\")","v":""},{"$f":"+IFERROR((M266-'Proyeccion Cuotas'!$I267),\"\")","v":""}]
[null,null,null,"",{"$f":"IF('Proyeccion Cuotas'!$D268=\"\",\"\",IF(F267=12,E267+1,E267))","v":""},{"$f":"IF('Proyeccion Cuotas'!$D268=\"\",\"\",IF(F267=12,1,F267+1))","v":""},{"$f":"+IF('Proyeccion Cuotas'!$D268=\"\",\"\",VLOOKUP('Proyeccion Cuotas'!$F268,$A$16:$B$27,2,FALSE))","v":""},{"$f":"IF('Proyeccion Cuotas'!$D268=\"\",\"\",CONCATENATE('Proyeccion Cuotas'!$G268,\"/\",'Proyeccion Cuotas'!$F268,\"/\",'Proyeccion Cuotas'!$E268))","v":""},{"$f":"IFERROR(IF('Proyeccion Cuotas'!$D268=\"\",\"\",IF(OR('Proyeccion Cuotas'!$F268=7,'Proyeccion Cuotas'!$F268=12),($B$45+(($F$1-$B$47)/$F$3)),(($F$1-$B$47)/$F$3))),0)","v":""},{"$f":"IFERROR(IF('Proyeccion Cuotas'!$D268=\"\",\"\",(M267*$F$5*'Proyeccion Cuotas'!$K268/365)),\"\")","v":""},{"$f":"+IF('Proyeccion Cuotas'!$D268=\"\",\"\",'Proyeccion Cuotas'!$H268-H267)","v":""},{"$f":"IFERROR('Proyeccion Cuotas'!$I268+'Proyeccion Cuotas'!$J268,\"\")","v":""},{"$f":"+IFERROR((M267-'Proyeccion Cuotas'!$I268),\"\")","v":""}]
[null,null,null,"",{"$f":"IF('Proyeccion Cuotas'!$D269=\"\",\"\",IF(F268=12,E268+1,E268))","v":""},{"$f":"IF('Proyeccion Cuotas'!$D269=\"\",\"\",IF(F268=12,1,F268+1))","v":""},{"$f":"+IF('Proyeccion Cuotas'!$D269=\"\",\"\",VLOOKUP('Proyeccion Cuotas'!$F269,$A$16:$B$27,2,FALSE))","v":""},{"$f":"IF('Proyeccion Cuotas'!$D269=\"\",\"\",CONCATENATE('Proyeccion Cuotas'!$G269,\"/\",'Proyeccion Cuotas'!$F269,\"/\",'Proyeccion Cuotas'!$E269))","v":""},{"$f":"IFERROR(IF('Proyeccion Cuotas'!$D269=\"\",\"\",IF(OR('Proyeccion Cuotas'!$F269=7,'Proyeccion Cuotas'!$F269=12),($B$45+(($F$1-$B$47)/$F$3)),(($F$1-$B$47)/$F$3))),0)","v":""},{"$f":"IFERROR(IF('Proyeccion Cuotas'!$D269=\"\",\"\",(M268*$F$5*'Proyeccion Cuotas'!$K269/365)),\"\")","v":""},{"$f":"+IF('Proyeccion Cuotas'!$D269=\"\",\"\",'Proyeccion Cuotas'!$H269-H268)","v":""},{"$f":"IFERROR('Proyeccion Cuotas'!$I269+'Proyeccion Cuotas'!$J269,\"\")","v":""},{"$f":"+IFERROR((M268-'Proyeccion Cuotas'!$I269),\"\")","v":""}]
[null,null,null,"",{"$f":"IF('Proyeccion Cuotas'!$D270=\"\",\"\",IF(F269=12,E269+1,E269))","v":""},{"$f":"IF('Proyeccion Cuotas'!$D270=\"\",\"\",IF(F269=12,1,F269+1))","v":""},{"$f":"+IF('Proyeccion Cuotas'!$D270=\"\",\"\",VLOOKUP('Proyeccion Cuotas'!$F270,$A$16:$B$27,2,FALSE))","v":""},{"$f":"IF('Proyeccion Cuotas'!$D270=\"\",\"\",CONCATENATE('Proyeccion Cuotas'!$G270,\"/\",'Proyeccion Cuotas'!$F270,\"/\",'Proyeccion Cuotas'!$E270))","v":""},{"$f":"IFERROR(IF('Proyeccion Cuotas'!$D270=\"\",\"\",IF(OR('Proyeccion Cuotas'!$F270=7,'Proyeccion Cuotas'!$F270=12),($B$45+(($F$1-$B$47)/$F$3)),(($F$1-$B$47)/$F$3))),0)","v":""},{"$f":"IFERROR(IF('Proyeccion Cuotas'!$D270=\"\",\"\",(M269*$F$5*'Proyeccion Cuotas'!$K270/365)),\"\")","v":""},{"$f":"+IF('Proyeccion Cuotas'!$D270=\"\",\"\",'Proyeccion Cuotas'!$H270-H269)","v":""},{"$f":"IFERROR('Proyeccion Cuotas'!$I270+'Proyeccion Cuotas'!$J270,\"\")","v":""},{"$f":"+IFERROR((M269-'Proyeccion Cuotas'!$I270),\"\")","v":""}]
[null,null,null,"",{"$f":"IF('Proyeccion Cuotas'!$D271=\"\",\"\",IF(F270=12,E270+1,E270))","v":""},{"$f":"IF('Proyeccion Cuotas'!$D271=\"\",\"\",IF(F270=12,1,F270+1))","v":""},{"$f":"+IF('Proyeccion Cuotas'!$D271=\"\",\"\",VLOOKUP('Proyeccion Cuotas'!$F271,$A$16:$B$27,2,FALSE))","v":""},{"$f":"IF('Proyeccion Cuotas'!$D271=\"\",\"\",CONCATENATE('Proyeccion Cuotas'!$G271,\"/\",'Proyeccion Cuotas'!$F271,\"/\",'Proyeccion Cuotas'!$E271))","v":""},{"$f":"IFERROR(IF('Proyeccion Cuotas'!$D271=\"\",\"\",IF(OR('Proyeccion Cuotas'!$F271=7,'Proyeccion Cuotas'!$F271=12),($B$45+(($F$1-$B$47)/$F$3)),(($F$1-$B$47)/$F$3))),0)","v":""},{"$f":"IFERROR(IF('Proyeccion Cuotas'!$D271=\"\",\"\",(M270*$F$5*'Proyeccion Cuotas'!$K271/365)),\"\")","v":""},{"$f":"+IF('Proyeccion Cuotas'!$D271=\"\",\"\",'Proyeccion Cuotas'!$H271-H270)","v":""},{"$f":"IFERROR('Proyeccion Cuotas'!$I271+'Proyeccion Cuotas'!$J271,\"\")","v":""},{"$f":"+IFERROR((M270-'Proyeccion Cuotas'!$I271),\"\")","v":""}]
[null,null,null,"",{"$f":"IF('Proyeccion Cuotas'!$D272=\"\",\"\",IF(F271=12,E271+1,E271))","v":""},{"$f":"IF('Proyeccion Cuotas'!$D272=\"\",\"\",IF(F271=12,1,F271+1))","v":""},{"$f":"+IF('Proyeccion Cuotas'!$D272=\"\",\"\",VLOOKUP('Proyeccion Cuotas'!$F272,$A$16:$B$27,2,FALSE))","v":""},{"$f":"IF('Proyeccion Cuotas'!$D272=\"\",\"\",CONCATENATE('Proyeccion Cuotas'!$G272,\"/\",'Proyeccion Cuotas'!$F272,\"/\",'Proyeccion Cuotas'!$E272))","v":""},{"$f":"IFERROR(IF('Proyeccion Cuotas'!$D272=\"\",\"\",IF(OR('Proyeccion Cuotas'!$F272=7,'Proyeccion Cuotas'!$F272=12),($B$45+(($F$1-$B$47)/$F$3)),(($F$1-$B$47)/$F$3))),0)","v":""},{"$f":"IFERROR(IF('Proyeccion Cuotas'!$D272=\"\",\"\",(M271*$F$5*'Proyeccion Cuotas'!$K272/365)),\"\")","v":""},{"$f":"+IF('Proyeccion Cuotas'!$D272=\"\",\"\",'Proyeccion Cuotas'!$H272-H271)","v":""},{"$f":"IFERROR('Proyeccion Cuotas'!$I272+'Proyeccion Cuotas'!$J272,\"\")","v":""},{"$f":"+IFERROR((M271-'Proyeccion Cuotas'!$I272),\"\")","v":""}]
[null,null,null,"",{"$f":"IF('Proyeccion Cuotas'!$D273=\"\",\"\",IF(F272=12,E272+1,E272))","v":""},{"$f":"IF('Proyeccion Cuotas'!$D273=\"\",\"\",IF(F272=12,1,F272+1))","v":""},{"$f":"+IF('Proyeccion Cuotas'!$D273=\"\",\"\",VLOOKUP('Proyeccion Cuotas'!$F273,$A$16:$B$27,2,FALSE))","v":""},{"$f":"IF('Proyeccion Cuotas'!$D273=\"\",\"\",CONCATENATE('Proyeccion Cuotas'!$G273,\"/\",'Proyeccion Cuotas'!$F273,\"/\",'Proyeccion Cuotas'!$E273))","v":""},{"$f":"IFERROR(IF('Proyeccion Cuotas'!$D273=\"\",\"\",IF(OR('Proyeccion Cuotas'!$F273=7,'Proyeccion Cuotas'!$F273=12),($B$45+(($F$1-$B$47)/$F$3)),(($F$1-$B$47)/$F$3))),0)","v":""},{"$f":"IFERROR(IF('Proyeccion Cuotas'!$D273=\"\",\"\",(M272*$F$5*'Proyeccion Cuotas'!$K273/365)),\"\")","v":""},{"$f":"+IF('Proyeccion Cuotas'!$D273=\"\",\"\",'Proyeccion Cuotas'!$H273-H272)","v":""},{"$f":"IFERROR('Proyeccion Cuotas'!$I273+'Proyeccion Cuotas'!$J273,\"\")","v":""},{"$f":"+IFERROR((M272-'Proyeccion Cuotas'!$I273),\"\")","v":""}]
[null,null,null,{"$f":"IFERROR(IF(M273<0.001,\"\",(D273+1)),\"\")","v":""},{"$f":"IF('Proyeccion Cuotas'!$D274=\"\",\"\",IF(F273=12,E273+1,E273))","v":""},{"$f":"IF('Proyeccion Cuotas'!$D274=\"\",\"\",IF(F273=12,1,F273+1))","v":""},{"$f":"+IF('Proyeccion Cuotas'!$D274=\"\",\"\",VLOOKUP('Proyeccion Cuotas'!$F274,$A$16:$B$27,2,FALSE))","v":""},{"$f":"IF('Proyeccion Cuotas'!$D274=\"\",\"\",CONCATENATE('Proyeccion Cuotas'!$G274,\"/\",'Proyeccion Cuotas'!$F274,\"/\",'Proyeccion Cuotas'!$E274))","v":""},{"$f":"IFERROR(IF('Proyeccion Cuotas'!$D274=\"\",\"\",IF(OR('Proyeccion Cuotas'!$F274=7,'Proyeccion Cuotas'!$F274=12),($B$45+(($F$1-$B$47)/$F$3)),(($F$1-$B$47)/$F$3))),0)","v":""},{"$f":"IFERROR(IF('Proyeccion Cuotas'!$D274=\"\",\"\",(M273*$F$5*'Proyeccion Cuotas'!$K274/365)),\"\")","v":""},{"$f":"+IF('Proyeccion Cuotas'!$D274=\"\",\"\",'Proyeccion Cuotas'!$H274-H273)","v":""},{"$f":"IFERROR('Proyeccion Cuotas'!$I274+'Proyeccion Cuotas'!$J274,\"\")","v":""},{"$f":"+IFERROR((M273-'Proyeccion Cuotas'!$I274),\"\")","v":""}]
[null,null,null,"",{"$f":"IF('Proyeccion Cuotas'!$D275=\"\",\"\",IF(F274=12,E274+1,E274))","v":""},{"$f":"IF('Proyeccion Cuotas'!$D275=\"\",\"\",IF(F274=12,1,F274+1))","v":""},{"$f":"+IF('Proyeccion Cuotas'!$D275=\"\",\"\",VLOOKUP('Proyeccion Cuotas'!$F275,$A$16:$B$27,2,FALSE))","v":""},{"$f":"IF('Proyeccion Cuotas'!$D275=\"\",\"\",CONCATENATE('Proyeccion Cuotas'!$G275,\"/\",'Proyeccion Cuotas'!$F275,\"/\",'Proyeccion Cuotas'!$E275))","v":""},{"$f":"IFERROR(IF('Proyeccion Cuotas'!$D275=\"\",\"\",IF(OR('Proyeccion Cuotas'!$F275=7,'Proyeccion Cuotas'!$F275=12),($B$45+(($F$1-$B$47)/$F$3)),(($F$1-$B$47)/$F$3))),0)","v":""},{"$f":"IFERROR(IF('Proyeccion Cuotas'!$D275=\"\",\"\",(M274*$F$5*'Proyeccion Cuotas'!$K275/365)),\"\")","v":""},{"$f":"+IF('Proyeccion Cuotas'!$D275=\"\",\"\",'Proyeccion Cuotas'!$H275-H274)","v":""},{"$f":"IFERROR('Proyeccion Cuotas'!$I275+'Proyeccion Cuotas'!$J275,\"\")","v":""},{"$f":"+IFERROR((M274-'Proyeccion Cuotas'!$I275),\"\")","v":""}]
[null,null,null,"",{"$f":"IF('Proyeccion Cuotas'!$D276=\"\",\"\",IF(F275=12,E275+1,E275))","v":""},{"$f":"IF('Proyeccion Cuotas'!$D276=\"\",\"\",IF(F275=12,1,F275+1))","v":""},{"$f":"+IF('Proyeccion Cuotas'!$D276=\"\",\"\",VLOOKUP('Proyeccion Cuotas'!$F276,$A$16:$B$27,2,FALSE))","v":""},{"$f":"IF('Proyeccion Cuotas'!$D276=\"\",\"\",CONCATENATE('Proyeccion Cuotas'!$G276,\"/\",'Proyeccion Cuotas'!$F276,\"/\",'Proyeccion Cuotas'!$E276))","v":""},{"$f":"IFERROR(IF('Proyeccion Cuotas'!$D276=\"\",\"\",IF(OR('Proyeccion Cuotas'!$F276=7,'Proyeccion Cuotas'!$F276=12),($B$45+(($F$1-$B$47)/$F$3)),(($F$1-$B$47)/$F$3))),0)","v":""},{"$f":"IFERROR(IF('Proyeccion Cuotas'!$D276=\"\",\"\",(M275*$F$5*'Proyeccion Cuotas'!$K276/365)),\"\")","v":""},{"$f":"+IF('Proyeccion Cuotas'!$D276=\"\",\"\",'Proyeccion Cuotas'!$H276-H275)","v":""},{"$f":"IFERROR('Proyeccion Cuotas'!$I276+'Proyeccion Cuotas'!$J276,\"\")","v":""},{"$f":"+IFERROR((M275-'Proyeccion Cuotas'!$I276),\"\")","v":""}]
[null,null,null,"",{"$f":"IF('Proyeccion Cuotas'!$D277=\"\",\"\",IF(F276=12,E276+1,E276))","v":""},{"$f":"IF('Proyeccion Cuotas'!$D277=\"\",\"\",IF(F276=12,1,F276+1))","v":""},{"$f":"+IF('Proyeccion Cuotas'!$D277=\"\",\"\",VLOOKUP('Proyeccion Cuotas'!$F277,$A$16:$B$27,2,FALSE))","v":""},{"$f":"IF('Proyeccion Cuotas'!$D277=\"\",\"\",CONCATENATE('Proyeccion Cuotas'!$G277,\"/\",'Proyeccion Cuotas'!$F277,\"/\",'Proyeccion Cuotas'!$E277))","v":""},{"$f":"IFERROR(IF('Proyeccion Cuotas'!$D277=\"\",\"\",IF(OR('Proyeccion Cuotas'!$F277=7,'Proyeccion Cuotas'!$F277=12),($B$45+(($F$1-$B$47)/$F$3)),(($F$1-$B$47)/$F$3))),0)","v":""},{"$f":"IFERROR(IF('Proyeccion Cuotas'!$D277=\"\",\"\",(M276*$F$5*'Proyeccion Cuotas'!$K277/365)),\"\")","v":""},{"$f":"+IF('Proyeccion Cuotas'!$D277=\"\",\"\",'Proyeccion Cuotas'!$H277-H276)","v":""},{"$f":"IFERROR('Proyeccion Cuotas'!$I277+'Proyeccion Cuotas'!$J277,\"\")","v":""},{"$f":"+IFERROR((M276-'Proyeccion Cuotas'!$I277),\"\")","v":""}]
[null,null,null,"",{"$f":"IF('Proyeccion Cuotas'!$D278=\"\",\"\",IF(F277=12,E277+1,E277))","v":""},{"$f":"IF('Proyeccion Cuotas'!$D278=\"\",\"\",IF(F277=12,1,F277+1))","v":""},{"$f":"+IF('Proyeccion Cuotas'!$D278=\"\",\"\",VLOOKUP('Proyeccion Cuotas'!$F278,$A$16:$B$27,2,FALSE))","v":""},{"$f":"IF('Proyeccion Cuotas'!$D278=\"\",\"\",CONCATENATE('Proyeccion Cuotas'!$G278,\"/\",'Proyeccion Cuotas'!$F278,\"/\",'Proyeccion Cuotas'!$E278))","v":""},{"$f":"IFERROR(IF('Proyeccion Cuotas'!$D278=\"\",\"\",IF(OR('Proyeccion Cuotas'!$F278=7,'Proyeccion Cuotas'!$F278=12),($B$45+(($F$1-$B$47)/$F$3)),(($F$1-$B$47)/$F$3))),0)","v":""},{"$f":"IFERROR(IF('Proyeccion Cuotas'!$D278=\"\",\"\",(M277*$F$5*'Proyeccion Cuotas'!$K278/365)),\"\")","v":""},{"$f":"+IF('Proyeccion Cuotas'!$D278=\"\",\"\",'Proyeccion Cuotas'!$H278-H277)","v":""},{"$f":"IFERROR('Proyeccion Cuotas'!$I278+'Proyeccion Cuotas'!$J278,\"\")","v":""},{"$f":"+IFERROR((M277-'Proyeccion Cuotas'!$I278),\"\")","v":""}]
[null,null,null,"",{"$f":"IF('Proyeccion Cuotas'!$D279=\"\",\"\",IF(F278=12,E278+1,E278))","v":""},{"$f":"IF('Proyeccion Cuotas'!$D279=\"\",\"\",IF(F278=12,1,F278+1))","v":""},{"$f":"+IF('Proyeccion Cuotas'!$D279=\"\",\"\",VLOOKUP('Proyeccion Cuotas'!$F279,$A$16:$B$27,2,FALSE))","v":""},{"$f":"IF('Proyeccion Cuotas'!$D279=\"\",\"\",CONCATENATE('Proyeccion Cuotas'!$G279,\"/\",'Proyeccion Cuotas'!$F279,\"/\",'Proyeccion Cuotas'!$E279))","v":""},{"$f":"IFERROR(IF('Proyeccion Cuotas'!$D279=\"\",\"\",IF(OR('Proyeccion Cuotas'!$F279=7,'Proyeccion Cuotas'!$F279=12),($B$45+(($F$1-$B$47)/$F$3)),(($F$1-$B$47)/$F$3))),0)","v":""},{"$f":"IFERROR(IF('Proyeccion Cuotas'!$D279=\"\",\"\",(M278*$F$5*'Proyeccion Cuotas'!$K279/365)),\"\")","v":""},{"$f":"+IF('Proyeccion Cuotas'!$D279=\"\",\"\",'Proyeccion Cuotas'!$H279-H278)","v":""},{"$f":"IFERROR('Proyeccion Cuotas'!$I279+'Proyeccion Cuotas'!$J279,\"\")","v":""},{"$f":"+IFERROR((M278-'Proyeccion Cuotas'!$I279),\"\")","v":""}]
[null,null,null,"",{"$f":"IF('Proyeccion Cuotas'!$D280=\"\",\"\",IF(F279=12,E279+1,E279))","v":""},{"$f":"IF('Proyeccion Cuotas'!$D280=\"\",\"\",IF(F279=12,1,F279+1))","v":""},{"$f":"+IF('Proyeccion Cuotas'!$D280=\"\",\"\",VLOOKUP('Proyeccion Cuotas'!$F280,$A$16:$B$27,2,FALSE))","v":""},{"$f":"IF('Proyeccion Cuotas'!$D280=\"\",\"\",CONCATENATE('Proyeccion Cuotas'!$G280,\"/\",'Proyeccion Cuotas'!$F280,\"/\",'Proyeccion Cuotas'!$E280))","v":""},{"$f":"IFERROR(IF('Proyeccion Cuotas'!$D280=\"\",\"\",IF(OR('Proyeccion Cuotas'!$F280=7,'Proyeccion Cuotas'!$F280=12),($B$45+(($F$1-$B$47)/$F$3)),(($F$1-$B$47)/$F$3))),0)","v":""},{"$f":"IFERROR(IF('Proyeccion Cuotas'!$D280=\"\",\"\",(M279*$F$5*'Proyeccion Cuotas'!$K280/365)),\"\")","v":""},{"$f":"+IF('Proyeccion Cuotas'!$D280=\"\",\"\",'Proyeccion Cuotas'!$H280-H279)","v":""},{"$f":"IFERROR('Proyeccion Cuotas'!$I280+'Proyeccion Cuotas'!$J280,\"\")","v":""},{"$f":"+IFERROR((M279-'Proyeccion Cuotas'!$I280),\"\")","v":""}]
[null,null,null,"",{"$f":"IF('Proyeccion Cuotas'!$D281=\"\",\"\",IF(F280=12,E280+1,E280))","v":""},{"$f":"IF('Proyeccion Cuotas'!$D281=\"\",\"\",IF(F280=12,1,F280+1))","v":""},{"$f":"+IF('Proyeccion Cuotas'!$D281=\"\",\"\",VLOOKUP('Proyeccion Cuotas'!$F281,$A$16:$B$27,2,FALSE))","v":""},{"$f":"IF('Proyeccion Cuotas'!$D281=\"\",\"\",CONCATENATE('Proyeccion Cuotas'!$G281,\"/\",'Proyeccion Cuotas'!$F281,\"/\",'Proyeccion Cuotas'!$E281))","v":""},{"$f":"IFERROR(IF('Proyeccion Cuotas'!$D281=\"\",\"\",IF(OR('Proyeccion Cuotas'!$F281=7,'Proyeccion Cuotas'!$F281=12),($B$45+(($F$1-$B$47)/$F$3)),(($F$1-$B$47)/$F$3))),0)","v":""},{"$f":"IFERROR(IF('Proyeccion Cuotas'!$D281=\"\",\"\",(M280*$F$5*'Proyeccion Cuotas'!$K281/365)),\"\")","v":""},{"$f":"+IF('Proyeccion Cuotas'!$D281=\"\",\"\",'Proyeccion Cuotas'!$H281-H280)","v":""},{"$f":"IFERROR('Proyeccion Cuotas'!$I281+'Proyeccion Cuotas'!$J281,\"\")","v":""},{"$f":"+IFERROR((M280-'Proyeccion Cuotas'!$I281),\"\")","v":""}]
[null,null,null,"",{"$f":"IF('Proyeccion Cuotas'!$D282=\"\",\"\",IF(F281=12,E281+1,E281))","v":""},{"$f":"IF('Proyeccion Cuotas'!$D282=\"\",\"\",IF(F281=12,1,F281+1))","v":""},{"$f":"+IF('Proyeccion Cuotas'!$D282=\"\",\"\",VLOOKUP('Proyeccion Cuotas'!$F282,$A$16:$B$27,2,FALSE))","v":""},{"$f":"IF('Proyeccion Cuotas'!$D282=\"\",\"\",CONCATENATE('Proyeccion Cuotas'!$G282,\"/\",'Proyeccion Cuotas'!$F282,\"/\",'Proyeccion Cuotas'!$E282))","v":""},{"$f":"IFERROR(IF('Proyeccion Cuotas'!$D282=\"\",\"\",IF(OR('Proyeccion Cuotas'!$F282=7,'Proyeccion Cuotas'!$F282=12),($B$45+(($F$1-$B$47)/$F$3)),(($F$1-$B$47)/$F$3))),0)","v":""},{"$f":"IFERROR(IF('Proyeccion Cuotas'!$D282=\"\",\"\",(M281*$F$5*'Proyeccion Cuotas'!$K282/365)),\"\")","v":""},{"$f":"+IF('Proyeccion Cuotas'!$D282=\"\",\"\",'Proyeccion Cuotas'!$H282-H281)","v":""},{"$f":"IFERROR('Proyeccion Cuotas'!$I282+'Proyeccion Cuotas'!$J282,\"\")","v":""},{"$f":"+IFERROR((M281-'Proyeccion Cuotas'!$I282),\"\")","v":""}]
[null,null,null,"",{"$f":"IF('Proyeccion Cuotas'!$D283=\"\",\"\",IF(F282=12,E282+1,E282))","v":""},{"$f":"IF('Proyeccion Cuotas'!$D283=\"\",\"\",IF(F282=12,1,F282+1))","v":""},{"$f":"+IF('Proyeccion Cuotas'!$D283=\"\",\"\",VLOOKUP('Proyeccion Cuotas'!$F283,$A$16:$B$27,2,FALSE))","v":""},{"$f":"IF('Proyeccion Cuotas'!$D283=\"\",\"\",CONCATENATE('Proyeccion Cuotas'!$G283,\"/\",'Proyeccion Cuotas'!$F283,\"/\",'Proyeccion Cuotas'!$E283))","v":""},{"$f":"IFERROR(IF('Proyeccion Cuotas'!$D283=\"\",\"\",IF(OR('Proyeccion Cuotas'!$F283=7,'Proyeccion Cuotas'!$F283=12),($B$45+(($F$1-$B$47)/$F$3)),(($F$1-$B$47)/$F$3))),0)","v":""},{"$f":"IFERROR(IF('Proyeccion Cuotas'!$D283=\"\",\"\",(M282*$F$5*'Proyeccion Cuotas'!$K283/365)),\"\")","v":""},{"$f":"+IF('Proyeccion Cuotas'!$D283=\"\",\"\",'Proyeccion Cuotas'!$H283-H282)","v":""},{"$f":"IFERROR('Proyeccion Cuotas'!$I283+'Proyeccion Cuotas'!$J283,\"\")","v":""},{"$f":"+IFERROR((M282-'Proyeccion Cuotas'!$I283),\"\")","v":""}]
[null,null,null,"",{"$f":"IF('Proyeccion Cuotas'!$D284=\"\",\"\",IF(F283=12,E283+1,E283))","v":""},{"$f":"IF('Proyeccion Cuotas'!$D284=\"\",\"\",IF(F283=12,1,F283+1))","v":""},{"$f":"+IF('Proyeccion Cuotas'!$D284=\"\",\"\",VLOOKUP('Proyeccion Cuotas'!$F284,$A$16:$B$27,2,FALSE))","v":""},{"$f":"IF('Proyeccion Cuotas'!$D284=\"\",\"\",CONCATENATE('Proyeccion Cuotas'!$G284,\"/\",'Proyeccion Cuotas'!$F284,\"/\",'Proyeccion Cuotas'!$E284))","v":""},{"$f":"IFERROR(IF('Proyeccion Cuotas'!$D284=\"\",\"\",IF(OR('Proyeccion Cuotas'!$F284=7,'Proyeccion Cuotas'!$F284=12),($B$45+(($F$1-$B$47)/$F$3)),(($F$1-$B$47)/$F$3))),0)","v":""},{"$f":"IFERROR(IF('Proyeccion Cuotas'!$D284=\"\",\"\",(M283*$F$5*'Proyeccion Cuotas'!$K284/365)),\"\")","v":""},{"$f":"+IF('Proyeccion Cuotas'!$D284=\"\",\"\",'Proyeccion Cuotas'!$H284-H283)","v":""},{"$f":"IFERROR('Proyeccion Cuotas'!$I284+'Proyeccion Cuotas'!$J284,\"\")","v":""},{"$f":"+IFERROR((M283-'Proyeccion Cuotas'!$I284),\"\")","v":""}]
[null,null,null,"",{"$f":"IF('Proyeccion Cuotas'!$D285=\"\",\"\",IF(F284=12,E284+1,E284))","v":""},{"$f":"IF('Proyeccion Cuotas'!$D285=\"\",\"\",IF(F284=12,1,F284+1))","v":""},{"$f":"+IF('Proyeccion Cuotas'!$D285=\"\",\"\",VLOOKUP('Proyeccion Cuotas'!$F285,$A$16:$B$27,2,FALSE))","v":""},{"$f":"IF('Proyeccion Cuotas'!$D285=\"\",\"\",CONCATENATE('Proyeccion Cuotas'!$G285,\"/\",'Proyeccion Cuotas'!$F285,\"/\",'Proyeccion Cuotas'!$E285))","v":""},{"$f":"IFERROR(IF('Proyeccion Cuotas'!$D285=\"\",\"\",IF(OR('Proyeccion Cuotas'!$F285=7,'Proyeccion Cuotas'!$F285=12),($B$45+(($F$1-$B$47)/$F$3)),(($F$1-$B$47)/$F$3))),0)","v":""},{"$f":"IFERROR(IF('Proyeccion Cuotas'!$D285=\"\",\"\",(M284*$F$5*'Proyeccion Cuotas'!$K285/365)),\"\")","v":""},{"$f":"+IF('Proyeccion Cuotas'!$D285=\"\",\"\",'Proyeccion Cuotas'!$H285-H284)","v":""},{"$f":"IFERROR('Proyeccion Cuotas'!$I285+'Proyeccion Cuotas'!$J285,\"\")","v":""},{"$f":"+IFERROR((M284-'Proyeccion Cuotas'!$I285),\"\")","v":""}]
[null,null,null,"",{"$f":"IF('Proyeccion Cuotas'!$D286=\"\",\"\",IF(F285=12,E285+1,E285))","v":""},{"$f":"IF('Proyeccion Cuotas'!$D286=\"\",\"\",IF(F285=12,1,F285+1))","v":""},{"$f":"+IF('Proyeccion Cuotas'!$D286=\"\",\"\",VLOOKUP('Proyeccion Cuotas'!$F286,$A$16:$B$27,2,FALSE))","v":""},{"$f":"IF('Proyeccion Cuotas'!$D286=\"\",\"\",CONCATENATE('Proyeccion Cuotas'!$G286,\"/\",'Proyeccion Cuotas'!$F286,\"/\",'Proyeccion Cuotas'!$E286))","v":""},{"$f":"IFERROR(IF('Proyeccion Cuotas'!$D286=\"\",\"\",IF(OR('Proyeccion Cuotas'!$F286=7,'Proyeccion Cuotas'!$F286=12),($B$45+(($F$1-$B$47)/$F$3)),(($F$1-$B$47)/$F$3))),0)","v":""},{"$f":"IFERROR(IF('Proyeccion Cuotas'!$D286=\"\",\"\",(M285*$F$5*'Proyeccion Cuotas'!$K286/365)),\"\")","v":""},{"$f":"+IF('Proyeccion Cuotas'!$D286=\"\",\"\",'Proyeccion Cuotas'!$H286-H285)","v":""},{"$f":"IFERROR('Proyeccion Cuotas'!$I286+'Proyeccion Cuotas'!$J286,\"\")","v":""},{"$f":"+IFERROR((M285-'Proyeccion Cuotas'!$I286),\"\")","v":""}]
[null,null,null,"",{"$f":"IF('Proyeccion Cuotas'!$D287=\"\",\"\",IF(F286=12,E286+1,E286))","v":""},{"$f":"IF('Proyeccion Cuotas'!$D287=\"\",\"\",IF(F286=12,1,F286+1))","v":""},{"$f":"+IF('Proyeccion Cuotas'!$D287=\"\",\"\",VLOOKUP('Proyeccion Cuotas'!$F287,$A$16:$B$27,2,FALSE))","v":""},{"$f":"IF('Proyeccion Cuotas'!$D287=\"\",\"\",CONCATENATE('Proyeccion Cuotas'!$G287,\"/\",'Proyeccion Cuotas'!$F287,\"/\",'Proyeccion Cuotas'!$E287))","v":""},{"$f":"IFERROR(IF('Proyeccion Cuotas'!$D287=\"\",\"\",IF(OR('Proyeccion Cuotas'!$F287=7,'Proyeccion Cuotas'!$F287=12),($B$45+(($F$1-$B$47)/$F$3)),(($F$1-$B$47)/$F$3))),0)","v":""},{"$f":"IFERROR(IF('Proyeccion Cuotas'!$D287=\"\",\"\",(M286*$F$5*'Proyeccion Cuotas'!$K287/365)),\"\")","v":""},{"$f":"+IF('Proyeccion Cuotas'!$D287=\"\",\"\",'Proyeccion Cuotas'!$H287-H286)","v":""},{"$f":"IFERROR('Proyeccion Cuotas'!$I287+'Proyeccion Cuotas'!$J287,\"\")","v":""},{"$f":"+IFERROR((M286-'Proyeccion Cuotas'!$I287),\"\")","v":""}]
[null,null,null,"",{"$f":"IF('Proyeccion Cuotas'!$D288=\"\",\"\",IF(F287=12,E287+1,E287))","v":""},{"$f":"IF('Proyeccion Cuotas'!$D288=\"\",\"\",IF(F287=12,1,F287+1))","v":""},{"$f":"+IF('Proyeccion Cuotas'!$D288=\"\",\"\",VLOOKUP('Proyeccion Cuotas'!$F288,$A$16:$B$27,2,FALSE))","v":""},{"$f":"IF('Proyeccion Cuotas'!$D288=\"\",\"\",CONCATENATE('Proyeccion Cuotas'!$G288,\"/\",'Proyeccion Cuotas'!$F288,\"/\",'Proyeccion Cuotas'!$E288))","v":""},{"$f":"IFERROR(IF('Proyeccion Cuotas'!$D288=\"\",\"\",IF(OR('Proyeccion Cuotas'!$F288=7,'Proyeccion Cuotas'!$F288=12),($B$45+(($F$1-$B$47)/$F$3)),(($F$1-$B$47)/$F$3))),0)","v":""},{"$f":"IFERROR(IF('Proyeccion Cuotas'!$D288=\"\",\"\",(M287*$F$5*'Proyeccion Cuotas'!$K288/365)),\"\")","v":""},{"$f":"+IF('Proyeccion Cuotas'!$D288=\"\",\"\",'Proyeccion Cuotas'!$H288-H287)","v":""},{"$f":"IFERROR('Proyeccion Cuotas'!$I288+'Proyeccion Cuotas'!$J288,\"\")","v":""},{"$f":"+IFERROR((M287-'Proyeccion Cuotas'!$I288),\"\")","v":""}]
[null,null,null,"",{"$f":"IF('Proyeccion Cuotas'!$D289=\"\",\"\",IF(F288=12,E288+1,E288))","v":""},{"$f":"IF('Proyeccion Cuotas'!$D289=\"\",\"\",IF(F288=12,1,F288+1))","v":""},{"$f":"+IF('Proyeccion Cuotas'!$D289=\"\",\"\",VLOOKUP('Proyeccion Cuotas'!$F289,$A$16:$B$27,2,FALSE))","v":""},{"$f":"IF('Proyeccion Cuotas'!$D289=\"\",\"\",CONCATENATE('Proyeccion Cuotas'!$G289,\"/\",'Proyeccion Cuotas'!$F289,\"/\",'Proyeccion Cuotas'!$E289))","v":""},{"$f":"IFERROR(IF('Proyeccion Cuotas'!$D289=\"\",\"\",IF(OR('Proyeccion Cuotas'!$F289=7,'Proyeccion Cuotas'!$F289=12),($B$45+(($F$1-$B$47)/$F$3)),(($F$1-$B$47)/$F$3))),0)","v":""},{"$f":"IFERROR(IF('Proyeccion Cuotas'!$D289=\"\",\"\",(M288*$F$5*'Proyeccion Cuotas'!$K289/365)),\"\")","v":""},{"$f":"+IF('Proyeccion Cuotas'!$D289=\"\",\"\",'Proyeccion Cuotas'!$H289-H288)","v":""},{"$f":"IFERROR('Proyeccion Cuotas'!$I289+'Proyeccion Cuotas'!$J289,\"\")","v":""},{"$f":"+IFERROR((M288-'Proyeccion Cuotas'!$I289),\"\")","v":""}]
[null,null,null,"",{"$f":"IF('Proyeccion Cuotas'!$D290=\"\",\"\",IF(F289=12,E289+1,E289))","v":""},{"$f":"IF('Proyeccion Cuotas'!$D290=\"\",\"\",IF(F289=12,1,F289+1))","v":""},{"$f":"+IF('Proyeccion Cuotas'!$D290=\"\",\"\",VLOOKUP('Proyeccion Cuotas'!$F290,$A$16:$B$27,2,FALSE))","v":""},{"$f":"IF('Proyeccion Cuotas'!$D290=\"\",\"\",CONCATENATE('Proyeccion Cuotas'!$G290,\"/\",'Proyeccion Cuotas'!$F290,\"/\",'Proyeccion Cuotas'!$E290))","v":""},{"$f":"IFERROR(IF('Proyeccion Cuotas'!$D290=\"\",\"\",IF(OR('Proyeccion Cuotas'!$F290=7,'Proyeccion Cuotas'!$F290=12),($B$45+(($F$1-$B$47)/$F$3)),(($F$1-$B$47)/$F$3))),0)","v":""},{"$f":"IFERROR(IF('Proyeccion Cuotas'!$D290=\"\",\"\",(M289*$F$5*'Proyeccion Cuotas'!$K290/365)),\"\")","v":""},{"$f":"+IF('Proyeccion Cuotas'!$D290=\"\",\"\",'Proyeccion Cuotas'!$H290-H289)","v":""},{"$f":"IFERROR('Proyeccion Cuotas'!$I290+'Proyeccion Cuotas'!$J290,\"\")","v":""},{"$f":"+IFERROR((M289-'Proyeccion Cuotas'!$I290),\"\")","v":""}]
[null,null,null,"",{"$f":"IF('Proyeccion Cuotas'!$D291=\"\",\"\",IF(F290=12,E290+1,E290))","v":""},{"$f":"IF('Proyeccion Cuotas'!$D291=\"\",\"\",IF(F290=12,1,F290+1))","v":""},{"$f":"+IF('Proyeccion Cuotas'!$D291=\"\",\"\",VLOOKUP('Proyeccion Cuotas'!$F291,$A$16:$B$27,2,FALSE))","v":""},{"$f":"IF('Proyeccion Cuotas'!$D291=\"\",\"\",CONCATENATE('Proyeccion Cuotas'!$G291,\"/\",'Proyeccion Cuotas'!$F291,\"/\",'Proyeccion Cuotas'!$E291))","v":""},{"$f":"IFERROR(IF('Proyeccion Cuotas'!$D291=\"\",\"\",IF(OR('Proyeccion Cuotas'!$F291=7,'Proyeccion Cuotas'!$F291=12),($B$45+(($F$1-$B$47)/$F$3)),(($F$1-$B$47)/$F$3))),0)","v":""},{"$f":"IFERROR(IF('Proyeccion Cuotas'!$D291=\"\",\"\",(M290*$F$5*'Proyeccion Cuotas'!$K291/365)),\"\")","v":""},{"$f":"+IF('Proyeccion Cuotas'!$D291=\"\",\"\",'Proyeccion Cuotas'!$H291-H290)","v":""},{"$f":"IFERROR('Proyeccion Cuotas'!$I291+'Proyeccion Cuotas'!$J291,\"\")","v":""},{"$f":"+IFERROR((M290-'Proyeccion Cuotas'!$I291),\"\")","v":""}]
[null,null,null,"",{"$f":"IF('Proyeccion Cuotas'!$D292=\"\",\"\",IF(F291=12,E291+1,E291))","v":""},{"$f":"IF('Proyeccion Cuotas'!$D292=\"\",\"\",IF(F291=12,1,F291+1))","v":""},{"$f":"+IF('Proyeccion Cuotas'!$D292=\"\",\"\",VLOOKUP('Proyeccion Cuotas'!$F292,$A$16:$B$27,2,FALSE))","v":""},{"$f":"IF('Proyeccion Cuotas'!$D292=\"\",\"\",CONCATENATE('Proyeccion Cuotas'!$G292,\"/\",'Proyeccion Cuotas'!$F292,\"/\",'Proyeccion Cuotas'!$E292))","v":""},{"$f":"IFERROR(IF('Proyeccion Cuotas'!$D292=\"\",\"\",IF(OR('Proyeccion Cuotas'!$F292=7,'Proyeccion Cuotas'!$F292=12),($B$45+(($F$1-$B$47)/$F$3)),(($F$1-$B$47)/$F$3))),0)","v":""},{"$f":"IFERROR(IF('Proyeccion Cuotas'!$D292=\"\",\"\",(M291*$F$5*'Proyeccion Cuotas'!$K292/365)),\"\")","v":""},{"$f":"+IF('Proyeccion Cuotas'!$D292=\"\",\"\",'Proyeccion Cuotas'!$H292-H291)","v":""},{"$f":"IFERROR('Proyeccion Cuotas'!$I292+'Proyeccion Cuotas'!$J292,\"\")","v":""},{"$f":"+IFERROR((M291-'Proyeccion Cuotas'!$I292),\"\")","v":""}]
[null,null,null,"",{"$f":"IF('Proyeccion Cuotas'!$D293=\"\",\"\",IF(F292=12,E292+1,E292))","v":""},{"$f":"IF('Proyeccion Cuotas'!$D293=\"\",\"\",IF(F292=12,1,F292+1))","v":""},{"$f":"+IF('Proyeccion Cuotas'!$D293=\"\",\"\",VLOOKUP('Proyeccion Cuotas'!$F293,$A$16:$B$27,2,FALSE))","v":""},{"$f":"IF('Proyeccion Cuotas'!$D293=\"\",\"\",CONCATENATE('Proyeccion Cuotas'!$G293,\"/\",'Proyeccion Cuotas'!$F293,\"/\",'Proyeccion Cuotas'!$E293))","v":""},{"$f":"IFERROR(IF('Proyeccion Cuotas'!$D293=\"\",\"\",IF(OR('Proyeccion Cuotas'!$F293=7,'Proyeccion Cuotas'!$F293=12),($B$45+(($F$1-$B$47)/$F$3)),(($F$1-$B$47)/$F$3))),0)","v":""},{"$f":"IFERROR(IF('Proyeccion Cuotas'!$D293=\"\",\"\",(M292*$F$5*'Proyeccion Cuotas'!$K293/365)),\"\")","v":""},{"$f":"+IF('Proyeccion Cuotas'!$D293=\"\",\"\",'Proyeccion Cuotas'!$H293-H292)","v":""},{"$f":"IFERROR('Proyeccion Cuotas'!$I293+'Proyeccion Cuotas'!$J293,\"\")","v":""},{"$f":"+IFERROR((M292-'Proyeccion Cuotas'!$I293),\"\")","v":""}]
[null,null,null,"",{"$f":"IF('Proyeccion Cuotas'!$D294=\"\",\"\",IF(F293=12,E293+1,E293))","v":""},{"$f":"IF('Proyeccion Cuotas'!$D294=\"\",\"\",IF(F293=12,1,F293+1))","v":""},{"$f":"+IF('Proyeccion Cuotas'!$D294=\"\",\"\",VLOOKUP('Proyeccion Cuotas'!$F294,$A$16:$B$27,2,FALSE))","v":""},{"$f":"IF('Proyeccion Cuotas'!$D294=\"\",\"\",CONCATENATE('Proyeccion Cuotas'!$G294,\"/\",'Proyeccion Cuotas'!$F294,\"/\",'Proyeccion Cuotas'!$E294))","v":""},{"$f":"IFERROR(IF('Proyeccion Cuotas'!$D294=\"\",\"\",IF(OR('Proyeccion Cuotas'!$F294=7,'Proyeccion Cuotas'!$F294=12),($B$45+(($F$1-$B$47)/$F$3)),(($F$1-$B$47)/$F$3))),0)","v":""},{"$f":"IFERROR(IF('Proyeccion Cuotas'!$D294=\"\",\"\",(M293*$F$5*'Proyeccion Cuotas'!$K294/365)),\"\")","v":""},{"$f":"+IF('Proyeccion Cuotas'!$D294=\"\",\"\",'Proyeccion Cuotas'!$H294-H293)","v":""},{"$f":"IFERROR('Proyeccion Cuotas'!$I294+'Proyeccion Cuotas'!$J294,\"\")","v":""},{"$f":"+IFERROR((M293-'Proyeccion Cuotas'!$I294),\"\")","v":""}]
[null,null,null,"",{"$f":"IF('Proyeccion Cuotas'!$D295=\"\",\"\",IF(F294=12,E294+1,E294))","v":""},{"$f":"IF('Proyeccion Cuotas'!$D295=\"\",\"\",IF(F294=12,1,F294+1))","v":""},{"$f":"+IF('Proyeccion Cuotas'!$D295=\"\",\"\",VLOOKUP('Proyeccion Cuotas'!$F295,$A$16:$B$27,2,FALSE))","v":""},{"$f":"IF('Proyeccion Cuotas'!$D295=\"\",\"\",CONCATENATE('Proyeccion Cuotas'!$G295,\"/\",'Proyeccion Cuotas'!$F295,\"/\",'Proyeccion Cuotas'!$E295))","v":""},{"$f":"IFERROR(IF('Proyeccion Cuotas'!$D295=\"\",\"\",IF(OR('Proyeccion Cuotas'!$F295=7,'Proyeccion Cuotas'!$F295=12),($B$45+(($F$1-$B$47)/$F$3)),(($F$1-$B$47)/$F$3))),0)","v":""},{"$f":"IFERROR(IF('Proyeccion Cuotas'!$D295=\"\",\"\",(M294*$F$5*'Proyeccion Cuotas'!$K295/365)),\"\")","v":""},{"$f":"+IF('Proyeccion Cuotas'!$D295=\"\",\"\",'Proyeccion Cuotas'!$H295-H294)","v":""},{"$f":"IFERROR('Proyeccion Cuotas'!$I295+'Proyeccion Cuotas'!$J295,\"\")","v":""},{"$f":"+IFERROR((M294-'Proyeccion Cuotas'!$I295),\"\")","v":""}]
[null,null,null,"",{"$f":"IF('Proyeccion Cuotas'!$D296=\"\",\"\",IF(F295=12,E295+1,E295))","v":""},{"$f":"IF('Proyeccion Cuotas'!$D296=\"\",\"\",IF(F295=12,1,F295+1))","v":""},{"$f":"+IF('Proyeccion Cuotas'!$D296=\"\",\"\",VLOOKUP('Proyeccion Cuotas'!$F296,$A$16:$B$27,2,FALSE))","v":""},{"$f":"IF('Proyeccion Cuotas'!$D296=\"\",\"\",CONCATENATE('Proyeccion Cuotas'!$G296,\"/\",'Proyeccion Cuotas'!$F296,\"/\",'Proyeccion Cuotas'!$E296))","v":""},{"$f":"IFERROR(IF('Proyeccion Cuotas'!$D296=\"\",\"\",IF(OR('Proyeccion Cuotas'!$F296=7,'Proyeccion Cuotas'!$F296=12),($B$45+(($F$1-$B$47)/$F$3)),(($F$1-$B$47)/$F$3))),0)","v":""},{"$f":"IFERROR(IF('Proyeccion Cuotas'!$D296=\"\",\"\",(M295*$F$5*'Proyeccion Cuotas'!$K296/365)),\"\")","v":""},{"$f":"+IF('Proyeccion Cuotas'!$D296=\"\",\"\",'Proyeccion Cuotas'!$H296-H295)","v":""},{"$f":"IFERROR('Proyeccion Cuotas'!$I296+'Proyeccion Cuotas'!$J296,\"\")","v":""},{"$f":"+IFERROR((M295-'Proyeccion Cuotas'!$I296),\"\")","v":""}]
[null,null,null,"",{"$f":"IF('Proyeccion Cuotas'!$D297=\"\",\"\",IF(F296=12,E296+1,E296))","v":""},{"$f":"IF('Proyeccion Cuotas'!$D297=\"\",\"\",IF(F296=12,1,F296+1))","v":""},{"$f":"+IF('Proyeccion Cuotas'!$D297=\"\",\"\",VLOOKUP('Proyeccion Cuotas'!$F297,$A$16:$B$27,2,FALSE))","v":""},{"$f":"IF('Proyeccion Cuotas'!$D297=\"\",\"\",CONCATENATE('Proyeccion Cuotas'!$G297,\"/\",'Proyeccion Cuotas'!$F297,\"/\",'Proyeccion Cuotas'!$E297))","v":""},{"$f":"IFERROR(IF('Proyeccion Cuotas'!$D297=\"\",\"\",IF(OR('Proyeccion Cuotas'!$F297=7,'Proyeccion Cuotas'!$F297=12),($B$45+(($F$1-$B$47)/$F$3)),(($F$1-$B$47)/$F$3))),0)","v":""},{"$f":"IFERROR(IF('Proyeccion Cuotas'!$D297=\"\",\"\",(M296*$F$5*'Proyeccion Cuotas'!$K297/365)),\"\")","v":""},{"$f":"+IF('Proyeccion Cuotas'!$D297=\"\",\"\",'Proyeccion Cuotas'!$H297-H296)","v":""},{"$f":"IFERROR('Proyeccion Cuotas'!$I297+'Proyeccion Cuotas'!$J297,\"\")","v":""},{"$f":"+IFERROR((M296-'Proyeccion Cuotas'!$I297),\"\")","v":""}]
[null,null,null,"",{"$f":"IF('Proyeccion Cuotas'!$D298=\"\",\"\",IF(F297=12,E297+1,E297))","v":""},{"$f":"IF('Proyeccion Cuotas'!$D298=\"\",\"\",IF(F297=12,1,F297+1))","v":""},{"$f":"+IF('Proyeccion Cuotas'!$D298=\"\",\"\",VLOOKUP('Proyeccion Cuotas'!$F298,$A$16:$B$27,2,FALSE))","v":""},{"$f":"IF('Proyeccion Cuotas'!$D298=\"\",\"\",CONCATENATE('Proyeccion Cuotas'!$G298,\"/\",'Proyeccion Cuotas'!$F298,\"/\",'Proyeccion Cuotas'!$E298))","v":""},{"$f":"IFERROR(IF('Proyeccion Cuotas'!$D298=\"\",\"\",IF(OR('Proyeccion Cuotas'!$F298=7,'Proyeccion Cuotas'!$F298=12),($B$45+(($F$1-$B$47)/$F$3)),(($F$1-$B$47)/$F$3))),0)","v":""},{"$f":"IFERROR(IF('Proyeccion Cuotas'!$D298=\"\",\"\",(M297*$F$5*'Proyeccion Cuotas'!$K298/365)),\"\")","v":""},{"$f":"+IF('Proyeccion Cuotas'!$D298=\"\",\"\",'Proyeccion Cuotas'!$H298-H297)","v":""},{"$f":"IFERROR('Proyeccion Cuotas'!$I298+'Proyeccion Cuotas'!$J298,\"\")","v":""},{"$f":"+IFERROR((M297-'Proyeccion Cuotas'!$I298),\"\")","v":""}]
[null,null,null,"",{"$f":"IF('Proyeccion Cuotas'!$D299=\"\",\"\",IF(F298=12,E298+1,E298))","v":""},{"$f":"IF('Proyeccion Cuotas'!$D299=\"\",\"\",IF(F298=12,1,F298+1))","v":""},{"$f":"+IF('Proyeccion Cuotas'!$D299=\"\",\"\",VLOOKUP('Proyeccion Cuotas'!$F299,$A$16:$B$27,2,FALSE))","v":""},{"$f":"IF('Proyeccion Cuotas'!$D299=\"\",\"\",CONCATENATE('Proyeccion Cuotas'!$G299,\"/\",'Proyeccion Cuotas'!$F299,\"/\",'Proyeccion Cuotas'!$E299))","v":""},{"$f":"IFERROR(IF('Proyeccion Cuotas'!$D299=\"\",\"\",IF(OR('Proyeccion Cuotas'!$F299=7,'Proyeccion Cuotas'!$F299=12),($B$45+(($F$1-$B$47)/$F$3)),(($F$1-$B$47)/$F$3))),0)","v":""},{"$f":"IFERROR(IF('Proyeccion Cuotas'!$D299=\"\",\"\",(M298*$F$5*'Proyeccion Cuotas'!$K299/365)),\"\")","v":""},{"$f":"+IF('Proyeccion Cuotas'!$D299=\"\",\"\",'Proyeccion Cuotas'!$H299-H298)","v":""},{"$f":"IFERROR('Proyeccion Cuotas'!$I299+'Proyeccion Cuotas'!$J299,\"\")","v":""},{"$f":"+IFERROR((M298-'Proyeccion Cuotas'!$I299),\"\")","v":""}]
[null,null,null,"",{"$f":"IF('Proyeccion Cuotas'!$D300=\"\",\"\",IF(F299=12,E299+1,E299))","v":""},{"$f":"IF('Proyeccion Cuotas'!$D300=\"\",\"\",IF(F299=12,1,F299+1))","v":""},{"$f":"+IF('Proyeccion Cuotas'!$D300=\"\",\"\",VLOOKUP('Proyeccion Cuotas'!$F300,$A$16:$B$27,2,FALSE))","v":""},{"$f":"IF('Proyeccion Cuotas'!$D300=\"\",\"\",CONCATENATE('Proyeccion Cuotas'!$G300,\"/\",'Proyeccion Cuotas'!$F300,\"/\",'Proyeccion Cuotas'!$E300))","v":""},{"$f":"IFERROR(IF('Proyeccion Cuotas'!$D300=\"\",\"\",IF(OR('Proyeccion Cuotas'!$F300=7,'Proyeccion Cuotas'!$F300=12),($B$45+(($F$1-$B$47)/$F$3)),(($F$1-$B$47)/$F$3))),0)","v":""},{"$f":"IFERROR(IF('Proyeccion Cuotas'!$D300=\"\",\"\",(M299*$F$5*'Proyeccion Cuotas'!$K300/365)),\"\")","v":""},{"$f":"+IF('Proyeccion Cuotas'!$D300=\"\",\"\",'Proyeccion Cuotas'!$H300-H299)","v":""},{"$f":"IFERROR('Proyeccion Cuotas'!$I300+'Proyeccion Cuotas'!$J300,\"\")","v":""},{"$f":"+IFERROR((M299-'Proyeccion Cuotas'!$I300),\"\")","v":""}]
[null,null,null,"",{"$f":"IF('Proyeccion Cuotas'!$D301=\"\",\"\",IF(F300=12,E300+1,E300))","v":""},{"$f":"IF('Proyeccion Cuotas'!$D301=\"\",\"\",IF(F300=12,1,F300+1))","v":""},{"$f":"+IF('Proyeccion Cuotas'!$D301=\"\",\"\",VLOOKUP('Proyeccion Cuotas'!$F301,$A$16:$B$27,2,FALSE))","v":""},{"$f":"IF('Proyeccion Cuotas'!$D301=\"\",\"\",CONCATENATE('Proyeccion Cuotas'!$G301,\"/\",'Proyeccion Cuotas'!$F301,\"/\",'Proyeccion Cuotas'!$E301))","v":""},{"$f":"IFERROR(IF('Proyeccion Cuotas'!$D301=\"\",\"\",IF(OR('Proyeccion Cuotas'!$F301=7,'Proyeccion Cuotas'!$F301=12),($B$45+(($F$1-$B$47)/$F$3)),(($F$1-$B$47)/$F$3))),0)","v":""},{"$f":"IFERROR(IF('Proyeccion Cuotas'!$D301=\"\",\"\",(M300*$F$5*'Proyeccion Cuotas'!$K301/365)),\"\")","v":""},{"$f":"+IF('Proyeccion Cuotas'!$D301=\"\",\"\",'Proyeccion Cuotas'!$H301-H300)","v":""},{"$f":"IFERROR('Proyeccion Cuotas'!$I301+'Proyeccion Cuotas'!$J301,\"\")","v":""},{"$f":"+IFERROR((M300-'Proyeccion Cuotas'!$I301),\"\")","v":""}]
[null,null,null,"",{"$f":"IF('Proyeccion Cuotas'!$D302=\"\",\"\",IF(F301=12,E301+1,E301))","v":""},{"$f":"IF('Proyeccion Cuotas'!$D302=\"\",\"\",IF(F301=12,1,F301+1))","v":""},{"$f":"+IF('Proyeccion Cuotas'!$D302=\"\",\"\",VLOOKUP('Proyeccion Cuotas'!$F302,$A$16:$B$27,2,FALSE))","v":""},{"$f":"IF('Proyeccion Cuotas'!$D302=\"\",\"\",CONCATENATE('Proyeccion Cuotas'!$G302,\"/\",'Proyeccion Cuotas'!$F302,\"/\",'Proyeccion Cuotas'!$E302))","v":""},{"$f":"IFERROR(IF('Proyeccion Cuotas'!$D302=\"\",\"\",IF(OR('Proyeccion Cuotas'!$F302=7,'Proyeccion Cuotas'!$F302=12),($B$45+(($F$1-$B$47)/$F$3)),(($F$1-$B$47)/$F$3))),0)","v":""},{"$f":"IFERROR(IF('Proyeccion Cuotas'!$D302=\"\",\"\",(M301*$F$5*'Proyeccion Cuotas'!$K302/365)),\"\")","v":""},{"$f":"+IF('Proyeccion Cuotas'!$D302=\"\",\"\",'Proyeccion Cuotas'!$H302-H301)","v":""},{"$f":"IFERROR('Proyeccion Cuotas'!$I302+'Proyeccion Cuotas'!$J302,\"\")","v":""},{"$f":"+IFERROR((M301-'Proyeccion Cuotas'!$I302),\"\")","v":""}]
[null,null,null,"",{"$f":"IF('Proyeccion Cuotas'!$D303=\"\",\"\",IF(F302=12,E302+1,E302))","v":""},{"$f":"IF('Proyeccion Cuotas'!$D303=\"\",\"\",IF(F302=12,1,F302+1))","v":""},{"$f":"+IF('Proyeccion Cuotas'!$D303=\"\",\"\",VLOOKUP('Proyeccion Cuotas'!$F303,$A$16:$B$27,2,FALSE))","v":""},{"$f":"IF('Proyeccion Cuotas'!$D303=\"\",\"\",CONCATENATE('Proyeccion Cuotas'!$G303,\"/\",'Proyeccion Cuotas'!$F303,\"/\",'Proyeccion Cuotas'!$E303))","v":""},{"$f":"IFERROR(IF('Proyeccion Cuotas'!$D303=\"\",\"\",IF(OR('Proyeccion Cuotas'!$F303=7,'Proyeccion Cuotas'!$F303=12),($B$45+(($F$1-$B$47)/$F$3)),(($F$1-$B$47)/$F$3))),0)","v":""},{"$f":"IFERROR(IF('Proyeccion Cuotas'!$D303=\"\",\"\",(M302*$F$5*'Proyeccion Cuotas'!$K303/365)),\"\")","v":""},{"$f":"+IF('Proyeccion Cuotas'!$D303=\"\",\"\",'Proyeccion Cuotas'!$H303-H302)","v":""},{"$f":"IFERROR('Proyeccion Cuotas'!$I303+'Proyeccion Cuotas'!$J303,\"\")","v":""},{"$f":"+IFERROR((M302-'Proyeccion Cuotas'!$I303),\"\")","v":""}]
[null,null,null,"",{"$f":"IF('Proyeccion Cuotas'!$D304=\"\",\"\",IF(F303=12,E303+1,E303))","v":""},{"$f":"IF('Proyeccion Cuotas'!$D304=\"\",\"\",IF(F303=12,1,F303+1))","v":""},{"$f":"+IF('Proyeccion Cuotas'!$D304=\"\",\"\",VLOOKUP('Proyeccion Cuotas'!$F304,$A$16:$B$27,2,FALSE))","v":""},{"$f":"IF('Proyeccion Cuotas'!$D304=\"\",\"\",CONCATENATE('Proyeccion Cuotas'!$G304,\"/\",'Proyeccion Cuotas'!$F304,\"/\",'Proyeccion Cuotas'!$E304))","v":""},{"$f":"IFERROR(IF('Proyeccion Cuotas'!$D304=\"\",\"\",IF(OR('Proyeccion Cuotas'!$F304=7,'Proyeccion Cuotas'!$F304=12),($B$45+(($F$1-$B$47)/$F$3)),(($F$1-$B$47)/$F$3))),0)","v":""},{"$f":"IFERROR(IF('Proyeccion Cuotas'!$D304=\"\",\"\",(M303*$F$5*'Proyeccion Cuotas'!$K304/365)),\"\")","v":""},{"$f":"+IF('Proyeccion Cuotas'!$D304=\"\",\"\",'Proyeccion Cuotas'!$H304-H303)","v":""},{"$f":"IFERROR('Proyeccion Cuotas'!$I304+'Proyeccion Cuotas'!$J304,\"\")","v":""},{"$f":"+IFERROR((M303-'Proyeccion Cuotas'!$I304),\"\")","v":""}]
[null,null,null,"",{"$f":"IF('Proyeccion Cuotas'!$D305=\"\",\"\",IF(F304=12,E304+1,E304))","v":""},{"$f":"IF('Proyeccion Cuotas'!$D305=\"\",\"\",IF(F304=12,1,F304+1))","v":""},{"$f":"+IF('Proyeccion Cuotas'!$D305=\"\",\"\",VLOOKUP('Proyeccion Cuotas'!$F305,$A$16:$B$27,2,FALSE))","v":""},{"$f":"IF('Proyeccion Cuotas'!$D305=\"\",\"\",CONCATENATE('Proyeccion Cuotas'!$G305,\"/\",'Proyeccion Cuotas'!$F305,\"/\",'Proyeccion Cuotas'!$E305))","v":""},{"$f":"IFERROR(IF('Proyeccion Cuotas'!$D305=\"\",\"\",IF(OR('Proyeccion Cuotas'!$F305=7,'Proyeccion Cuotas'!$F305=12),($B$45+(($F$1-$B$47)/$F$3)),(($F$1-$B$47)/$F$3))),0)","v":""},{"$f":"IFERROR(IF('Proyeccion Cuotas'!$D305=\"\",\"\",(M304*$F$5*'Proyeccion Cuotas'!$K305/365)),\"\")","v":""},{"$f":"+IF('Proyeccion Cuotas'!$D305=\"\",\"\",'Proyeccion Cuotas'!$H305-H304)","v":""},{"$f":"IFERROR('Proyeccion Cuotas'!$I305+'Proyeccion Cuotas'!$J305,\"\")","v":""},{"$f":"+IFERROR((M304-'Proyeccion Cuotas'!$I305),\"\")","v":""}]
[null,null,null,"",{"$f":"IF('Proyeccion Cuotas'!$D306=\"\",\"\",IF(F305=12,E305+1,E305))","v":""},{"$f":"IF('Proyeccion Cuotas'!$D306=\"\",\"\",IF(F305=12,1,F305+1))","v":""},{"$f":"+IF('Proyeccion Cuotas'!$D306=\"\",\"\",VLOOKUP('Proyeccion Cuotas'!$F306,$A$16:$B$27,2,FALSE))","v":""},{"$f":"IF('Proyeccion Cuotas'!$D306=\"\",\"\",CONCATENATE('Proyeccion Cuotas'!$G306,\"/\",'Proyeccion Cuotas'!$F306,\"/\",'Proyeccion Cuotas'!$E306))","v":""},{"$f":"IFERROR(IF('Proyeccion Cuotas'!$D306=\"\",\"\",IF(OR('Proyeccion Cuotas'!$F306=7,'Proyeccion Cuotas'!$F306=12),($B$45+(($F$1-$B$47)/$F$3)),(($F$1-$B$47)/$F$3))),0)","v":""},{"$f":"IFERROR(IF('Proyeccion Cuotas'!$D306=\"\",\"\",(M305*$F$5*'Proyeccion Cuotas'!$K306/365)),\"\")","v":""},{"$f":"+IF('Proyeccion Cuotas'!$D306=\"\",\"\",'Proyeccion Cuotas'!$H306-H305)","v":""},{"$f":"IFERROR('Proyeccion Cuotas'!$I306+'Proyeccion Cuotas'!$J306,\"\")","v":""},{"$f":"+IFERROR((M305-'Proyeccion Cuotas'!$I306),\"\")","v":""}]
[null,null,null,"",{"$f":"IF('Proyeccion Cuotas'!$D307=\"\",\"\",IF(F306=12,E306+1,E306))","v":""},{"$f":"IF('Proyeccion Cuotas'!$D307=\"\",\"\",IF(F306=12,1,F306+1))","v":""},{"$f":"+IF('Proyeccion Cuotas'!$D307=\"\",\"\",VLOOKUP('Proyeccion Cuotas'!$F307,$A$16:$B$27,2,FALSE))","v":""},{"$f":"IF('Proyeccion Cuotas'!$D307=\"\",\"\",CONCATENATE('Proyeccion Cuotas'!$G307,\"/\",'Proyeccion Cuotas'!$F307,\"/\",'Proyeccion Cuotas'!$E307))","v":""},{"$f":"IFERROR(IF('Proyeccion Cuotas'!$D307=\"\",\"\",IF(OR('Proyeccion Cuotas'!$F307=7,'Proyeccion Cuotas'!$F307=12),($B$45+(($F$1-$B$47)/$F$3)),(($F$1-$B$47)/$F$3))),0)","v":""},{"$f":"IFERROR(IF('Proyeccion Cuotas'!$D307=\"\",\"\",(M306*$F$5*'Proyeccion Cuotas'!$K307/365)),\"\")","v":""},{"$f":"+IF('Proyeccion Cuotas'!$D307=\"\",\"\",'Proyeccion Cuotas'!$H307-H306)","v":""},{"$f":"IFERROR('Proyeccion Cuotas'!$I307+'Proyeccion Cuotas'!$J307,\"\")","v":""},{"$f":"+IFERROR((M306-'Proyeccion Cuotas'!$I307),\"\")","v":""}]
[null,null,null,"",{"$f":"IF('Proyeccion Cuotas'!$D308=\"\",\"\",IF(F307=12,E307+1,E307))","v":""},{"$f":"IF('Proyeccion Cuotas'!$D308=\"\",\"\",IF(F307=12,1,F307+1))","v":""},{"$f":"+IF('Proyeccion Cuotas'!$D308=\"\",\"\",VLOOKUP('Proyeccion Cuotas'!$F308,$A$16:$B$27,2,FALSE))","v":""},{"$f":"IF('Proyeccion Cuotas'!$D308=\"\",\"\",CONCATENATE('Proyeccion Cuotas'!$G308,\"/\",'Proyeccion Cuotas'!$F308,\"/\",'Proyeccion Cuotas'!$E308))","v":""},{"$f":"IFERROR(IF('Proyeccion Cuotas'!$D308=\"\",\"\",IF(OR('Proyeccion Cuotas'!$F308=7,'Proyeccion Cuotas'!$F308=12),($B$45+(($F$1-$B$47)/$F$3)),(($F$1-$B$47)/$F$3))),0)","v":""},{"$f":"IFERROR(IF('Proyeccion Cuotas'!$D308=\"\",\"\",(M307*$F$5*'Proyeccion Cuotas'!$K308/365)),\"\")","v":""},{"$f":"+IF('Proyeccion Cuotas'!$D308=\"\",\"\",'Proyeccion Cuotas'!$H308-H307)","v":""},{"$f":"IFERROR('Proyeccion Cuotas'!$I308+'Proyeccion Cuotas'!$J308,\"\")","v":""},{"$f":"+IFERROR((M307-'Proyeccion Cuotas'!$I308),\"\")","v":""}]
[null,null,null,"",{"$f":"IF('Proyeccion Cuotas'!$D309=\"\",\"\",IF(F308=12,E308+1,E308))","v":""},{"$f":"IF('Proyeccion Cuotas'!$D309=\"\",\"\",IF(F308=12,1,F308+1))","v":""},{"$f":"+IF('Proyeccion Cuotas'!$D309=\"\",\"\",VLOOKUP('Proyeccion Cuotas'!$F309,$A$16:$B$27,2,FALSE))","v":""},{"$f":"IF('Proyeccion Cuotas'!$D309=\"\",\"\",CONCATENATE('Proyeccion Cuotas'!$G309,\"/\",'Proyeccion Cuotas'!$F309,\"/\",'Proyeccion Cuotas'!$E309))","v":""},{"$f":"IFERROR(IF('Proyeccion Cuotas'!$D309=\"\",\"\",IF(OR('Proyeccion Cuotas'!$F309=7,'Proyeccion Cuotas'!$F309=12),($B$45+(($F$1-$B$47)/$F$3)),(($F$1-$B$47)/$F$3))),0)","v":""},{"$f":"IFERROR(IF('Proyeccion Cuotas'!$D309=\"\",\"\",(M308*$F$5*'Proyeccion Cuotas'!$K309/365)),\"\")","v":""},{"$f":"+IF('Proyeccion Cuotas'!$D309=\"\",\"\",'Proyeccion Cuotas'!$H309-H308)","v":""},{"$f":"IFERROR('Proyeccion Cuotas'!$I309+'Proyeccion Cuotas'!$J309,\"\")","v":""},{"$f":"+IFERROR((M308-'Proyeccion Cuotas'!$I309),\"\")","v":""}]
[null,null,null,"",{"$f":"IF('Proyeccion Cuotas'!$D310=\"\",\"\",IF(F309=12,E309+1,E309))","v":""},{"$f":"IF('Proyeccion Cuotas'!$D310=\"\",\"\",IF(F309=12,1,F309+1))","v":""},{"$f":"+IF('Proyeccion Cuotas'!$D310=\"\",\"\",VLOOKUP('Proyeccion Cuotas'!$F310,$A$16:$B$27,2,FALSE))","v":""},{"$f":"IF('Proyeccion Cuotas'!$D310=\"\",\"\",CONCATENATE('Proyeccion Cuotas'!$G310,\"/\",'Proyeccion Cuotas'!$F310,\"/\",'Proyeccion Cuotas'!$E310))","v":""},{"$f":"IFERROR(IF('Proyeccion Cuotas'!$D310=\"\",\"\",IF(OR('Proyeccion Cuotas'!$F310=7,'Proyeccion Cuotas'!$F310=12),($B$45+(($F$1-$B$47)/$F$3)),(($F$1-$B$47)/$F$3))),0)","v":""},{"$f":"IFERROR(IF('Proyeccion Cuotas'!$D310=\"\",\"\",(M309*$F$5*'Proyeccion Cuotas'!$K310/365)),\"\")","v":""},{"$f":"+IF('Proyeccion Cuotas'!$D310=\"\",\"\",'Proyeccion Cuotas'!$H310-H309)","v":""},{"$f":"IFERROR('Proyeccion Cuotas'!$I310+'Proyeccion Cuotas'!$J310,\"\")","v":""},{"$f":"+IFERROR((M309-'Proyeccion Cuotas'!$I310),\"\")","v":""}]
[null,null,null,"",{"$f":"IF('Proyeccion Cuotas'!$D311=\"\",\"\",IF(F310=12,E310+1,E310))","v":""},{"$f":"IF('Proyeccion Cuotas'!$D311=\"\",\"\",IF(F310=12,1,F310+1))","v":""},{"$f":"+IF('Proyeccion Cuotas'!$D311=\"\",\"\",VLOOKUP('Proyeccion Cuotas'!$F311,$A$16:$B$27,2,FALSE))","v":""},{"$f":"IF('Proyeccion Cuotas'!$D311=\"\",\"\",CONCATENATE('Proyeccion Cuotas'!$G311,\"/\",'Proyeccion Cuotas'!$F311,\"/\",'Proyeccion Cuotas'!$E311))","v":""},{"$f":"IFERROR(IF('Proyeccion Cuotas'!$D311=\"\",\"\",IF(OR('Proyeccion Cuotas'!$F311=7,'Proyeccion Cuotas'!$F311=12),($B$45+(($F$1-$B$47)/$F$3)),(($F$1-$B$47)/$F$3))),0)","v":""},{"$f":"IFERROR(IF('Proyeccion Cuotas'!$D311=\"\",\"\",(M310*$F$5*'Proyeccion Cuotas'!$K311/365)),\"\")","v":""},{"$f":"+IF('Proyeccion Cuotas'!$D311=\"\",\"\",'Proyeccion Cuotas'!$H311-H310)","v":""},{"$f":"IFERROR('Proyeccion Cuotas'!$I311+'Proyeccion Cuotas'!$J311,\"\")","v":""},{"$f":"+IFERROR((M310-'Proyeccion Cuotas'!$I311),\"\")","v":""}]
[null,null,null,"",{"$f":"IF('Proyeccion Cuotas'!$D312=\"\",\"\",IF(F311=12,E311+1,E311))","v":""},{"$f":"IF('Proyeccion Cuotas'!$D312=\"\",\"\",IF(F311=12,1,F311+1))","v":""},{"$f":"+IF('Proyeccion Cuotas'!$D312=\"\",\"\",VLOOKUP('Proyeccion Cuotas'!$F312,$A$16:$B$27,2,FALSE))","v":""},{"$f":"IF('Proyeccion Cuotas'!$D312=\"\",\"\",CONCATENATE('Proyeccion Cuotas'!$G312,\"/\",'Proyeccion Cuotas'!$F312,\"/\",'Proyeccion Cuotas'!$E312))","v":""},{"$f":"IFERROR(IF('Proyeccion Cuotas'!$D312=\"\",\"\",IF(OR('Proyeccion Cuotas'!$F312=7,'Proyeccion Cuotas'!$F312=12),($B$45+(($F$1-$B$47)/$F$3)),(($F$1-$B$47)/$F$3))),0)","v":""},{"$f":"IFERROR(IF('Proyeccion Cuotas'!$D312=\"\",\"\",(M311*$F$5*'Proyeccion Cuotas'!$K312/365)),\"\")","v":""},{"$f":"+IF('Proyeccion Cuotas'!$D312=\"\",\"\",'Proyeccion Cuotas'!$H312-H311)","v":""},{"$f":"IFERROR('Proyeccion Cuotas'!$I312+'Proyeccion Cuotas'!$J312,\"\")","v":""},{"$f":"+IFERROR((M311-'Proyeccion Cuotas'!$I312),\"\")","v":""}]
[null,null,null,"",{"$f":"IF('Proyeccion Cuotas'!$D313=\"\",\"\",IF(F312=12,E312+1,E312))","v":""},{"$f":"IF('Proyeccion Cuotas'!$D313=\"\",\"\",IF(F312=12,1,F312+1))","v":""},{"$f":"+IF('Proyeccion Cuotas'!$D313=\"\",\"\",VLOOKUP('Proyeccion Cuotas'!$F313,$A$16:$B$27,2,FALSE))","v":""},{"$f":"IF('Proyeccion Cuotas'!$D313=\"\",\"\",CONCATENATE('Proyeccion Cuotas'!$G313,\"/\",'Proyeccion Cuotas'!$F313,\"/\",'Proyeccion Cuotas'!$E313))","v":""},{"$f":"IFERROR(IF('Proyeccion Cuotas'!$D313=\"\",\"\",IF(OR('Proyeccion Cuotas'!$F313=7,'Proyeccion Cuotas'!$F313=12),($B$45+(($F$1-$B$47)/$F$3)),(($F$1-$B$47)/$F$3))),0)","v":""},{"$f":"IFERROR(IF('Proyeccion Cuotas'!$D313=\"\",\"\",(M312*$F$5*'Proyeccion Cuotas'!$K313/365)),\"\")","v":""},{"$f":"+IF('Proyeccion Cuotas'!$D313=\"\",\"\",'Proyeccion Cuotas'!$H313-H312)","v":""},{"$f":"IFERROR('Proyeccion Cuotas'!$I313+'Proyeccion Cuotas'!$J313,\"\")","v":""},{"$f":"+IFERROR((M312-'Proyeccion Cuotas'!$I313),\"\")","v":""}]
[null,null,null,"",{"$f":"IF('Proyeccion Cuotas'!$D314=\"\",\"\",IF(F313=12,E313+1,E313))","v":""},{"$f":"IF('Proyeccion Cuotas'!$D314=\"\",\"\",IF(F313=12,1,F313+1))","v":""},{"$f":"+IF('Proyeccion Cuotas'!$D314=\"\",\"\",VLOOKUP('Proyeccion Cuotas'!$F314,$A$16:$B$27,2,FALSE))","v":""},{"$f":"IF('Proyeccion Cuotas'!$D314=\"\",\"\",CONCATENATE('Proyeccion Cuotas'!$G314,\"/\",'Proyeccion Cuotas'!$F314,\"/\",'Proyeccion Cuotas'!$E314))","v":""},{"$f":"IFERROR(IF('Proyeccion Cuotas'!$D314=\"\",\"\",IF(OR('Proyeccion Cuotas'!$F314=7,'Proyeccion Cuotas'!$F314=12),($B$45+(($F$1-$B$47)/$F$3)),(($F$1-$B$47)/$F$3))),0)","v":""},{"$f":"IFERROR(IF('Proyeccion Cuotas'!$D314=\"\",\"\",(M313*$F$5*'Proyeccion Cuotas'!$K314/365)),\"\")","v":""},{"$f":"+IF('Proyeccion Cuotas'!$D314=\"\",\"\",'Proyeccion Cuotas'!$H314-H313)","v":""},{"$f":"IFERROR('Proyeccion Cuotas'!$I314+'Proyeccion Cuotas'!$J314,\"\")","v":""},{"$f":"+IFERROR((M313-'Proyeccion Cuotas'!$I314),\"\")","v":""}]
[null,null,null,"",{"$f":"IF('Proyeccion Cuotas'!$D315=\"\",\"\",IF(F314=12,E314+1,E314))","v":""},{"$f":"IF('Proyeccion Cuotas'!$D315=\"\",\"\",IF(F314=12,1,F314+1))","v":""},{"$f":"+IF('Proyeccion Cuotas'!$D315=\"\",\"\",VLOOKUP('Proyeccion Cuotas'!$F315,$A$16:$B$27,2,FALSE))","v":""},{"$f":"IF('Proyeccion Cuotas'!$D315=\"\",\"\",CONCATENATE('Proyeccion Cuotas'!$G315,\"/\",'Proyeccion Cuotas'!$F315,\"/\",'Proyeccion Cuotas'!$E315))","v":""},{"$f":"IFERROR(IF('Proyeccion Cuotas'!$D315=\"\",\"\",IF(OR('Proyeccion Cuotas'!$F315=7,'Proyeccion Cuotas'!$F315=12),($B$45+(($F$1-$B$47)/$F$3)),(($F$1-$B$47)/$F$3))),0)","v":""},{"$f":"IFERROR(IF('Proyeccion Cuotas'!$D315=\"\",\"\",(M314*$F$5*'Proyeccion Cuotas'!$K315/365)),\"\")","v":""},{"$f":"+IF('Proyeccion Cuotas'!$D315=\"\",\"\",'Proyeccion Cuotas'!$H315-H314)","v":""},{"$f":"IFERROR('Proyeccion Cuotas'!$I315+'Proyeccion Cuotas'!$J315,\"\")","v":""},{"$f":"+IFERROR((M314-'Proyeccion Cuotas'!$I315),\"\")","v":""}]
[null,null,null,"",{"$f":"IF('Proyeccion Cuotas'!$D316=\"\",\"\",IF(F315=12,E315+1,E315))","v":""},{"$f":"IF('Proyeccion Cuotas'!$D316=\"\",\"\",IF(F315=12,1,F315+1))","v":""},{"$f":"+IF('Proyeccion Cuotas'!$D316=\"\",\"\",VLOOKUP('Proyeccion Cuotas'!$F316,$A$16:$B$27,2,FALSE))","v":""},{"$f":"IF('Proyeccion Cuotas'!$D316=\"\",\"\",CONCATENATE('Proyeccion Cuotas'!$G316,\"/\",'Proyeccion Cuotas'!$F316,\"/\",'Proyeccion Cuotas'!$E316))","v":""},{"$f":"IFERROR(IF('Proyeccion Cuotas'!$D316=\"\",\"\",IF(OR('Proyeccion Cuotas'!$F316=7,'Proyeccion Cuotas'!$F316=12),($B$45+(($F$1-$B$47)/$F$3)),(($F$1-$B$47)/$F$3))),0)","v":""},{"$f":"IFERROR(IF('Proyeccion Cuotas'!$D316=\"\",\"\",(M315*$F$5*'Proyeccion Cuotas'!$K316/365)),\"\")","v":""},{"$f":"+IF('Proyeccion Cuotas'!$D316=\"\",\"\",'Proyeccion Cuotas'!$H316-H315)","v":""},{"$f":"IFERROR('Proyeccion Cuotas'!$I316+'Proyeccion Cuotas'!$J316,\"\")","v":""},{"$f":"+IFERROR((M315-'Proyeccion Cuotas'!$I316),\"\")","v":""}]